BEGIN:VCALENDAR
PRODID:-//nuDatenautomaten//framework iCal4j //DE
VERSION:2.0
CALSCALE:GREGORIAN
BEGIN:VTIMEZONE
TZID:Europe/Berlin
LAST-MODIFIED:20260306T231828Z
TZURL:https://www.tzurl.org/zoneinfo/Europe/Berlin
X-LIC-LOCATION:Europe/Berlin
X-PROLEPTIC-TZNAME:LMT
BEGIN:STANDARD
TZNAME:CET
TZOFFSETFROM:+005328
TZOFFSETTO:+0100
DTSTART:18930401T000000
END:STANDARD
BEGIN:DAYLIGHT
TZNAME:CEST
TZOFFSETFROM:+0100
TZOFFSETTO:+0200
DTSTART:19160430T230000
RDATE:19400401T020000
RDATE:19430329T020000
RDATE:19460414T020000
RDATE:19470406T030000
RDATE:19480418T020000
RDATE:19490410T020000
RDATE:19800406T020000
END:DAYLIGHT
BEGIN:STANDARD
TZNAME:CET
TZOFFSETFROM:+0200
TZOFFSETTO:+0100
DTSTART:19161001T010000
RDATE:19421102T030000
RDATE:19431004T030000
RDATE:19441002T030000
RDATE:19451118T030000
RDATE:19461007T030000
END:STANDARD
BEGIN:DAYLIGHT
TZNAME:CEST
TZOFFSETFROM:+0100
TZOFFSETTO:+0200
DTSTART:19170416T020000
RRULE:FREQ=YEARLY;UNTIL=19180415T010000Z;BYMONTH=4;BYDAY=3MO
END:DAYLIGHT
BEGIN:STANDARD
TZNAME:CET
TZOFFSETFROM:+0200
TZOFFSETTO:+0100
DTSTART:19170917T030000
RRULE:FREQ=YEARLY;UNTIL=19180916T010000Z;BYMONTH=9;BYDAY=3MO
END:STANDARD
BEGIN:DAYLIGHT
TZNAME:CEST
TZOFFSETFROM:+0100
TZOFFSETTO:+0200
DTSTART:19440403T020000
RRULE:FREQ=YEARLY;UNTIL=19450402T010000Z;BYMONTH=4;BYDAY=1MO
END:DAYLIGHT
BEGIN:DAYLIGHT
TZNAME:CEMT
TZOFFSETFROM:+0200
TZOFFSETTO:+0300
DTSTART:19450524T020000
RDATE:19470511T030000
END:DAYLIGHT
BEGIN:DAYLIGHT
TZNAME:CEST
TZOFFSETFROM:+0300
TZOFFSETTO:+0200
DTSTART:19450924T030000
RDATE:19470629T030000
END:DAYLIGHT
BEGIN:STANDARD
TZNAME:CET
TZOFFSETFROM:+0100
TZOFFSETTO:+0100
DTSTART:19460101T000000
RDATE:19800101T000000
END:STANDARD
BEGIN:STANDARD
TZNAME:CET
TZOFFSETFROM:+0200
TZOFFSETTO:+0100
DTSTART:19471005T030000
RRULE:FREQ=YEARLY;UNTIL=19491002T010000Z;BYMONTH=10;BYDAY=1SU
END:STANDARD
BEGIN:STANDARD
TZNAME:CET
TZOFFSETFROM:+0200
TZOFFSETTO:+0100
DTSTART:19800928T030000
RRULE:FREQ=YEARLY;UNTIL=19950924T010000Z;BYMONTH=9;BYDAY=-1SU
END:STANDARD
BEGIN:DAYLIGHT
TZNAME:CEST
TZOFFSETFROM:+0100
TZOFFSETTO:+0200
DTSTART:19810329T020000
RRULE:FREQ=YEARLY;BYMONTH=3;BYDAY=-1SU
END:DAYLIGHT
BEGIN:STANDARD
TZNAME:CET
TZOFFSETFROM:+0200
TZOFFSETTO:+0100
DTSTART:19961027T030000
RRULE:FREQ=YEARLY;BYMONTH=10;BYDAY=-1SU
END:STANDARD
END:VTIMEZONE
BEGIN:VEVENT
DTSTAMP:20260425T005047Z
DTSTART;TZID=Europe/Berlin:20250322T130000
DTEND;TZID=Europe/Berlin:20250322T160000
SUMMARY:HE 1. Liga Gr. 1 Rapperswil-Jona IV vs Wetzikon II (0)
UID:b5f44163-97df-47bf-9e67-3a9396a349fc
STATUS:CONFIRMED
LAST-MODIFIED:20250326T130158Z
DESCRIPTION:1. Liga Herren Gruppe 1\nBegegnungs-Nr: 0\nHeim: Rapperswil-Jona IV\nGast: Wetzikon II\n\nAdresse: Kreuzstrasse 43\, 8640 Rapperswil\n
LOCATION:Kreuzstrasse 43\, 8640 Rapperswil
CATEGORIES:Saison 2024/25
END:VEVENT
BEGIN:VEVENT
DTSTAMP:20260425T005047Z
DTSTART;TZID=Europe/Berlin:20250329T130000
DTEND;TZID=Europe/Berlin:20250329T160000
SUMMARY:HE 1. Liga Gr. 1 Rapperswil-Jona IV vs Affoltern A/A II (0)
UID:bca47d89-0e00-4967-abfa-e27df2afe609
STATUS:CONFIRMED
LAST-MODIFIED:20250402T095611Z
DESCRIPTION:1. Liga Herren Gruppe 1\nBegegnungs-Nr: 0\nHeim: Rapperswil-Jona IV\nGast: Affoltern A/A II\n\nAdresse: Holzwiesstrasse 39\, 8645 Jona\n
LOCATION:Holzwiesstrasse 39\, 8645 Jona
CATEGORIES:Saison 2024/25
END:VEVENT
BEGIN:VEVENT
DTSTAMP:20260425T005047Z
DTSTART;TZID=Europe/Berlin:20241109T140000
DTEND;TZID=Europe/Berlin:20241109T170000
SUMMARY:HE 1. Liga Gr. 1 Rapperswil-Jona IV vs Chur (0)
UID:f8248dbe-fb33-4b19-ad9b-a5b75ce6a2fe
STATUS:CONFIRMED
LAST-MODIFIED:20241114T064941Z
DESCRIPTION:1. Liga Herren Gruppe 1\nBegegnungs-Nr: 0\nHeim: Rapperswil-Jona IV\nGast: Chur\n\nAdresse: Kreuzstrasse 43\, 8640 Rapperswil\n
LOCATION:Kreuzstrasse 43\, 8640 Rapperswil
CATEGORIES:Saison 2024/25
END:VEVENT
BEGIN:VEVENT
DTSTAMP:20260425T005047Z
DTSTART;TZID=Europe/Berlin:20241214T190000
DTEND;TZID=Europe/Berlin:20241214T220000
SUMMARY:HE 1. Liga Gr. 1 Rapperswil-Jona IV vs Muolen (0)
UID:47b81bbb-802d-4638-8b60-bf6c42b15b9c
STATUS:CONFIRMED
LAST-MODIFIED:20241217T104139Z
DESCRIPTION:1. Liga Herren Gruppe 1\nBegegnungs-Nr: 0\nHeim: Rapperswil-Jona IV\nGast: Muolen\n\nAdresse: Kreuzstrasse 43\, 8640 Rapperswil\n
LOCATION:Kreuzstrasse 43\, 8640 Rapperswil
CATEGORIES:Saison 2024/25
END:VEVENT
BEGIN:VEVENT
DTSTAMP:20260425T005047Z
DTSTART;TZID=Europe/Berlin:20241012T180000
DTEND;TZID=Europe/Berlin:20241012T210000
SUMMARY:HE 1. Liga Gr. 1 Rapperswil-Jona IV vs St. Gallen II (0)
UID:b5d870fe-aabf-4241-9d10-65a26e36954c
STATUS:CONFIRMED
LAST-MODIFIED:20241015T091236Z
DESCRIPTION:1. Liga Herren Gruppe 1\nBegegnungs-Nr: 0\nHeim: Rapperswil-Jona IV\nGast: St. Gallen II\n\nAdresse: Kreuzstrasse 43\, 8640 Rapperswil\n
LOCATION:Kreuzstrasse 43\, 8640 Rapperswil
CATEGORIES:Saison 2024/25
END:VEVENT
BEGIN:VEVENT
DTSTAMP:20260425T005047Z
DTSTART;TZID=Europe/Berlin:20240921T140000
DTEND;TZID=Europe/Berlin:20240921T170000
SUMMARY:HE 1. Liga Gr. 1 Rapperswil-Jona IV vs Wil SG (0)
UID:bd74e300-fcda-446a-ae74-461e447d652a
STATUS:CONFIRMED
LAST-MODIFIED:20240926T112822Z
DESCRIPTION:1. Liga Herren Gruppe 1\nBegegnungs-Nr: 0\nHeim: Rapperswil-Jona IV\nGast: Wil SG\n\nAdresse: Kreuzstrasse 43\, 8640 Rapperswil\n
LOCATION:Kreuzstrasse 43\, 8640 Rapperswil
CATEGORIES:Saison 2024/25
END:VEVENT
BEGIN:VEVENT
DTSTAMP:20260425T005047Z
DTSTART;TZID=Europe/Berlin:20240920T194500
DTEND;TZID=Europe/Berlin:20240920T224500
SUMMARY:HE 1. Liga Gr. 1 Rapperswil-Jona IV vs Bülach (0)
UID:0177d397-a610-4c15-9523-d95750002c9d
STATUS:CONFIRMED
LAST-MODIFIED:20240926T112802Z
DESCRIPTION:1. Liga Herren Gruppe 1\nBegegnungs-Nr: 0\nHeim: Rapperswil-Jona IV\nGast: Bülach\n\nAdresse: Kreuzstrasse 43\, 8640 Rapperswil\n
LOCATION:Kreuzstrasse 43\, 8640 Rapperswil
CATEGORIES:Saison 2024/25
END:VEVENT
BEGIN:VEVENT
DTSTAMP:20260425T005047Z
DTSTART;TZID=Europe/Berlin:20240831T130000
DTEND;TZID=Europe/Berlin:20240831T160000
SUMMARY:HE 1. Liga Gr. 1 Rapperswil-Jona IV vs Zürich-Affoltern II (0)
UID:60a62ce6-5236-47ea-b742-97c829538373
STATUS:CONFIRMED
LAST-MODIFIED:20240903T152615Z
DESCRIPTION:1. Liga Herren Gruppe 1\nBegegnungs-Nr: 0\nHeim: Rapperswil-Jona IV\nGast: Zürich-Affoltern II\n\nAdresse: Kreuzstrasse 43\, 8640 Rapperswil\n
LOCATION:Kreuzstrasse 43\, 8640 Rapperswil
CATEGORIES:Saison 2024/25
END:VEVENT
BEGIN:VEVENT
DTSTAMP:20260425T005047Z
DTSTART;TZID=Europe/Berlin:20250123T201500
DTEND;TZID=Europe/Berlin:20250123T231500
SUMMARY:HE 1. Liga Gr. 1 Zürich-Affoltern II vs Rapperswil-Jona IV (0)
UID:24ed8b9f-4661-436d-8aa8-77608455d248
STATUS:CONFIRMED
LAST-MODIFIED:20250128T104757Z
DESCRIPTION:1. Liga Herren Gruppe 1\nBegegnungs-Nr: 0\nHeim: Zürich-Affoltern II\nGast: Rapperswil-Jona IV\n\nAdresse: Rümlangstr. 89\, 8052 Zürich\n
LOCATION:Rümlangstr. 89\, 8052 Zürich
CATEGORIES:Saison 2024/25
END:VEVENT
BEGIN:VEVENT
DTSTAMP:20260425T005047Z
DTSTART;TZID=Europe/Berlin:20250405T150000
DTEND;TZID=Europe/Berlin:20250405T180000
SUMMARY:HE 1. Liga Gr. 1 Muolen vs Rapperswil-Jona IV (0)
UID:4f7dde53-b35b-4eb2-9863-6ecc099a30e2
STATUS:CONFIRMED
LAST-MODIFIED:20250407T113231Z
DESCRIPTION:1. Liga Herren Gruppe 1\nBegegnungs-Nr: 0\nHeim: Muolen\nGast: Rapperswil-Jona IV\n\nAdresse: Dorfstrasse 31\, 9313 Muolen\n
LOCATION:Dorfstrasse 31\, 9313 Muolen
CATEGORIES:Saison 2024/25
END:VEVENT
BEGIN:VEVENT
DTSTAMP:20260425T005047Z
DTSTART;TZID=Europe/Berlin:20241212T193000
DTEND;TZID=Europe/Berlin:20241212T223000
SUMMARY:HE 1. Liga Gr. 1 Affoltern A/A II vs Rapperswil-Jona IV (0)
UID:cfa11104-c847-4066-9270-9b25e3e139da
STATUS:CONFIRMED
LAST-MODIFIED:20241213T102020Z
DESCRIPTION:1. Liga Herren Gruppe 1\nBegegnungs-Nr: 0\nHeim: Affoltern A/A II\nGast: Rapperswil-Jona IV\n\nAdresse: Butzenstrasse 8\, 8910 Affoltern am Albis\n
LOCATION:Butzenstrasse 8\, 8910 Affoltern am Albis
CATEGORIES:Saison 2024/25
END:VEVENT
BEGIN:VEVENT
DTSTAMP:20260425T005047Z
DTSTART;TZID=Europe/Berlin:20241115T200000
DTEND;TZID=Europe/Berlin:20241115T230000
SUMMARY:HE 1. Liga Gr. 1 Wetzikon II vs Rapperswil-Jona IV (0)
UID:3a69d82c-ca49-481c-9972-553da3f5f8f8
STATUS:CONFIRMED
LAST-MODIFIED:20241122T150538Z
DESCRIPTION:1. Liga Herren Gruppe 1\nBegegnungs-Nr: 0\nHeim: Wetzikon II\nGast: Rapperswil-Jona IV\n\nAdresse: Usterstrasse 37\, 8620 Wetzikon\n
LOCATION:Usterstrasse 37\, 8620 Wetzikon
CATEGORIES:Saison 2024/25
END:VEVENT
BEGIN:VEVENT
DTSTAMP:20260425T005047Z
DTSTART;TZID=Europe/Berlin:20250316T170000
DTEND;TZID=Europe/Berlin:20250316T200000
SUMMARY:HE 1. Liga Gr. 1 Chur vs Rapperswil-Jona IV (0)
UID:62cfc436-3141-4614-9c15-fab5fe1151e7
STATUS:CONFIRMED
LAST-MODIFIED:20250318T123304Z
DESCRIPTION:1. Liga Herren Gruppe 1\nBegegnungs-Nr: 0\nHeim: Chur\nGast: Rapperswil-Jona IV\n\nAdresse: Sandstr. 35\, 7000 Chur\n
LOCATION:Sandstr. 35\, 7000 Chur
CATEGORIES:Saison 2024/25
END:VEVENT
BEGIN:VEVENT
DTSTAMP:20260425T005047Z
DTSTART;TZID=Europe/Berlin:20250222T150000
DTEND;TZID=Europe/Berlin:20250222T180000
SUMMARY:HE 1. Liga Gr. 1 St. Gallen II vs Rapperswil-Jona IV (0)
UID:a2c108ca-6215-4b10-aad0-c3b28f627cb5
STATUS:CONFIRMED
LAST-MODIFIED:20250227T112138Z
DESCRIPTION:1. Liga Herren Gruppe 1\nBegegnungs-Nr: 0\nHeim: St. Gallen II\nGast: Rapperswil-Jona IV\n\nAdresse: Zilstrasse 61\, 9016 St.Gallen\n
LOCATION:Zilstrasse 61\, 9016 St.Gallen
CATEGORIES:Saison 2024/25
END:VEVENT
BEGIN:VEVENT
DTSTAMP:20260425T005047Z
DTSTART;TZID=Europe/Berlin:20250214T200000
DTEND;TZID=Europe/Berlin:20250214T230000
SUMMARY:HE 1. Liga Gr. 1 Wil SG vs Rapperswil-Jona IV (0)
UID:30948545-f03b-4acc-8b27-ae9e9423ae52
STATUS:CONFIRMED
LAST-MODIFIED:20250219T112548Z
DESCRIPTION:1. Liga Herren Gruppe 1\nBegegnungs-Nr: 0\nHeim: Wil SG\nGast: Rapperswil-Jona IV\n\nAdresse: Bleichestrasse 3 (Neben Hallenbad)\, 8570 Weinfelden\n
LOCATION:Bleichestrasse 3 (Neben Hallenbad)\, 8570 Weinfelden
CATEGORIES:Saison 2024/25
END:VEVENT
BEGIN:VEVENT
DTSTAMP:20260425T005047Z
DTSTART;TZID=Europe/Berlin:20250109T201500
DTEND;TZID=Europe/Berlin:20250109T231500
SUMMARY:HE 1. Liga Gr. 1 Bülach vs Rapperswil-Jona IV (0)
UID:f67322a3-de06-4c0e-8c79-251dcb4c37b8
STATUS:CONFIRMED
LAST-MODIFIED:20250110T150446Z
DESCRIPTION:1. Liga Herren Gruppe 1\nBegegnungs-Nr: 0\nHeim: Bülach\nGast: Rapperswil-Jona IV\n\nAdresse: Unterweg 51\, 8180 Bülach\n
LOCATION:Unterweg 51\, 8180 Bülach
CATEGORIES:Saison 2024/25
END:VEVENT
END:VCALENDAR
