BEGIN:VCALENDAR
PRODID:-//nuDatenautomaten//framework iCal4j //DE
VERSION:2.0
CALSCALE:GREGORIAN
BEGIN:VTIMEZONE
TZID:Europe/Berlin
LAST-MODIFIED:20260306T231828Z
TZURL:https://www.tzurl.org/zoneinfo/Europe/Berlin
X-LIC-LOCATION:Europe/Berlin
X-PROLEPTIC-TZNAME:LMT
BEGIN:STANDARD
TZNAME:CET
TZOFFSETFROM:+005328
TZOFFSETTO:+0100
DTSTART:18930401T000000
END:STANDARD
BEGIN:DAYLIGHT
TZNAME:CEST
TZOFFSETFROM:+0100
TZOFFSETTO:+0200
DTSTART:19160430T230000
RDATE:19400401T020000
RDATE:19430329T020000
RDATE:19460414T020000
RDATE:19470406T030000
RDATE:19480418T020000
RDATE:19490410T020000
RDATE:19800406T020000
END:DAYLIGHT
BEGIN:STANDARD
TZNAME:CET
TZOFFSETFROM:+0200
TZOFFSETTO:+0100
DTSTART:19161001T010000
RDATE:19421102T030000
RDATE:19431004T030000
RDATE:19441002T030000
RDATE:19451118T030000
RDATE:19461007T030000
END:STANDARD
BEGIN:DAYLIGHT
TZNAME:CEST
TZOFFSETFROM:+0100
TZOFFSETTO:+0200
DTSTART:19170416T020000
RRULE:FREQ=YEARLY;UNTIL=19180415T010000Z;BYMONTH=4;BYDAY=3MO
END:DAYLIGHT
BEGIN:STANDARD
TZNAME:CET
TZOFFSETFROM:+0200
TZOFFSETTO:+0100
DTSTART:19170917T030000
RRULE:FREQ=YEARLY;UNTIL=19180916T010000Z;BYMONTH=9;BYDAY=3MO
END:STANDARD
BEGIN:DAYLIGHT
TZNAME:CEST
TZOFFSETFROM:+0100
TZOFFSETTO:+0200
DTSTART:19440403T020000
RRULE:FREQ=YEARLY;UNTIL=19450402T010000Z;BYMONTH=4;BYDAY=1MO
END:DAYLIGHT
BEGIN:DAYLIGHT
TZNAME:CEMT
TZOFFSETFROM:+0200
TZOFFSETTO:+0300
DTSTART:19450524T020000
RDATE:19470511T030000
END:DAYLIGHT
BEGIN:DAYLIGHT
TZNAME:CEST
TZOFFSETFROM:+0300
TZOFFSETTO:+0200
DTSTART:19450924T030000
RDATE:19470629T030000
END:DAYLIGHT
BEGIN:STANDARD
TZNAME:CET
TZOFFSETFROM:+0100
TZOFFSETTO:+0100
DTSTART:19460101T000000
RDATE:19800101T000000
END:STANDARD
BEGIN:STANDARD
TZNAME:CET
TZOFFSETFROM:+0200
TZOFFSETTO:+0100
DTSTART:19471005T030000
RRULE:FREQ=YEARLY;UNTIL=19491002T010000Z;BYMONTH=10;BYDAY=1SU
END:STANDARD
BEGIN:STANDARD
TZNAME:CET
TZOFFSETFROM:+0200
TZOFFSETTO:+0100
DTSTART:19800928T030000
RRULE:FREQ=YEARLY;UNTIL=19950924T010000Z;BYMONTH=9;BYDAY=-1SU
END:STANDARD
BEGIN:DAYLIGHT
TZNAME:CEST
TZOFFSETFROM:+0100
TZOFFSETTO:+0200
DTSTART:19810329T020000
RRULE:FREQ=YEARLY;BYMONTH=3;BYDAY=-1SU
END:DAYLIGHT
BEGIN:STANDARD
TZNAME:CET
TZOFFSETFROM:+0200
TZOFFSETTO:+0100
DTSTART:19961027T030000
RRULE:FREQ=YEARLY;BYMONTH=10;BYDAY=-1SU
END:STANDARD
END:VTIMEZONE
BEGIN:VEVENT
DTSTAMP:20260425T004218Z
DTSTART;TZID=Europe/Berlin:20250326T201500
DTEND;TZID=Europe/Berlin:20250326T231500
SUMMARY:HE 3. Liga Gr. 1 Flums II vs Chur III (0)
UID:2b2e3228-f8cf-4496-a272-ed4b2c22cb84
STATUS:CONFIRMED
LAST-MODIFIED:20250327T080351Z
DESCRIPTION:3. Liga Herren Gruppe 1\nBegegnungs-Nr: 0\nHeim: Flums II\nGast: Chur III\n\nAdresse: Bahnhofstrasse 23\, 8890 Flums\n
LOCATION:Bahnhofstrasse 23\, 8890 Flums
CATEGORIES:Saison 2024/25
END:VEVENT
BEGIN:VEVENT
DTSTAMP:20260425T004218Z
DTSTART;TZID=Europe/Berlin:20250305T201500
DTEND;TZID=Europe/Berlin:20250305T231500
SUMMARY:HE 3. Liga Gr. 1 Flums II vs St. Gallen V (0)
UID:b437a0a2-c003-4f68-aa44-618fed44783a
STATUS:CONFIRMED
LAST-MODIFIED:20250311T144118Z
DESCRIPTION:3. Liga Herren Gruppe 1\nBegegnungs-Nr: 0\nHeim: Flums II\nGast: St. Gallen V\n\nAdresse: Bahnhofstrasse 23\, 8890 Flums\n
LOCATION:Bahnhofstrasse 23\, 8890 Flums
CATEGORIES:Saison 2024/25
END:VEVENT
BEGIN:VEVENT
DTSTAMP:20260425T004218Z
DTSTART;TZID=Europe/Berlin:20250212T201500
DTEND;TZID=Europe/Berlin:20250212T231500
SUMMARY:HE 3. Liga Gr. 1 Flums II vs Wolfhalden (0)
UID:4efbc6d6-e017-4b23-8a27-7346f9b88092
STATUS:CONFIRMED
LAST-MODIFIED:20250213T131546Z
DESCRIPTION:3. Liga Herren Gruppe 1\nBegegnungs-Nr: 0\nHeim: Flums II\nGast: Wolfhalden\n\nAdresse: Bahnhofstrasse 23\, 8890 Flums\n
LOCATION:Bahnhofstrasse 23\, 8890 Flums
CATEGORIES:Saison 2024/25
END:VEVENT
BEGIN:VEVENT
DTSTAMP:20260425T004218Z
DTSTART;TZID=Europe/Berlin:20250122T201500
DTEND;TZID=Europe/Berlin:20250122T231500
SUMMARY:HE 3. Liga Gr. 1 Flums II vs Ruggell (0)
UID:3556a26f-2cdf-4fa0-8aa3-9da3f0d4b079
STATUS:CONFIRMED
LAST-MODIFIED:20250123T143019Z
DESCRIPTION:3. Liga Herren Gruppe 1\nBegegnungs-Nr: 0\nHeim: Flums II\nGast: Ruggell\n\nAdresse: Bahnhofstrasse 23\, 8890 Flums\n
LOCATION:Bahnhofstrasse 23\, 8890 Flums
CATEGORIES:Saison 2024/25
END:VEVENT
BEGIN:VEVENT
DTSTAMP:20260425T004218Z
DTSTART;TZID=Europe/Berlin:20240918T201500
DTEND;TZID=Europe/Berlin:20240918T231500
SUMMARY:HE 3. Liga Gr. 1 Flums II vs Oberriet (0)
UID:b9f83307-b7f2-4474-87af-b581d835be77
STATUS:CONFIRMED
LAST-MODIFIED:20240919T150746Z
DESCRIPTION:3. Liga Herren Gruppe 1\nBegegnungs-Nr: 0\nHeim: Flums II\nGast: Oberriet\n\nAdresse: Bahnhofstrasse 23\, 8890 Flums\n
LOCATION:Bahnhofstrasse 23\, 8890 Flums
CATEGORIES:Saison 2024/25
END:VEVENT
BEGIN:VEVENT
DTSTAMP:20260425T004218Z
DTSTART;TZID=Europe/Berlin:20240828T201500
DTEND;TZID=Europe/Berlin:20240828T231500
SUMMARY:HE 3. Liga Gr. 1 Flums II vs Schaan-Eschen/Mauren (0)
UID:b46962c8-07c1-4541-b477-34d9c4a21bf8
STATUS:CONFIRMED
LAST-MODIFIED:20240904T092007Z
DESCRIPTION:3. Liga Herren Gruppe 1\nBegegnungs-Nr: 0\nHeim: Flums II\nGast: Schaan-Eschen/Mauren\n\nAdresse: Bahnhofstrasse 23\, 8890 Flums\n
LOCATION:Bahnhofstrasse 23\, 8890 Flums
CATEGORIES:Saison 2024/25
END:VEVENT
BEGIN:VEVENT
DTSTAMP:20260425T004218Z
DTSTART;TZID=Europe/Berlin:20241120T201500
DTEND;TZID=Europe/Berlin:20241120T231500
SUMMARY:HE 3. Liga Gr. 1 Flums II vs Horn (0)
UID:7ebc86a6-0fd6-4d35-9e2f-63676edb8cd3
STATUS:CONFIRMED
LAST-MODIFIED:20241122T150631Z
DESCRIPTION:3. Liga Herren Gruppe 1\nBegegnungs-Nr: 0\nHeim: Flums II\nGast: Horn\n\nAdresse: Bahnhofstrasse 23\, 8890 Flums\n
LOCATION:Bahnhofstrasse 23\, 8890 Flums
CATEGORIES:Saison 2024/25
END:VEVENT
BEGIN:VEVENT
DTSTAMP:20260425T004218Z
DTSTART;TZID=Europe/Berlin:20250311T200000
DTEND;TZID=Europe/Berlin:20250311T230000
SUMMARY:HE 3. Liga Gr. 1 Horn vs Flums II (0)
UID:7d9abe4f-e8d6-48c3-a461-320b52045174
STATUS:CONFIRMED
LAST-MODIFIED:20250313T100757Z
DESCRIPTION:3. Liga Herren Gruppe 1\nBegegnungs-Nr: 0\nHeim: Horn\nGast: Flums II\n\nAdresse: Feldstrasse 16\, 9326 Horn\n
LOCATION:Feldstrasse 16\, 9326 Horn
CATEGORIES:Saison 2024/25
END:VEVENT
BEGIN:VEVENT
DTSTAMP:20260425T004218Z
DTSTART;TZID=Europe/Berlin:20250205T201500
DTEND;TZID=Europe/Berlin:20250205T231500
SUMMARY:HE 3. Liga Gr. 1 Oberriet vs Flums II (0)
UID:023d7035-108f-4e2d-9909-008600f64724
STATUS:CONFIRMED
LAST-MODIFIED:20250206T140548Z
DESCRIPTION:3. Liga Herren Gruppe 1\nBegegnungs-Nr: 0\nHeim: Oberriet\nGast: Flums II\n\nAdresse: Neugutstrasse 2\, 9463 Oberriet SG\n
LOCATION:Neugutstrasse 2\, 9463 Oberriet SG
CATEGORIES:Saison 2024/25
END:VEVENT
BEGIN:VEVENT
DTSTAMP:20260425T004218Z
DTSTART;TZID=Europe/Berlin:20250107T194500
DTEND;TZID=Europe/Berlin:20250107T224500
SUMMARY:HE 3. Liga Gr. 1 Schaan-Eschen/Mauren vs Flums II (0)
UID:42b002f8-091c-4bda-b676-344fcb02d6bc
STATUS:CONFIRMED
LAST-MODIFIED:20250110T150616Z
DESCRIPTION:3. Liga Herren Gruppe 1\nBegegnungs-Nr: 0\nHeim: Schaan-Eschen/Mauren\nGast: Flums II\n\nAdresse: Simsgasse 10\, 9492 Eschen\n
LOCATION:Simsgasse 10\, 9492 Eschen
CATEGORIES:Saison 2024/25
END:VEVENT
BEGIN:VEVENT
DTSTAMP:20260425T004218Z
DTSTART;TZID=Europe/Berlin:20240905T200000
DTEND;TZID=Europe/Berlin:20240905T230000
SUMMARY:HE 3. Liga Gr. 1 Ruggell vs Flums II (0)
UID:6d7a81eb-b7fe-4bbe-84e4-02e84275c5b8
STATUS:CONFIRMED
LAST-MODIFIED:20240906T095547Z
DESCRIPTION:3. Liga Herren Gruppe 1\nBegegnungs-Nr: 0\nHeim: Ruggell\nGast: Flums II\n\nAdresse: Nellengasse 40\, 9491 Ruggell\n
LOCATION:Nellengasse 40\, 9491 Ruggell
CATEGORIES:Saison 2024/25
END:VEVENT
BEGIN:VEVENT
DTSTAMP:20260425T004218Z
DTSTART;TZID=Europe/Berlin:20241205T200000
DTEND;TZID=Europe/Berlin:20241205T230000
SUMMARY:HE 3. Liga Gr. 1 Chur III vs Flums II (0)
UID:83869128-dc3d-4afe-893f-5aa3be2b89ea
STATUS:CONFIRMED
LAST-MODIFIED:20241211T090117Z
DESCRIPTION:3. Liga Herren Gruppe 1\nBegegnungs-Nr: 0\nHeim: Chur III\nGast: Flums II\n\nAdresse: Sandstr. 35\, 7000 Chur\n
LOCATION:Sandstr. 35\, 7000 Chur
CATEGORIES:Saison 2024/25
END:VEVENT
BEGIN:VEVENT
DTSTAMP:20260425T004218Z
DTSTART;TZID=Europe/Berlin:20241122T200000
DTEND;TZID=Europe/Berlin:20241122T230000
SUMMARY:HE 3. Liga Gr. 1 St. Gallen V vs Flums II (0)
UID:3979790c-02fb-4888-a588-27d0a233b000
STATUS:CONFIRMED
LAST-MODIFIED:20241126T082339Z
DESCRIPTION:3. Liga Herren Gruppe 1\nBegegnungs-Nr: 0\nHeim: St. Gallen V\nGast: Flums II\n\nAdresse: Zilstrasse 61\, 9016 St.Gallen\n
LOCATION:Zilstrasse 61\, 9016 St.Gallen
CATEGORIES:Saison 2024/25
END:VEVENT
BEGIN:VEVENT
DTSTAMP:20260425T004218Z
DTSTART;TZID=Europe/Berlin:20240923T200000
DTEND;TZID=Europe/Berlin:20240923T230000
SUMMARY:HE 3. Liga Gr. 1 Wolfhalden vs Flums II (0)
UID:74c381d9-2237-4e27-9e27-1add47d4ac0d
STATUS:CONFIRMED
LAST-MODIFIED:20240926T113438Z
DESCRIPTION:3. Liga Herren Gruppe 1\nBegegnungs-Nr: 0\nHeim: Wolfhalden\nGast: Flums II\n\nAdresse: -\, 9427 Wolfhalden\n
LOCATION:-\, 9427 Wolfhalden
CATEGORIES:Saison 2024/25
END:VEVENT
END:VCALENDAR
