BEGIN:VCALENDAR
PRODID:-//nuDatenautomaten//framework iCal4j //DE
VERSION:2.0
CALSCALE:GREGORIAN
BEGIN:VTIMEZONE
TZID:Europe/Berlin
LAST-MODIFIED:20260306T231828Z
TZURL:https://www.tzurl.org/zoneinfo/Europe/Berlin
X-LIC-LOCATION:Europe/Berlin
X-PROLEPTIC-TZNAME:LMT
BEGIN:STANDARD
TZNAME:CET
TZOFFSETFROM:+005328
TZOFFSETTO:+0100
DTSTART:18930401T000000
END:STANDARD
BEGIN:DAYLIGHT
TZNAME:CEST
TZOFFSETFROM:+0100
TZOFFSETTO:+0200
DTSTART:19160430T230000
RDATE:19400401T020000
RDATE:19430329T020000
RDATE:19460414T020000
RDATE:19470406T030000
RDATE:19480418T020000
RDATE:19490410T020000
RDATE:19800406T020000
END:DAYLIGHT
BEGIN:STANDARD
TZNAME:CET
TZOFFSETFROM:+0200
TZOFFSETTO:+0100
DTSTART:19161001T010000
RDATE:19421102T030000
RDATE:19431004T030000
RDATE:19441002T030000
RDATE:19451118T030000
RDATE:19461007T030000
END:STANDARD
BEGIN:DAYLIGHT
TZNAME:CEST
TZOFFSETFROM:+0100
TZOFFSETTO:+0200
DTSTART:19170416T020000
RRULE:FREQ=YEARLY;UNTIL=19180415T010000Z;BYMONTH=4;BYDAY=3MO
END:DAYLIGHT
BEGIN:STANDARD
TZNAME:CET
TZOFFSETFROM:+0200
TZOFFSETTO:+0100
DTSTART:19170917T030000
RRULE:FREQ=YEARLY;UNTIL=19180916T010000Z;BYMONTH=9;BYDAY=3MO
END:STANDARD
BEGIN:DAYLIGHT
TZNAME:CEST
TZOFFSETFROM:+0100
TZOFFSETTO:+0200
DTSTART:19440403T020000
RRULE:FREQ=YEARLY;UNTIL=19450402T010000Z;BYMONTH=4;BYDAY=1MO
END:DAYLIGHT
BEGIN:DAYLIGHT
TZNAME:CEMT
TZOFFSETFROM:+0200
TZOFFSETTO:+0300
DTSTART:19450524T020000
RDATE:19470511T030000
END:DAYLIGHT
BEGIN:DAYLIGHT
TZNAME:CEST
TZOFFSETFROM:+0300
TZOFFSETTO:+0200
DTSTART:19450924T030000
RDATE:19470629T030000
END:DAYLIGHT
BEGIN:STANDARD
TZNAME:CET
TZOFFSETFROM:+0100
TZOFFSETTO:+0100
DTSTART:19460101T000000
RDATE:19800101T000000
END:STANDARD
BEGIN:STANDARD
TZNAME:CET
TZOFFSETFROM:+0200
TZOFFSETTO:+0100
DTSTART:19471005T030000
RRULE:FREQ=YEARLY;UNTIL=19491002T010000Z;BYMONTH=10;BYDAY=1SU
END:STANDARD
BEGIN:STANDARD
TZNAME:CET
TZOFFSETFROM:+0200
TZOFFSETTO:+0100
DTSTART:19800928T030000
RRULE:FREQ=YEARLY;UNTIL=19950924T010000Z;BYMONTH=9;BYDAY=-1SU
END:STANDARD
BEGIN:DAYLIGHT
TZNAME:CEST
TZOFFSETFROM:+0100
TZOFFSETTO:+0200
DTSTART:19810329T020000
RRULE:FREQ=YEARLY;BYMONTH=3;BYDAY=-1SU
END:DAYLIGHT
BEGIN:STANDARD
TZNAME:CET
TZOFFSETFROM:+0200
TZOFFSETTO:+0100
DTSTART:19961027T030000
RRULE:FREQ=YEARLY;BYMONTH=10;BYDAY=-1SU
END:STANDARD
END:VTIMEZONE
BEGIN:VEVENT
DTSTAMP:20260425T032001Z
DTSTART;TZID=Europe/Berlin:20241128T200000
DTEND;TZID=Europe/Berlin:20241128T230000
SUMMARY:O40 1. Liga Gr. 1 Wädenswil vs Zürich-Affoltern (0)
UID:9816cdd1-5353-487d-acc1-1b6ac0ec9334
STATUS:CONFIRMED
LAST-MODIFIED:20241211T094858Z
DESCRIPTION: 1. Liga O40 Gruppe 1\nBegegnungs-Nr: 0\nHeim: Wädenswil\nGast: Zürich-Affoltern\n\nAdresse: Speerstrasse 95\, 8820 Wädenswil\n
LOCATION:Speerstrasse 95\, 8820 Wädenswil
CATEGORIES:Saison 2024/25
END:VEVENT
BEGIN:VEVENT
DTSTAMP:20260425T032001Z
DTSTART;TZID=Europe/Berlin:20241024T200000
DTEND;TZID=Europe/Berlin:20241024T230000
SUMMARY:O40 1. Liga Gr. 1 Wädenswil vs Romanshorn (0)
UID:62615f16-f988-44cd-ae66-634a22ef9ee5
STATUS:CONFIRMED
LAST-MODIFIED:20241030T124512Z
DESCRIPTION: 1. Liga O40 Gruppe 1\nBegegnungs-Nr: 0\nHeim: Wädenswil\nGast: Romanshorn\n\nAdresse: Speerstrasse 95\, 8820 Wädenswil\n
LOCATION:Speerstrasse 95\, 8820 Wädenswil
CATEGORIES:Saison 2024/25
END:VEVENT
BEGIN:VEVENT
DTSTAMP:20260425T032001Z
DTSTART;TZID=Europe/Berlin:20240912T200000
DTEND;TZID=Europe/Berlin:20240912T230000
SUMMARY:O40 1. Liga Gr. 1 Wädenswil vs Gaiserwald (0)
UID:8b483afc-a292-42df-97ce-fa2e1ee84dfe
STATUS:CONFIRMED
LAST-MODIFIED:20240913T133027Z
DESCRIPTION: 1. Liga O40 Gruppe 1\nBegegnungs-Nr: 0\nHeim: Wädenswil\nGast: Gaiserwald\n\nAdresse: Speerstrasse 95\, 8820 Wädenswil\n
LOCATION:Speerstrasse 95\, 8820 Wädenswil
CATEGORIES:Saison 2024/25
END:VEVENT
BEGIN:VEVENT
DTSTAMP:20260425T032001Z
DTSTART;TZID=Europe/Berlin:20240822T200000
DTEND;TZID=Europe/Berlin:20240822T230000
SUMMARY:O40 1. Liga Gr. 1 Wädenswil vs Niederhasli (0)
UID:ae7d708d-63fb-4586-b3ed-68a6a50c28d5
STATUS:CONFIRMED
LAST-MODIFIED:20240828T085058Z
DESCRIPTION: 1. Liga O40 Gruppe 1\nBegegnungs-Nr: 0\nHeim: Wädenswil\nGast: Niederhasli\n\nAdresse: Speerstrasse 95\, 8820 Wädenswil\n
LOCATION:Speerstrasse 95\, 8820 Wädenswil
CATEGORIES:Saison 2024/25
END:VEVENT
BEGIN:VEVENT
DTSTAMP:20260425T032001Z
DTSTART;TZID=Europe/Berlin:20250403T200000
DTEND;TZID=Europe/Berlin:20250403T230000
SUMMARY:O40 1. Liga Gr. 1 Wädenswil vs Chur (0)
UID:d3a5158e-f0fc-4e70-9b94-5b4ce06db77a
STATUS:CONFIRMED
LAST-MODIFIED:20250404T083822Z
DESCRIPTION: 1. Liga O40 Gruppe 1\nBegegnungs-Nr: 0\nHeim: Wädenswil\nGast: Chur\n\nAdresse: Speerstrasse 95\, 8820 Wädenswil\n
LOCATION:Speerstrasse 95\, 8820 Wädenswil
CATEGORIES:Saison 2024/25
END:VEVENT
BEGIN:VEVENT
DTSTAMP:20260425T032001Z
DTSTART;TZID=Europe/Berlin:20250305T201500
DTEND;TZID=Europe/Berlin:20250305T231500
SUMMARY:O40 1. Liga Gr. 1 Wädenswil vs Gaiserwald (0)
UID:433b611d-69e1-4a9f-acb3-6657826190fc
STATUS:CONFIRMED
LAST-MODIFIED:20250313T104055Z
DESCRIPTION: 1. Liga O40 Gruppe 1\nBegegnungs-Nr: 0\nHeim: Wädenswil\nGast: Gaiserwald\n\nAdresse: Speerstrasse 95\, 8820 Wädenswil\n
LOCATION:Speerstrasse 95\, 8820 Wädenswil
CATEGORIES:Saison 2024/25
END:VEVENT
BEGIN:VEVENT
DTSTAMP:20260425T032001Z
DTSTART;TZID=Europe/Berlin:20250116T200000
DTEND;TZID=Europe/Berlin:20250116T230000
SUMMARY:O40 1. Liga Gr. 1 Wädenswil vs Wetzikon (0)
UID:93286ac2-adad-4358-8953-3bcae6e7e58b
STATUS:CONFIRMED
LAST-MODIFIED:20250117T101704Z
DESCRIPTION: 1. Liga O40 Gruppe 1\nBegegnungs-Nr: 0\nHeim: Wädenswil\nGast: Wetzikon\n\nAdresse: Speerstrasse 95\, 8820 Wädenswil\n
LOCATION:Speerstrasse 95\, 8820 Wädenswil
CATEGORIES:Saison 2024/25
END:VEVENT
BEGIN:VEVENT
DTSTAMP:20260425T032001Z
DTSTART;TZID=Europe/Berlin:20241118T200000
DTEND;TZID=Europe/Berlin:20241118T230000
SUMMARY:O40 1. Liga Gr. 1 Chur vs Wädenswil (0)
UID:f40c367f-b7c1-4ba9-8d71-c1374a5fa6a0
STATUS:CONFIRMED
LAST-MODIFIED:20241122T151553Z
DESCRIPTION: 1. Liga O40 Gruppe 1\nBegegnungs-Nr: 0\nHeim: Chur\nGast: Wädenswil\n\nAdresse: Sandstr. 35\, 7000 Chur\n
LOCATION:Sandstr. 35\, 7000 Chur
CATEGORIES:Saison 2024/25
END:VEVENT
BEGIN:VEVENT
DTSTAMP:20260425T032001Z
DTSTART;TZID=Europe/Berlin:20241115T194500
DTEND;TZID=Europe/Berlin:20241115T224500
SUMMARY:O40 1. Liga Gr. 1 Wetzikon vs Wädenswil (0)
UID:60c37110-9e63-4805-8a69-362a4c166508
STATUS:CONFIRMED
LAST-MODIFIED:20241122T151540Z
DESCRIPTION: 1. Liga O40 Gruppe 1\nBegegnungs-Nr: 0\nHeim: Wetzikon\nGast: Wädenswil\n\nAdresse: Usterstrasse 37\, 8620 Wetzikon\n
LOCATION:Usterstrasse 37\, 8620 Wetzikon
CATEGORIES:Saison 2024/25
END:VEVENT
BEGIN:VEVENT
DTSTAMP:20260425T032001Z
DTSTART;TZID=Europe/Berlin:20250407T201500
DTEND;TZID=Europe/Berlin:20250407T231500
SUMMARY:O40 1. Liga Gr. 1 Zürich-Affoltern vs Wädenswil (0)
UID:036f74c5-817e-4f0a-90c7-1b5c52205a9e
STATUS:CONFIRMED
LAST-MODIFIED:20250408T154531Z
DESCRIPTION: 1. Liga O40 Gruppe 1\nBegegnungs-Nr: 0\nHeim: Zürich-Affoltern\nGast: Wädenswil\n
LOCATION:
CATEGORIES:Saison 2024/25
END:VEVENT
BEGIN:VEVENT
DTSTAMP:20260425T032001Z
DTSTART;TZID=Europe/Berlin:20250321T201500
DTEND;TZID=Europe/Berlin:20250321T231500
SUMMARY:O40 1. Liga Gr. 1 Romanshorn vs Wädenswil (0)
UID:e904185f-794b-44f8-81de-f8c536cbf375
STATUS:CONFIRMED
LAST-MODIFIED:20250327T134631Z
DESCRIPTION: 1. Liga O40 Gruppe 1\nBegegnungs-Nr: 0\nHeim: Romanshorn\nGast: Wädenswil\n\nAdresse: Florastrasse\, 8590 Romanshorn\n
LOCATION:Florastrasse\, 8590 Romanshorn
CATEGORIES:Saison 2024/25
END:VEVENT
BEGIN:VEVENT
DTSTAMP:20260425T032001Z
DTSTART;TZID=Europe/Berlin:20250227T200000
DTEND;TZID=Europe/Berlin:20250227T230000
SUMMARY:O40 1. Liga Gr. 1 Niederhasli vs Wädenswil (0)
UID:d60eebd4-fec2-4827-8432-6d74e4160df1
STATUS:CONFIRMED
LAST-MODIFIED:20250228T145637Z
DESCRIPTION: 1. Liga O40 Gruppe 1\nBegegnungs-Nr: 0\nHeim: Niederhasli\nGast: Wädenswil\n\nAdresse: Dorfstrasse 22\, 8155 Niederhasli\n
LOCATION:Dorfstrasse 22\, 8155 Niederhasli
CATEGORIES:Saison 2024/25
END:VEVENT
END:VCALENDAR
