BEGIN:VCALENDAR
PRODID:-//nuDatenautomaten//framework iCal4j //DE
VERSION:2.0
CALSCALE:GREGORIAN
BEGIN:VTIMEZONE
TZID:Europe/Berlin
LAST-MODIFIED:20260306T231828Z
TZURL:https://www.tzurl.org/zoneinfo/Europe/Berlin
X-LIC-LOCATION:Europe/Berlin
X-PROLEPTIC-TZNAME:LMT
BEGIN:STANDARD
TZNAME:CET
TZOFFSETFROM:+005328
TZOFFSETTO:+0100
DTSTART:18930401T000000
END:STANDARD
BEGIN:DAYLIGHT
TZNAME:CEST
TZOFFSETFROM:+0100
TZOFFSETTO:+0200
DTSTART:19160430T230000
RDATE:19400401T020000
RDATE:19430329T020000
RDATE:19460414T020000
RDATE:19470406T030000
RDATE:19480418T020000
RDATE:19490410T020000
RDATE:19800406T020000
END:DAYLIGHT
BEGIN:STANDARD
TZNAME:CET
TZOFFSETFROM:+0200
TZOFFSETTO:+0100
DTSTART:19161001T010000
RDATE:19421102T030000
RDATE:19431004T030000
RDATE:19441002T030000
RDATE:19451118T030000
RDATE:19461007T030000
END:STANDARD
BEGIN:DAYLIGHT
TZNAME:CEST
TZOFFSETFROM:+0100
TZOFFSETTO:+0200
DTSTART:19170416T020000
RRULE:FREQ=YEARLY;UNTIL=19180415T010000Z;BYMONTH=4;BYDAY=3MO
END:DAYLIGHT
BEGIN:STANDARD
TZNAME:CET
TZOFFSETFROM:+0200
TZOFFSETTO:+0100
DTSTART:19170917T030000
RRULE:FREQ=YEARLY;UNTIL=19180916T010000Z;BYMONTH=9;BYDAY=3MO
END:STANDARD
BEGIN:DAYLIGHT
TZNAME:CEST
TZOFFSETFROM:+0100
TZOFFSETTO:+0200
DTSTART:19440403T020000
RRULE:FREQ=YEARLY;UNTIL=19450402T010000Z;BYMONTH=4;BYDAY=1MO
END:DAYLIGHT
BEGIN:DAYLIGHT
TZNAME:CEMT
TZOFFSETFROM:+0200
TZOFFSETTO:+0300
DTSTART:19450524T020000
RDATE:19470511T030000
END:DAYLIGHT
BEGIN:DAYLIGHT
TZNAME:CEST
TZOFFSETFROM:+0300
TZOFFSETTO:+0200
DTSTART:19450924T030000
RDATE:19470629T030000
END:DAYLIGHT
BEGIN:STANDARD
TZNAME:CET
TZOFFSETFROM:+0100
TZOFFSETTO:+0100
DTSTART:19460101T000000
RDATE:19800101T000000
END:STANDARD
BEGIN:STANDARD
TZNAME:CET
TZOFFSETFROM:+0200
TZOFFSETTO:+0100
DTSTART:19471005T030000
RRULE:FREQ=YEARLY;UNTIL=19491002T010000Z;BYMONTH=10;BYDAY=1SU
END:STANDARD
BEGIN:STANDARD
TZNAME:CET
TZOFFSETFROM:+0200
TZOFFSETTO:+0100
DTSTART:19800928T030000
RRULE:FREQ=YEARLY;UNTIL=19950924T010000Z;BYMONTH=9;BYDAY=-1SU
END:STANDARD
BEGIN:DAYLIGHT
TZNAME:CEST
TZOFFSETFROM:+0100
TZOFFSETTO:+0200
DTSTART:19810329T020000
RRULE:FREQ=YEARLY;BYMONTH=3;BYDAY=-1SU
END:DAYLIGHT
BEGIN:STANDARD
TZNAME:CET
TZOFFSETFROM:+0200
TZOFFSETTO:+0100
DTSTART:19961027T030000
RRULE:FREQ=YEARLY;BYMONTH=10;BYDAY=-1SU
END:STANDARD
END:VTIMEZONE
BEGIN:VEVENT
DTSTAMP:20260425T004229Z
DTSTART;TZID=Europe/Berlin:20250218T194500
DTEND;TZID=Europe/Berlin:20250218T224500
SUMMARY:HE 3. Liga Gr. 1 Schaan-Eschen/Mauren vs Oberriet (0)
UID:54c3894a-8ed4-424e-9271-b8a559e473be
STATUS:CONFIRMED
LAST-MODIFIED:20250219T112706Z
DESCRIPTION:3. Liga Herren Gruppe 1\nBegegnungs-Nr: 0\nHeim: Schaan-Eschen/Mauren\nGast: Oberriet\n\nAdresse: Simsgasse 10\, 9492 Eschen\n
LOCATION:Simsgasse 10\, 9492 Eschen
CATEGORIES:Saison 2024/25
END:VEVENT
BEGIN:VEVENT
DTSTAMP:20260425T004229Z
DTSTART;TZID=Europe/Berlin:20250204T194500
DTEND;TZID=Europe/Berlin:20250204T224500
SUMMARY:HE 3. Liga Gr. 1 Schaan-Eschen/Mauren vs Horn (0)
UID:aa8f56de-ba0d-4788-aa75-a84533ae6e76
STATUS:CONFIRMED
LAST-MODIFIED:20250206T140534Z
DESCRIPTION:3. Liga Herren Gruppe 1\nBegegnungs-Nr: 0\nHeim: Schaan-Eschen/Mauren\nGast: Horn\n\nAdresse: Simsgasse 10\, 9492 Eschen\n
LOCATION:Simsgasse 10\, 9492 Eschen
CATEGORIES:Saison 2024/25
END:VEVENT
BEGIN:VEVENT
DTSTAMP:20260425T004229Z
DTSTART;TZID=Europe/Berlin:20250107T194500
DTEND;TZID=Europe/Berlin:20250107T224500
SUMMARY:HE 3. Liga Gr. 1 Schaan-Eschen/Mauren vs Flums II (0)
UID:42b002f8-091c-4bda-b676-344fcb02d6bc
STATUS:CONFIRMED
LAST-MODIFIED:20250110T150616Z
DESCRIPTION:3. Liga Herren Gruppe 1\nBegegnungs-Nr: 0\nHeim: Schaan-Eschen/Mauren\nGast: Flums II\n\nAdresse: Simsgasse 10\, 9492 Eschen\n
LOCATION:Simsgasse 10\, 9492 Eschen
CATEGORIES:Saison 2024/25
END:VEVENT
BEGIN:VEVENT
DTSTAMP:20260425T004229Z
DTSTART;TZID=Europe/Berlin:20240903T194500
DTEND;TZID=Europe/Berlin:20240903T224500
SUMMARY:HE 3. Liga Gr. 1 Schaan-Eschen/Mauren vs St. Gallen V (0)
UID:7cd320c4-a8d5-46fd-8534-630a02be8691
STATUS:CONFIRMED
LAST-MODIFIED:20240904T093453Z
DESCRIPTION:3. Liga Herren Gruppe 1\nBegegnungs-Nr: 0\nHeim: Schaan-Eschen/Mauren\nGast: St. Gallen V\n\nAdresse: Simsgasse 10\, 9492 Eschen\n
LOCATION:Simsgasse 10\, 9492 Eschen
CATEGORIES:Saison 2024/25
END:VEVENT
BEGIN:VEVENT
DTSTAMP:20260425T004229Z
DTSTART;TZID=Europe/Berlin:20241203T194500
DTEND;TZID=Europe/Berlin:20241203T224500
SUMMARY:HE 3. Liga Gr. 1 Schaan-Eschen/Mauren vs Wolfhalden (0)
UID:a617eb6f-a319-4068-aa0b-8ecf51465c85
STATUS:CONFIRMED
LAST-MODIFIED:20241205T085518Z
DESCRIPTION:3. Liga Herren Gruppe 1\nBegegnungs-Nr: 0\nHeim: Schaan-Eschen/Mauren\nGast: Wolfhalden\n\nAdresse: Simsgasse 10\, 9492 Eschen\n
LOCATION:Simsgasse 10\, 9492 Eschen
CATEGORIES:Saison 2024/25
END:VEVENT
BEGIN:VEVENT
DTSTAMP:20260425T004229Z
DTSTART;TZID=Europe/Berlin:20241105T194500
DTEND;TZID=Europe/Berlin:20241105T224500
SUMMARY:HE 3. Liga Gr. 1 Schaan-Eschen/Mauren vs Ruggell (0)
UID:0614fc4c-d467-424b-9cbc-21b97c5e6016
STATUS:CONFIRMED
LAST-MODIFIED:20241107T153810Z
DESCRIPTION:3. Liga Herren Gruppe 1\nBegegnungs-Nr: 0\nHeim: Schaan-Eschen/Mauren\nGast: Ruggell\n\nAdresse: Simsgasse 10\, 9492 Eschen\n
LOCATION:Simsgasse 10\, 9492 Eschen
CATEGORIES:Saison 2024/25
END:VEVENT
BEGIN:VEVENT
DTSTAMP:20260425T004229Z
DTSTART;TZID=Europe/Berlin:20240924T194500
DTEND;TZID=Europe/Berlin:20240924T224500
SUMMARY:HE 3. Liga Gr. 1 Schaan-Eschen/Mauren vs Chur III (0)
UID:4786b7a8-1e95-4235-82c3-c898084a8777
STATUS:CONFIRMED
LAST-MODIFIED:20240926T113449Z
DESCRIPTION:3. Liga Herren Gruppe 1\nBegegnungs-Nr: 0\nHeim: Schaan-Eschen/Mauren\nGast: Chur III\n\nAdresse: Simsgasse 10\, 9492 Eschen\n
LOCATION:Simsgasse 10\, 9492 Eschen
CATEGORIES:Saison 2024/25
END:VEVENT
BEGIN:VEVENT
DTSTAMP:20260425T004229Z
DTSTART;TZID=Europe/Berlin:20250331T200000
DTEND;TZID=Europe/Berlin:20250331T230000
SUMMARY:HE 3. Liga Gr. 1 Wolfhalden vs Schaan-Eschen/Mauren (0)
UID:3e668133-7494-41a5-8d96-481844787deb
STATUS:CONFIRMED
LAST-MODIFIED:20250402T101830Z
DESCRIPTION:3. Liga Herren Gruppe 1\nBegegnungs-Nr: 0\nHeim: Wolfhalden\nGast: Schaan-Eschen/Mauren\n\nAdresse: -\, 9427 Wolfhalden\n
LOCATION:-\, 9427 Wolfhalden
CATEGORIES:Saison 2024/25
END:VEVENT
BEGIN:VEVENT
DTSTAMP:20260425T004229Z
DTSTART;TZID=Europe/Berlin:20250313T200000
DTEND;TZID=Europe/Berlin:20250313T230000
SUMMARY:HE 3. Liga Gr. 1 Ruggell vs Schaan-Eschen/Mauren (0)
UID:1b5f5fde-c4f8-4dd7-8012-a06f86cdc9af
STATUS:CONFIRMED
LAST-MODIFIED:20250314T124057Z
DESCRIPTION:3. Liga Herren Gruppe 1\nBegegnungs-Nr: 0\nHeim: Ruggell\nGast: Schaan-Eschen/Mauren\n\nAdresse: Nellengasse 40\, 9491 Ruggell\n
LOCATION:Nellengasse 40\, 9491 Ruggell
CATEGORIES:Saison 2024/25
END:VEVENT
BEGIN:VEVENT
DTSTAMP:20260425T004229Z
DTSTART;TZID=Europe/Berlin:20250213T200000
DTEND;TZID=Europe/Berlin:20250213T230000
SUMMARY:HE 3. Liga Gr. 1 Chur III vs Schaan-Eschen/Mauren (0)
UID:4c8ef352-2cf9-437e-b347-4adbd5b6bed8
STATUS:CONFIRMED
LAST-MODIFIED:20250219T112643Z
DESCRIPTION:3. Liga Herren Gruppe 1\nBegegnungs-Nr: 0\nHeim: Chur III\nGast: Schaan-Eschen/Mauren\n\nAdresse: Sandstr. 35\, 7000 Chur\n
LOCATION:Sandstr. 35\, 7000 Chur
CATEGORIES:Saison 2024/25
END:VEVENT
BEGIN:VEVENT
DTSTAMP:20260425T004229Z
DTSTART;TZID=Europe/Berlin:20250124T200000
DTEND;TZID=Europe/Berlin:20250124T230000
SUMMARY:HE 3. Liga Gr. 1 St. Gallen V vs Schaan-Eschen/Mauren (0)
UID:35c99bf8-f95b-4007-bafe-9e49e0877f49
STATUS:CONFIRMED
LAST-MODIFIED:20250128T104848Z
DESCRIPTION:3. Liga Herren Gruppe 1\nBegegnungs-Nr: 0\nHeim: St. Gallen V\nGast: Schaan-Eschen/Mauren\n\nAdresse: Zilstrasse 61\, 9016 St.Gallen\n
LOCATION:Zilstrasse 61\, 9016 St.Gallen
CATEGORIES:Saison 2024/25
END:VEVENT
BEGIN:VEVENT
DTSTAMP:20260425T004229Z
DTSTART;TZID=Europe/Berlin:20240917T200000
DTEND;TZID=Europe/Berlin:20240917T230000
SUMMARY:HE 3. Liga Gr. 1 Horn vs Schaan-Eschen/Mauren (0)
UID:f79dc988-3941-4f02-8d0b-51fb1da59d45
STATUS:CONFIRMED
LAST-MODIFIED:20240918T101039Z
DESCRIPTION:3. Liga Herren Gruppe 1\nBegegnungs-Nr: 0\nHeim: Horn\nGast: Schaan-Eschen/Mauren\n\nAdresse: Feldstrasse 16\, 9326 Horn\n
LOCATION:Feldstrasse 16\, 9326 Horn
CATEGORIES:Saison 2024/25
END:VEVENT
BEGIN:VEVENT
DTSTAMP:20260425T004229Z
DTSTART;TZID=Europe/Berlin:20240828T201500
DTEND;TZID=Europe/Berlin:20240828T231500
SUMMARY:HE 3. Liga Gr. 1 Flums II vs Schaan-Eschen/Mauren (0)
UID:b46962c8-07c1-4541-b477-34d9c4a21bf8
STATUS:CONFIRMED
LAST-MODIFIED:20240904T092007Z
DESCRIPTION:3. Liga Herren Gruppe 1\nBegegnungs-Nr: 0\nHeim: Flums II\nGast: Schaan-Eschen/Mauren\n\nAdresse: Bahnhofstrasse 23\, 8890 Flums\n
LOCATION:Bahnhofstrasse 23\, 8890 Flums
CATEGORIES:Saison 2024/25
END:VEVENT
BEGIN:VEVENT
DTSTAMP:20260425T004229Z
DTSTART;TZID=Europe/Berlin:20241115T201500
DTEND;TZID=Europe/Berlin:20241115T231500
SUMMARY:HE 3. Liga Gr. 1 Oberriet vs Schaan-Eschen/Mauren (0)
UID:056ae096-1d3e-4828-9d0b-d8e35b6e7e43
STATUS:CONFIRMED
LAST-MODIFIED:20241122T150617Z
DESCRIPTION:3. Liga Herren Gruppe 1\nBegegnungs-Nr: 0\nHeim: Oberriet\nGast: Schaan-Eschen/Mauren\n\nAdresse: Neugutstrasse 2\, 9463 Oberriet SG\n
LOCATION:Neugutstrasse 2\, 9463 Oberriet SG
CATEGORIES:Saison 2024/25
END:VEVENT
END:VCALENDAR
