BEGIN:VCALENDAR
PRODID:-//nuDatenautomaten//framework iCal4j //DE
VERSION:2.0
CALSCALE:GREGORIAN
BEGIN:VTIMEZONE
TZID:Europe/Berlin
LAST-MODIFIED:20260306T231828Z
TZURL:https://www.tzurl.org/zoneinfo/Europe/Berlin
X-LIC-LOCATION:Europe/Berlin
X-PROLEPTIC-TZNAME:LMT
BEGIN:STANDARD
TZNAME:CET
TZOFFSETFROM:+005328
TZOFFSETTO:+0100
DTSTART:18930401T000000
END:STANDARD
BEGIN:DAYLIGHT
TZNAME:CEST
TZOFFSETFROM:+0100
TZOFFSETTO:+0200
DTSTART:19160430T230000
RDATE:19400401T020000
RDATE:19430329T020000
RDATE:19460414T020000
RDATE:19470406T030000
RDATE:19480418T020000
RDATE:19490410T020000
RDATE:19800406T020000
END:DAYLIGHT
BEGIN:STANDARD
TZNAME:CET
TZOFFSETFROM:+0200
TZOFFSETTO:+0100
DTSTART:19161001T010000
RDATE:19421102T030000
RDATE:19431004T030000
RDATE:19441002T030000
RDATE:19451118T030000
RDATE:19461007T030000
END:STANDARD
BEGIN:DAYLIGHT
TZNAME:CEST
TZOFFSETFROM:+0100
TZOFFSETTO:+0200
DTSTART:19170416T020000
RRULE:FREQ=YEARLY;UNTIL=19180415T010000Z;BYMONTH=4;BYDAY=3MO
END:DAYLIGHT
BEGIN:STANDARD
TZNAME:CET
TZOFFSETFROM:+0200
TZOFFSETTO:+0100
DTSTART:19170917T030000
RRULE:FREQ=YEARLY;UNTIL=19180916T010000Z;BYMONTH=9;BYDAY=3MO
END:STANDARD
BEGIN:DAYLIGHT
TZNAME:CEST
TZOFFSETFROM:+0100
TZOFFSETTO:+0200
DTSTART:19440403T020000
RRULE:FREQ=YEARLY;UNTIL=19450402T010000Z;BYMONTH=4;BYDAY=1MO
END:DAYLIGHT
BEGIN:DAYLIGHT
TZNAME:CEMT
TZOFFSETFROM:+0200
TZOFFSETTO:+0300
DTSTART:19450524T020000
RDATE:19470511T030000
END:DAYLIGHT
BEGIN:DAYLIGHT
TZNAME:CEST
TZOFFSETFROM:+0300
TZOFFSETTO:+0200
DTSTART:19450924T030000
RDATE:19470629T030000
END:DAYLIGHT
BEGIN:STANDARD
TZNAME:CET
TZOFFSETFROM:+0100
TZOFFSETTO:+0100
DTSTART:19460101T000000
RDATE:19800101T000000
END:STANDARD
BEGIN:STANDARD
TZNAME:CET
TZOFFSETFROM:+0200
TZOFFSETTO:+0100
DTSTART:19471005T030000
RRULE:FREQ=YEARLY;UNTIL=19491002T010000Z;BYMONTH=10;BYDAY=1SU
END:STANDARD
BEGIN:STANDARD
TZNAME:CET
TZOFFSETFROM:+0200
TZOFFSETTO:+0100
DTSTART:19800928T030000
RRULE:FREQ=YEARLY;UNTIL=19950924T010000Z;BYMONTH=9;BYDAY=-1SU
END:STANDARD
BEGIN:DAYLIGHT
TZNAME:CEST
TZOFFSETFROM:+0100
TZOFFSETTO:+0200
DTSTART:19810329T020000
RRULE:FREQ=YEARLY;BYMONTH=3;BYDAY=-1SU
END:DAYLIGHT
BEGIN:STANDARD
TZNAME:CET
TZOFFSETFROM:+0200
TZOFFSETTO:+0100
DTSTART:19961027T030000
RRULE:FREQ=YEARLY;BYMONTH=10;BYDAY=-1SU
END:STANDARD
END:VTIMEZONE
BEGIN:VEVENT
DTSTAMP:20260425T005111Z
DTSTART;TZID=Europe/Berlin:20240831T150000
DTEND;TZID=Europe/Berlin:20240831T180000
SUMMARY:JUG\, 3.Liga\, Gr.6\, Vorrunde Wil SG vs Ettenhausen (6)
UID:c93c0c78-077c-47a6-a75f-9a58da18fa30
STATUS:CONFIRMED
LAST-MODIFIED:20240903T063958Z
DESCRIPTION:Jugend\, 3. Liga\,Gruppe 6\, Vorrunde\nBegegnungs-Nr: 6\nHeim: Wil SG\nGast: Ettenhausen\n\nAdresse: Lindenhofstr. 23\, 9500 Wil\n
LOCATION:Lindenhofstr. 23\, 9500 Wil
CATEGORIES:Saison 2024/25
END:VEVENT
BEGIN:VEVENT
DTSTAMP:20260425T005111Z
DTSTART;TZID=Europe/Berlin:20241116T160000
DTEND;TZID=Europe/Berlin:20241116T190000
SUMMARY:JUG\, 3.Liga\, Gr.2\, Zw-Runde Wil SG vs Bülach (6)
UID:92d1c6cf-2552-4f31-9887-286361c0cd40
STATUS:CONFIRMED
LAST-MODIFIED:20241122T153002Z
DESCRIPTION:Jugend\, 3. Liga\, Gruppe 2\, Zw-Runde\nBegegnungs-Nr: 6\nHeim: Wil SG\nGast: Bülach\n
LOCATION:
CATEGORIES:Saison 2024/25
END:VEVENT
BEGIN:VEVENT
DTSTAMP:20260425T005111Z
DTSTART;TZID=Europe/Berlin:20250329T130000
DTEND;TZID=Europe/Berlin:20250329T160000
SUMMARY:JUG\, 3.Liga\, Gr.1\, Final Wil SG vs Weinfelden (1)
UID:ef365236-dc9f-4443-bc8c-94ed34b48b38
STATUS:CONFIRMED
LAST-MODIFIED:20250404T085019Z
DESCRIPTION:Jugend\, 3. Liga\, Gruppe 1\, Final\nBegegnungs-Nr: 1\nHeim: Wil SG\nGast: Weinfelden\nHalle: Poule in Wil SG\, TH Lindenhof\nAdresse: Lindenhofstr. 23\, 9500 Wil\n
LOCATION:Poule in Wil SG\, TH Lindenhof Lindenhofstr. 23\, 9500 Wil
CATEGORIES:Saison 2024/25
END:VEVENT
BEGIN:VEVENT
DTSTAMP:20260425T005111Z
DTSTART;TZID=Europe/Berlin:20250329T143000
DTEND;TZID=Europe/Berlin:20250329T173000
SUMMARY:JUG\, 3.Liga\, Gr.1\, Final Wil SG vs Affoltern A/A III (4)
UID:806b1f0d-8550-446c-90b4-47ac794c4530
STATUS:CONFIRMED
LAST-MODIFIED:20250404T085048Z
DESCRIPTION:Jugend\, 3. Liga\, Gruppe 1\, Final\nBegegnungs-Nr: 4\nHeim: Wil SG\nGast: Affoltern A/A III\n\nAdresse: Lindenhofstr. 23\, 9500 Wil\n
LOCATION:Lindenhofstr. 23\, 9500 Wil
CATEGORIES:Saison 2024/25
END:VEVENT
BEGIN:VEVENT
DTSTAMP:20260425T005111Z
DTSTART;TZID=Europe/Berlin:20240831T133000
DTEND;TZID=Europe/Berlin:20240831T163000
SUMMARY:JUG\, 3.Liga\, Gr.6\, Vorrunde Bronschhofen vs Wil SG (3)
UID:99740a28-c8bc-414c-ba0d-db7534d1e9c0
STATUS:CONFIRMED
LAST-MODIFIED:20240904T133401Z
DESCRIPTION:Jugend\, 3. Liga\,Gruppe 6\, Vorrunde\nBegegnungs-Nr: 3\nHeim: Bronschhofen\nGast: Wil SG\n\nAdresse: Schulstrasse 6\, 9552 Bronschhofen\n
LOCATION:Schulstrasse 6\, 9552 Bronschhofen
CATEGORIES:Saison 2024/25
END:VEVENT
BEGIN:VEVENT
DTSTAMP:20260425T005111Z
DTSTART;TZID=Europe/Berlin:20240831T120000
DTEND;TZID=Europe/Berlin:20240831T150000
SUMMARY:JUG\, 3.Liga\, Gr.6\, Vorrunde Weinfelden vs Wil SG (2)
UID:ff18a899-9d97-4164-a3d3-c9cf34c7f3d3
STATUS:CONFIRMED
LAST-MODIFIED:20240904T133330Z
DESCRIPTION:Jugend\, 3. Liga\,Gruppe 6\, Vorrunde\nBegegnungs-Nr: 2\nHeim: Weinfelden\nGast: Wil SG\n\nAdresse: Bleichestrasse 3 (neben Hallenbad)\, 8570 Weinfelden\n
LOCATION:Bleichestrasse 3 (neben Hallenbad)\, 8570 Weinfelden
CATEGORIES:Saison 2024/25
END:VEVENT
BEGIN:VEVENT
DTSTAMP:20260425T005111Z
DTSTART;TZID=Europe/Berlin:20241116T143000
DTEND;TZID=Europe/Berlin:20241116T173000
SUMMARY:JUG\, 3.Liga\, Gr.2\, Zw-Runde Buchs Zürich vs Wil SG (3)
UID:87e72868-6916-4ceb-ae73-5215d47fd7da
STATUS:CONFIRMED
LAST-MODIFIED:20241122T152930Z
DESCRIPTION:Jugend\, 3. Liga\, Gruppe 2\, Zw-Runde\nBegegnungs-Nr: 3\nHeim: Buchs Zürich\nGast: Wil SG\n
LOCATION:
CATEGORIES:Saison 2024/25
END:VEVENT
BEGIN:VEVENT
DTSTAMP:20260425T005111Z
DTSTART;TZID=Europe/Berlin:20241116T130000
DTEND;TZID=Europe/Berlin:20241116T160000
SUMMARY:JUG\, 3.Liga\, Gr.2\, Zw-Runde Wetzikon II vs Wil SG (2)
UID:b6392827-cf74-4d5c-b954-7bfcce8da873
STATUS:CONFIRMED
LAST-MODIFIED:20241122T152919Z
DESCRIPTION:Jugend\, 3. Liga\, Gruppe 2\, Zw-Runde\nBegegnungs-Nr: 2\nHeim: Wetzikon II\nGast: Wil SG\n
LOCATION:
CATEGORIES:Saison 2024/25
END:VEVENT
BEGIN:VEVENT
DTSTAMP:20260425T005111Z
DTSTART;TZID=Europe/Berlin:20250329T160000
DTEND;TZID=Europe/Berlin:20250329T190000
SUMMARY:JUG\, 3.Liga\, Gr.1\, Final Urdorf vs Wil SG (6)
UID:22e64e44-69e7-44a6-8943-3e2dcf6c4481
STATUS:CONFIRMED
LAST-MODIFIED:20250404T085105Z
DESCRIPTION:Jugend\, 3. Liga\, Gruppe 1\, Final\nBegegnungs-Nr: 6\nHeim: Urdorf\nGast: Wil SG\n\nAdresse: Weihermattstrasse 50\, 8902 Urdorf\n
LOCATION:Weihermattstrasse 50\, 8902 Urdorf
CATEGORIES:Saison 2024/25
END:VEVENT
END:VCALENDAR
