BEGIN:VCALENDAR
PRODID:-//nuDatenautomaten//framework iCal4j //DE
VERSION:2.0
CALSCALE:GREGORIAN
BEGIN:VTIMEZONE
TZID:Europe/Berlin
LAST-MODIFIED:20260306T231828Z
TZURL:https://www.tzurl.org/zoneinfo/Europe/Berlin
X-LIC-LOCATION:Europe/Berlin
X-PROLEPTIC-TZNAME:LMT
BEGIN:STANDARD
TZNAME:CET
TZOFFSETFROM:+005328
TZOFFSETTO:+0100
DTSTART:18930401T000000
END:STANDARD
BEGIN:DAYLIGHT
TZNAME:CEST
TZOFFSETFROM:+0100
TZOFFSETTO:+0200
DTSTART:19160430T230000
RDATE:19400401T020000
RDATE:19430329T020000
RDATE:19460414T020000
RDATE:19470406T030000
RDATE:19480418T020000
RDATE:19490410T020000
RDATE:19800406T020000
END:DAYLIGHT
BEGIN:STANDARD
TZNAME:CET
TZOFFSETFROM:+0200
TZOFFSETTO:+0100
DTSTART:19161001T010000
RDATE:19421102T030000
RDATE:19431004T030000
RDATE:19441002T030000
RDATE:19451118T030000
RDATE:19461007T030000
END:STANDARD
BEGIN:DAYLIGHT
TZNAME:CEST
TZOFFSETFROM:+0100
TZOFFSETTO:+0200
DTSTART:19170416T020000
RRULE:FREQ=YEARLY;UNTIL=19180415T010000Z;BYMONTH=4;BYDAY=3MO
END:DAYLIGHT
BEGIN:STANDARD
TZNAME:CET
TZOFFSETFROM:+0200
TZOFFSETTO:+0100
DTSTART:19170917T030000
RRULE:FREQ=YEARLY;UNTIL=19180916T010000Z;BYMONTH=9;BYDAY=3MO
END:STANDARD
BEGIN:DAYLIGHT
TZNAME:CEST
TZOFFSETFROM:+0100
TZOFFSETTO:+0200
DTSTART:19440403T020000
RRULE:FREQ=YEARLY;UNTIL=19450402T010000Z;BYMONTH=4;BYDAY=1MO
END:DAYLIGHT
BEGIN:DAYLIGHT
TZNAME:CEMT
TZOFFSETFROM:+0200
TZOFFSETTO:+0300
DTSTART:19450524T020000
RDATE:19470511T030000
END:DAYLIGHT
BEGIN:DAYLIGHT
TZNAME:CEST
TZOFFSETFROM:+0300
TZOFFSETTO:+0200
DTSTART:19450924T030000
RDATE:19470629T030000
END:DAYLIGHT
BEGIN:STANDARD
TZNAME:CET
TZOFFSETFROM:+0100
TZOFFSETTO:+0100
DTSTART:19460101T000000
RDATE:19800101T000000
END:STANDARD
BEGIN:STANDARD
TZNAME:CET
TZOFFSETFROM:+0200
TZOFFSETTO:+0100
DTSTART:19471005T030000
RRULE:FREQ=YEARLY;UNTIL=19491002T010000Z;BYMONTH=10;BYDAY=1SU
END:STANDARD
BEGIN:STANDARD
TZNAME:CET
TZOFFSETFROM:+0200
TZOFFSETTO:+0100
DTSTART:19800928T030000
RRULE:FREQ=YEARLY;UNTIL=19950924T010000Z;BYMONTH=9;BYDAY=-1SU
END:STANDARD
BEGIN:DAYLIGHT
TZNAME:CEST
TZOFFSETFROM:+0100
TZOFFSETTO:+0200
DTSTART:19810329T020000
RRULE:FREQ=YEARLY;BYMONTH=3;BYDAY=-1SU
END:DAYLIGHT
BEGIN:STANDARD
TZNAME:CET
TZOFFSETFROM:+0200
TZOFFSETTO:+0100
DTSTART:19961027T030000
RRULE:FREQ=YEARLY;BYMONTH=10;BYDAY=-1SU
END:STANDARD
END:VTIMEZONE
BEGIN:VEVENT
DTSTAMP:20260424T234025Z
DTSTART;TZID=Europe/Berlin:20250302T150000
DTEND;TZID=Europe/Berlin:20250302T180000
SUMMARY:HE NLB Gr. 1 Vernier vs Bulle (18)
UID:595f64e6-8ae9-414e-8a6c-4474a35d9b9f
STATUS:CONFIRMED
LAST-MODIFIED:20250303T064632Z
DESCRIPTION:Herren Nationalliga B Gruppe 1\nBegegnungs-Nr: 18\nHeim: Vernier\nGast: Bulle\n\nAdresse: Chemin de Saule 120\, 1233 Bernex\n
LOCATION:Chemin de Saule 120\, 1233 Bernex
CATEGORIES:Saison 2024/25
END:VEVENT
BEGIN:VEVENT
DTSTAMP:20260424T234025Z
DTSTART;TZID=Europe/Berlin:20250301T150000
DTEND;TZID=Europe/Berlin:20250301T180000
SUMMARY:HE NLB Gr. 1 Vernier vs Rossens (16)
UID:6cb886a7-84bf-47b4-9314-1853032500d4
STATUS:CONFIRMED
LAST-MODIFIED:20250303T064602Z
DESCRIPTION:Herren Nationalliga B Gruppe 1\nBegegnungs-Nr: 16\nHeim: Vernier\nGast: Rossens\n\nAdresse: Chemin de Saule 120\, 1233 Bernex\n
LOCATION:Chemin de Saule 120\, 1233 Bernex
CATEGORIES:Saison 2024/25
END:VEVENT
BEGIN:VEVENT
DTSTAMP:20260424T234025Z
DTSTART;TZID=Europe/Berlin:20250406T150000
DTEND;TZID=Europe/Berlin:20250406T180000
SUMMARY:HE NLB Gr. 1 Vernier vs Silver Star (27)
UID:d0356610-d886-4eb9-84b8-3fbd5b3af487
STATUS:CONFIRMED
LAST-MODIFIED:20250409T124726Z
DESCRIPTION:Herren Nationalliga B Gruppe 1\nBegegnungs-Nr: 27\nHeim: Vernier\nGast: Silver Star\n\nAdresse: Chemin de Saule 120\, 1233 Bernex\n
LOCATION:Chemin de Saule 120\, 1233 Bernex
CATEGORIES:Saison 2024/25
END:VEVENT
BEGIN:VEVENT
DTSTAMP:20260424T234025Z
DTSTART;TZID=Europe/Berlin:20241207T170000
DTEND;TZID=Europe/Berlin:20241207T200000
SUMMARY:HE NLB Gr. 1 Vernier vs ZZ-Lancy II (22)
UID:7d02572c-bca8-46bb-97c5-980b1177f426
STATUS:CONFIRMED
LAST-MODIFIED:20241211T124312Z
DESCRIPTION:Herren Nationalliga B Gruppe 1\nBegegnungs-Nr: 22\nHeim: Vernier\nGast: ZZ-Lancy II\n\nAdresse: Chemin de Saule 120\, 1233 Bernex\n
LOCATION:Chemin de Saule 120\, 1233 Bernex
CATEGORIES:Saison 2024/25
END:VEVENT
BEGIN:VEVENT
DTSTAMP:20260424T234025Z
DTSTART;TZID=Europe/Berlin:20240921T150000
DTEND;TZID=Europe/Berlin:20240921T180000
SUMMARY:HE NLB Gr. 1 Vernier vs UGS-Chênois (7)
UID:bc89e02b-cd39-428f-907c-588e83c8a5d1
STATUS:CONFIRMED
LAST-MODIFIED:20240926T072535Z
DESCRIPTION:Herren Nationalliga B Gruppe 1\nBegegnungs-Nr: 7\nHeim: Vernier\nGast: UGS-Chênois\n\nAdresse: Chemin de Saule 120\, 1233 Bernex\n
LOCATION:Chemin de Saule 120\, 1233 Bernex
CATEGORIES:Saison 2024/25
END:VEVENT
BEGIN:VEVENT
DTSTAMP:20260424T234025Z
DTSTART;TZID=Europe/Berlin:20241102T150000
DTEND;TZID=Europe/Berlin:20241102T180000
SUMMARY:HE NLB Gr. 1 Vernier vs Vevey (13)
UID:2be99cd5-84c2-41ca-9e30-5fb1d77dfac8
STATUS:CONFIRMED
LAST-MODIFIED:20241104T090158Z
DESCRIPTION:Herren Nationalliga B Gruppe 1\nBegegnungs-Nr: 13\nHeim: Vernier\nGast: Vevey\n\nAdresse: Chemin de Saule 120\, 1233 Bernex\n
LOCATION:Chemin de Saule 120\, 1233 Bernex
CATEGORIES:Saison 2024/25
END:VEVENT
BEGIN:VEVENT
DTSTAMP:20260424T234025Z
DTSTART;TZID=Europe/Berlin:20241214T150000
DTEND;TZID=Europe/Berlin:20241214T180000
SUMMARY:HE NLB Gr. 1 Vernier vs Rapperswil-Jona III (27)
UID:37580d71-431d-4a45-92c1-63349d2d12d1
STATUS:CONFIRMED
LAST-MODIFIED:20241218T172619Z
DESCRIPTION:Herren Nationalliga B Gruppe 1\nBegegnungs-Nr: 27\nHeim: Vernier\nGast: Rapperswil-Jona III\n\nAdresse: Chemin de Saule 120\, 1233 Bernex\n
LOCATION:Chemin de Saule 120\, 1233 Bernex
CATEGORIES:Saison 2024/25
END:VEVENT
BEGIN:VEVENT
DTSTAMP:20260424T234025Z
DTSTART;TZID=Europe/Berlin:20250405T150000
DTEND;TZID=Europe/Berlin:20250405T180000
SUMMARY:HE NLB Gr. 1 Vevey vs Vernier (21)
UID:11d4f2cb-81ae-421d-b135-26222515e185
STATUS:CONFIRMED
LAST-MODIFIED:20250408T101534Z
DESCRIPTION:Herren Nationalliga B Gruppe 1\nBegegnungs-Nr: 21\nHeim: Vevey\nGast: Vernier\n\nAdresse: Rue Louis-Meyer\, 1800 Vevey\n
LOCATION:Rue Louis-Meyer\, 1800 Vevey
CATEGORIES:Saison 2024/25
END:VEVENT
BEGIN:VEVENT
DTSTAMP:20260424T234025Z
DTSTART;TZID=Europe/Berlin:20250201T130000
DTEND;TZID=Europe/Berlin:20250201T160000
SUMMARY:HE NLB Gr. 1 UGS-Chênois vs Vernier (7)
UID:d8726323-9a94-47d9-95ad-7509dfafdc96
STATUS:CONFIRMED
LAST-MODIFIED:20250203T092010Z
DESCRIPTION:Herren Nationalliga B Gruppe 1\nBegegnungs-Nr: 7\nHeim: UGS-Chênois\nGast: Vernier\n\nAdresse: Route de Frontenex 68\, 1208 Genève\n
LOCATION:Route de Frontenex 68\, 1208 Genève
CATEGORIES:Saison 2024/25
END:VEVENT
BEGIN:VEVENT
DTSTAMP:20260424T234025Z
DTSTART;TZID=Europe/Berlin:20250307T200000
DTEND;TZID=Europe/Berlin:20250307T230000
SUMMARY:HE NLB Gr. 1 ZZ-Lancy II vs Vernier (10)
UID:ce35ab80-7b1c-4dfe-a0a2-f80466f16d62
STATUS:CONFIRMED
LAST-MODIFIED:20250310T095432Z
DESCRIPTION:Herren Nationalliga B Gruppe 1\nBegegnungs-Nr: 10\nHeim: ZZ-Lancy II\nGast: Vernier\n\nAdresse: Avenue du Curé-Baud 40\, 1212 Grand-Lancy\n
LOCATION:Avenue du Curé-Baud 40\, 1212 Grand-Lancy
CATEGORIES:Saison 2024/25
END:VEVENT
BEGIN:VEVENT
DTSTAMP:20260424T234025Z
DTSTART;TZID=Europe/Berlin:20250111T123000
DTEND;TZID=Europe/Berlin:20250111T153000
SUMMARY:HE NLB Gr. 1 Rapperswil-Jona III vs Vernier (3)
UID:0119f5a5-1024-49c4-b28c-c3a4ec23548b
STATUS:CONFIRMED
LAST-MODIFIED:20250409T135237Z
DESCRIPTION:Herren Nationalliga B Gruppe 1\nBegegnungs-Nr: 3\nHeim: Rapperswil-Jona III\nGast: Vernier\n\nAdresse: Kreuzstrasse 43\, 8640 Rapperswil\n
LOCATION:Kreuzstrasse 43\, 8640 Rapperswil
CATEGORIES:Saison 2024/25
END:VEVENT
BEGIN:VEVENT
DTSTAMP:20260424T234025Z
DTSTART;TZID=Europe/Berlin:20240906T200000
DTEND;TZID=Europe/Berlin:20240906T230000
SUMMARY:HE NLB Gr. 1 Bulle vs Vernier (2)
UID:1a264087-4327-4adf-95c7-7f52266c8a01
STATUS:CONFIRMED
LAST-MODIFIED:20250131T062553Z
DESCRIPTION:Herren Nationalliga B Gruppe 1\nBegegnungs-Nr: 2\nHeim: Bulle\nGast: Vernier\n\nAdresse: Rue du Stade 50\, 1630 Bulle\n
LOCATION:Rue du Stade 50\, 1630 Bulle
CATEGORIES:Saison 2024/25
END:VEVENT
BEGIN:VEVENT
DTSTAMP:20260424T234025Z
DTSTART;TZID=Europe/Berlin:20241117T150000
DTEND;TZID=Europe/Berlin:20241117T180000
SUMMARY:HE NLB Gr. 1 Silver Star vs Vernier (19)
UID:0434b819-0b2c-42ab-abe3-f6638a76d0c8
STATUS:CONFIRMED
LAST-MODIFIED:20241118T111706Z
DESCRIPTION:Herren Nationalliga B Gruppe 1\nBegegnungs-Nr: 19\nHeim: Silver Star\nGast: Vernier\n\nAdresse: Rue de Vermont 33\, 1202 Genève\n
LOCATION:Rue de Vermont 33\, 1202 Genève
CATEGORIES:Saison 2024/25
END:VEVENT
BEGIN:VEVENT
DTSTAMP:20260424T234025Z
DTSTART;TZID=Europe/Berlin:20241026T160000
DTEND;TZID=Europe/Berlin:20241026T190000
SUMMARY:HE NLB Gr. 1 Rossens vs Vernier (12)
UID:1c766785-4080-4b91-a798-b69502ed1cb5
STATUS:CONFIRMED
LAST-MODIFIED:20241031T083233Z
DESCRIPTION:Herren Nationalliga B Gruppe 1\nBegegnungs-Nr: 12\nHeim: Rossens\nGast: Vernier\n\nAdresse: Route du Jordil 14\, 1728 Rossens\n
LOCATION:Route du Jordil 14\, 1728 Rossens
CATEGORIES:Saison 2024/25
END:VEVENT
END:VCALENDAR
