BEGIN:VCALENDAR
PRODID:-//nuDatenautomaten//framework iCal4j //DE
VERSION:2.0
CALSCALE:GREGORIAN
BEGIN:VTIMEZONE
TZID:Europe/Berlin
LAST-MODIFIED:20260306T231828Z
TZURL:https://www.tzurl.org/zoneinfo/Europe/Berlin
X-LIC-LOCATION:Europe/Berlin
X-PROLEPTIC-TZNAME:LMT
BEGIN:STANDARD
TZNAME:CET
TZOFFSETFROM:+005328
TZOFFSETTO:+0100
DTSTART:18930401T000000
END:STANDARD
BEGIN:DAYLIGHT
TZNAME:CEST
TZOFFSETFROM:+0100
TZOFFSETTO:+0200
DTSTART:19160430T230000
RDATE:19400401T020000
RDATE:19430329T020000
RDATE:19460414T020000
RDATE:19470406T030000
RDATE:19480418T020000
RDATE:19490410T020000
RDATE:19800406T020000
END:DAYLIGHT
BEGIN:STANDARD
TZNAME:CET
TZOFFSETFROM:+0200
TZOFFSETTO:+0100
DTSTART:19161001T010000
RDATE:19421102T030000
RDATE:19431004T030000
RDATE:19441002T030000
RDATE:19451118T030000
RDATE:19461007T030000
END:STANDARD
BEGIN:DAYLIGHT
TZNAME:CEST
TZOFFSETFROM:+0100
TZOFFSETTO:+0200
DTSTART:19170416T020000
RRULE:FREQ=YEARLY;UNTIL=19180415T010000Z;BYMONTH=4;BYDAY=3MO
END:DAYLIGHT
BEGIN:STANDARD
TZNAME:CET
TZOFFSETFROM:+0200
TZOFFSETTO:+0100
DTSTART:19170917T030000
RRULE:FREQ=YEARLY;UNTIL=19180916T010000Z;BYMONTH=9;BYDAY=3MO
END:STANDARD
BEGIN:DAYLIGHT
TZNAME:CEST
TZOFFSETFROM:+0100
TZOFFSETTO:+0200
DTSTART:19440403T020000
RRULE:FREQ=YEARLY;UNTIL=19450402T010000Z;BYMONTH=4;BYDAY=1MO
END:DAYLIGHT
BEGIN:DAYLIGHT
TZNAME:CEMT
TZOFFSETFROM:+0200
TZOFFSETTO:+0300
DTSTART:19450524T020000
RDATE:19470511T030000
END:DAYLIGHT
BEGIN:DAYLIGHT
TZNAME:CEST
TZOFFSETFROM:+0300
TZOFFSETTO:+0200
DTSTART:19450924T030000
RDATE:19470629T030000
END:DAYLIGHT
BEGIN:STANDARD
TZNAME:CET
TZOFFSETFROM:+0100
TZOFFSETTO:+0100
DTSTART:19460101T000000
RDATE:19800101T000000
END:STANDARD
BEGIN:STANDARD
TZNAME:CET
TZOFFSETFROM:+0200
TZOFFSETTO:+0100
DTSTART:19471005T030000
RRULE:FREQ=YEARLY;UNTIL=19491002T010000Z;BYMONTH=10;BYDAY=1SU
END:STANDARD
BEGIN:STANDARD
TZNAME:CET
TZOFFSETFROM:+0200
TZOFFSETTO:+0100
DTSTART:19800928T030000
RRULE:FREQ=YEARLY;UNTIL=19950924T010000Z;BYMONTH=9;BYDAY=-1SU
END:STANDARD
BEGIN:DAYLIGHT
TZNAME:CEST
TZOFFSETFROM:+0100
TZOFFSETTO:+0200
DTSTART:19810329T020000
RRULE:FREQ=YEARLY;BYMONTH=3;BYDAY=-1SU
END:DAYLIGHT
BEGIN:STANDARD
TZNAME:CET
TZOFFSETFROM:+0200
TZOFFSETTO:+0100
DTSTART:19961027T030000
RRULE:FREQ=YEARLY;BYMONTH=10;BYDAY=-1SU
END:STANDARD
END:VTIMEZONE
BEGIN:VEVENT
DTSTAMP:20260419T230154Z
DTSTART;TZID=Europe/Berlin:20240927T200000
DTEND;TZID=Europe/Berlin:20240927T230000
SUMMARY:L2P1 Moutier vs La Chaux-de-Fonds II (0)
UID:6adb3983-25df-4066-9d1f-c8bb4be6736e
STATUS:CONFIRMED
LAST-MODIFIED:20241003T090050Z
DESCRIPTION:2ème ligue phase 1\nBegegnungs-Nr: 0\nHeim: Moutier\nGast: La Chaux-de-Fonds II\n\nAdresse: Place Beseran\, 2740 Moutier\n
LOCATION:Place Beseran\, 2740 Moutier
CATEGORIES:Saison 2024/25
END:VEVENT
BEGIN:VEVENT
DTSTAMP:20260419T230154Z
DTSTART;TZID=Europe/Berlin:20241129T200000
DTEND;TZID=Europe/Berlin:20241129T230000
SUMMARY:L2P1 Moutier vs Val-de-Ruz II (0)
UID:b3a2d4dc-1add-4a9a-867d-92498bfe04d4
STATUS:CONFIRMED
LAST-MODIFIED:20241204T081618Z
DESCRIPTION:2ème ligue phase 1\nBegegnungs-Nr: 0\nHeim: Moutier\nGast: Val-de-Ruz II\n\nAdresse: Place Beseran\, 2740 Moutier\n
LOCATION:Place Beseran\, 2740 Moutier
CATEGORIES:Saison 2024/25
END:VEVENT
BEGIN:VEVENT
DTSTAMP:20260419T230154Z
DTSTART;TZID=Europe/Berlin:20241101T200000
DTEND;TZID=Europe/Berlin:20241101T230000
SUMMARY:L2P1 Moutier vs Cortaillod III (0)
UID:a9469d97-4071-4721-ae9a-4d827279c903
STATUS:CONFIRMED
LAST-MODIFIED:20241104T141339Z
DESCRIPTION:2ème ligue phase 1\nBegegnungs-Nr: 0\nHeim: Moutier\nGast: Cortaillod III\n\nAdresse: Place Beseran\, 2740 Moutier\n
LOCATION:Place Beseran\, 2740 Moutier
CATEGORIES:Saison 2024/25
END:VEVENT
BEGIN:VEVENT
DTSTAMP:20260419T230154Z
DTSTART;TZID=Europe/Berlin:20250124T200000
DTEND;TZID=Europe/Berlin:20250124T230000
SUMMARY:L1P2 Moutier vs Porrentruy (0)
UID:6b65fece-509f-4709-b16f-94000c94fae2
STATUS:CONFIRMED
LAST-MODIFIED:20250128T151107Z
DESCRIPTION:1 ère ligue phase 2\nBegegnungs-Nr: 0\nHeim: Moutier\nGast: Porrentruy\n\nAdresse: Place Beseran\, 2740 Moutier\n
LOCATION:Place Beseran\, 2740 Moutier
CATEGORIES:Saison 2024/25
END:VEVENT
BEGIN:VEVENT
DTSTAMP:20260419T230154Z
DTSTART;TZID=Europe/Berlin:20250221T200000
DTEND;TZID=Europe/Berlin:20250221T230000
SUMMARY:L1P2 Moutier vs Delémont (0)
UID:b81d8306-9662-402d-bf87-20b133157680
STATUS:CONFIRMED
LAST-MODIFIED:20250224T144353Z
DESCRIPTION:1 ère ligue phase 2\nBegegnungs-Nr: 0\nHeim: Moutier\nGast: Delémont\n\nAdresse: Place Beseran\, 2740 Moutier\n
LOCATION:Place Beseran\, 2740 Moutier
CATEGORIES:Saison 2024/25
END:VEVENT
BEGIN:VEVENT
DTSTAMP:20260419T230154Z
DTSTART;TZID=Europe/Berlin:20250411T200000
DTEND;TZID=Europe/Berlin:20250411T230000
SUMMARY:L1P2 Moutier vs Val-de-Ruz II (0)
UID:62f67427-5095-40ad-9201-a7883fd851e9
STATUS:CONFIRMED
LAST-MODIFIED:20250413T125421Z
DESCRIPTION:1 ère ligue phase 2\nBegegnungs-Nr: 0\nHeim: Moutier\nGast: Val-de-Ruz II\n\nAdresse: Place Beseran\, 2740 Moutier\n
LOCATION:Place Beseran\, 2740 Moutier
CATEGORIES:Saison 2024/25
END:VEVENT
BEGIN:VEVENT
DTSTAMP:20260419T230154Z
DTSTART;TZID=Europe/Berlin:20250425T200000
DTEND;TZID=Europe/Berlin:20250425T230000
SUMMARY:L1P2 Moutier vs Val-de-Ruz (0)
UID:e1af844c-75ba-4d8f-af04-7a65c617d2af
STATUS:CONFIRMED
LAST-MODIFIED:20250501T051029Z
DESCRIPTION:1 ère ligue phase 2\nBegegnungs-Nr: 0\nHeim: Moutier\nGast: Val-de-Ruz\n\nAdresse: Place Beseran\, 2740 Moutier\n
LOCATION:Place Beseran\, 2740 Moutier
CATEGORIES:Saison 2024/25
END:VEVENT
BEGIN:VEVENT
DTSTAMP:20260419T230154Z
DTSTART;TZID=Europe/Berlin:20240913T200000
DTEND;TZID=Europe/Berlin:20240913T230000
SUMMARY:L2P1 Entente Pongiste Neuchâteloise III vs Moutier (0)
UID:d6b4a750-592d-4b90-a3bf-a10db242aa37
STATUS:CONFIRMED
LAST-MODIFIED:20240924T155851Z
DESCRIPTION:2ème ligue phase 1\nBegegnungs-Nr: 0\nHeim: Entente Pongiste Neuchâteloise III\nGast: Moutier\n\nAdresse: Allée du 700e\, 2525 Le Landeron\n
LOCATION:Allée du 700e\, 2525 Le Landeron
CATEGORIES:Saison 2024/25
END:VEVENT
BEGIN:VEVENT
DTSTAMP:20260419T230154Z
DTSTART;TZID=Europe/Berlin:20241206T193000
DTEND;TZID=Europe/Berlin:20241206T223000
SUMMARY:L2P1 Tramelan II vs Moutier (0)
UID:8a9aa112-9b26-4a74-9fe5-5e178046329f
STATUS:CONFIRMED
LAST-MODIFIED:20241210T095841Z
DESCRIPTION:2ème ligue phase 1\nBegegnungs-Nr: 0\nHeim: Tramelan II\nGast: Moutier\n\nAdresse: Rue du Collège 13\, 2720 Tramelan\n
LOCATION:Rue du Collège 13\, 2720 Tramelan
CATEGORIES:Saison 2024/25
END:VEVENT
BEGIN:VEVENT
DTSTAMP:20260419T230154Z
DTSTART;TZID=Europe/Berlin:20241113T200000
DTEND;TZID=Europe/Berlin:20241113T230000
SUMMARY:L2P1 Omega vs Moutier (0)
UID:a78ec074-03d0-4279-98cf-a5f0f3d942fa
STATUS:CONFIRMED
LAST-MODIFIED:20241122T115121Z
DESCRIPTION:2ème ligue phase 1\nBegegnungs-Nr: 0\nHeim: Omega\nGast: Moutier\n\nAdresse: Tennisweg 1\, 2504 Biel-Bienne\n
LOCATION:Tennisweg 1\, 2504 Biel-Bienne
CATEGORIES:Saison 2024/25
END:VEVENT
BEGIN:VEVENT
DTSTAMP:20260419T230154Z
DTSTART;TZID=Europe/Berlin:20241025T200000
DTEND;TZID=Europe/Berlin:20241025T230000
SUMMARY:L2P1 Le Locle vs Moutier (0)
UID:836ca5cf-f986-4a42-99ff-ca4bbaf65389
STATUS:CONFIRMED
LAST-MODIFIED:20241029T073756Z
DESCRIPTION:2ème ligue phase 1\nBegegnungs-Nr: 0\nHeim: Le Locle\nGast: Moutier\n\nAdresse: Avenue du Collège 1\, 2400 Le Locle\n
LOCATION:Avenue du Collège 1\, 2400 Le Locle
CATEGORIES:Saison 2024/25
END:VEVENT
BEGIN:VEVENT
DTSTAMP:20260419T230154Z
DTSTART;TZID=Europe/Berlin:20250131T193000
DTEND;TZID=Europe/Berlin:20250131T223000
SUMMARY:L1P2 La Chaux-de-Fonds II vs Moutier (0)
UID:5692400e-4116-4ced-bbe9-668144385c59
STATUS:CONFIRMED
LAST-MODIFIED:20250214T145107Z
DESCRIPTION:1 ère ligue phase 2\nBegegnungs-Nr: 0\nHeim: La Chaux-de-Fonds II\nGast: Moutier\n\nAdresse: Rue du Docteur-Kern 14\, 2300 La Chaux-de-Fonds\n
LOCATION:Rue du Docteur-Kern 14\, 2300 La Chaux-de-Fonds
CATEGORIES:Saison 2024/25
END:VEVENT
BEGIN:VEVENT
DTSTAMP:20260419T230154Z
DTSTART;TZID=Europe/Berlin:20250305T193000
DTEND;TZID=Europe/Berlin:20250305T223000
SUMMARY:L1P2 Entente Pongiste Neuchâteloise vs Moutier (0)
UID:03fcf05e-87bf-45a6-87f8-77ece17620ff
STATUS:CONFIRMED
LAST-MODIFIED:20250307T081817Z
DESCRIPTION:1 ère ligue phase 2\nBegegnungs-Nr: 0\nHeim: Entente Pongiste Neuchâteloise\nGast: Moutier\n\nAdresse: Allée du 700e\, 2525 Le Landeron\n
LOCATION:Allée du 700e\, 2525 Le Landeron
CATEGORIES:Saison 2024/25
END:VEVENT
BEGIN:VEVENT
DTSTAMP:20260419T230154Z
DTSTART;TZID=Europe/Berlin:20250404T200000
DTEND;TZID=Europe/Berlin:20250404T230000
SUMMARY:L1P2 Cortaillod II vs Moutier (0)
UID:05fce195-65f4-4257-ac58-c05fbe7f4bbf
STATUS:CONFIRMED
LAST-MODIFIED:20250408T125843Z
DESCRIPTION:1 ère ligue phase 2\nBegegnungs-Nr: 0\nHeim: Cortaillod II\nGast: Moutier\n\nAdresse: Coteaux 1\, 2016 Cortaillod\n
LOCATION:Coteaux 1\, 2016 Cortaillod
CATEGORIES:Saison 2024/25
END:VEVENT
END:VCALENDAR
