BEGIN:VCALENDAR
PRODID:-//nuDatenautomaten//framework iCal4j //DE
VERSION:2.0
CALSCALE:GREGORIAN
BEGIN:VTIMEZONE
TZID:Europe/Berlin
LAST-MODIFIED:20260306T231828Z
TZURL:https://www.tzurl.org/zoneinfo/Europe/Berlin
X-LIC-LOCATION:Europe/Berlin
X-PROLEPTIC-TZNAME:LMT
BEGIN:STANDARD
TZNAME:CET
TZOFFSETFROM:+005328
TZOFFSETTO:+0100
DTSTART:18930401T000000
END:STANDARD
BEGIN:DAYLIGHT
TZNAME:CEST
TZOFFSETFROM:+0100
TZOFFSETTO:+0200
DTSTART:19160430T230000
RDATE:19400401T020000
RDATE:19430329T020000
RDATE:19460414T020000
RDATE:19470406T030000
RDATE:19480418T020000
RDATE:19490410T020000
RDATE:19800406T020000
END:DAYLIGHT
BEGIN:STANDARD
TZNAME:CET
TZOFFSETFROM:+0200
TZOFFSETTO:+0100
DTSTART:19161001T010000
RDATE:19421102T030000
RDATE:19431004T030000
RDATE:19441002T030000
RDATE:19451118T030000
RDATE:19461007T030000
END:STANDARD
BEGIN:DAYLIGHT
TZNAME:CEST
TZOFFSETFROM:+0100
TZOFFSETTO:+0200
DTSTART:19170416T020000
RRULE:FREQ=YEARLY;UNTIL=19180415T010000Z;BYMONTH=4;BYDAY=3MO
END:DAYLIGHT
BEGIN:STANDARD
TZNAME:CET
TZOFFSETFROM:+0200
TZOFFSETTO:+0100
DTSTART:19170917T030000
RRULE:FREQ=YEARLY;UNTIL=19180916T010000Z;BYMONTH=9;BYDAY=3MO
END:STANDARD
BEGIN:DAYLIGHT
TZNAME:CEST
TZOFFSETFROM:+0100
TZOFFSETTO:+0200
DTSTART:19440403T020000
RRULE:FREQ=YEARLY;UNTIL=19450402T010000Z;BYMONTH=4;BYDAY=1MO
END:DAYLIGHT
BEGIN:DAYLIGHT
TZNAME:CEMT
TZOFFSETFROM:+0200
TZOFFSETTO:+0300
DTSTART:19450524T020000
RDATE:19470511T030000
END:DAYLIGHT
BEGIN:DAYLIGHT
TZNAME:CEST
TZOFFSETFROM:+0300
TZOFFSETTO:+0200
DTSTART:19450924T030000
RDATE:19470629T030000
END:DAYLIGHT
BEGIN:STANDARD
TZNAME:CET
TZOFFSETFROM:+0100
TZOFFSETTO:+0100
DTSTART:19460101T000000
RDATE:19800101T000000
END:STANDARD
BEGIN:STANDARD
TZNAME:CET
TZOFFSETFROM:+0200
TZOFFSETTO:+0100
DTSTART:19471005T030000
RRULE:FREQ=YEARLY;UNTIL=19491002T010000Z;BYMONTH=10;BYDAY=1SU
END:STANDARD
BEGIN:STANDARD
TZNAME:CET
TZOFFSETFROM:+0200
TZOFFSETTO:+0100
DTSTART:19800928T030000
RRULE:FREQ=YEARLY;UNTIL=19950924T010000Z;BYMONTH=9;BYDAY=-1SU
END:STANDARD
BEGIN:DAYLIGHT
TZNAME:CEST
TZOFFSETFROM:+0100
TZOFFSETTO:+0200
DTSTART:19810329T020000
RRULE:FREQ=YEARLY;BYMONTH=3;BYDAY=-1SU
END:DAYLIGHT
BEGIN:STANDARD
TZNAME:CET
TZOFFSETFROM:+0200
TZOFFSETTO:+0100
DTSTART:19961027T030000
RRULE:FREQ=YEARLY;BYMONTH=10;BYDAY=-1SU
END:STANDARD
END:VTIMEZONE
BEGIN:VEVENT
DTSTAMP:20260425T005053Z
DTSTART;TZID=Europe/Berlin:20241114T200000
DTEND;TZID=Europe/Berlin:20241114T230000
SUMMARY:HE 5. Liga Gr. 8 Chur VI vs Glarus II (0)
UID:4d553601-dddd-4bbf-abf6-c0164394758b
STATUS:CONFIRMED
LAST-MODIFIED:20241115T150955Z
DESCRIPTION:5. Liga Herren Gruppe 8\nBegegnungs-Nr: 0\nHeim: Chur VI\nGast: Glarus II\n\nAdresse: Sandstr. 35\, 7000 Chur\n
LOCATION:Sandstr. 35\, 7000 Chur
CATEGORIES:Saison 2024/25
END:VEVENT
BEGIN:VEVENT
DTSTAMP:20260425T005053Z
DTSTART;TZID=Europe/Berlin:20240926T200000
DTEND;TZID=Europe/Berlin:20240926T230000
SUMMARY:HE 5. Liga Gr. 8 Chur VI vs Oberriet IV (0)
UID:6a97b02a-b3e1-4135-afd6-f079aef07257
STATUS:CONFIRMED
LAST-MODIFIED:20240930T125049Z
DESCRIPTION:5. Liga Herren Gruppe 8\nBegegnungs-Nr: 0\nHeim: Chur VI\nGast: Oberriet IV\n\nAdresse: Sandstr. 35\, 7000 Chur\n
LOCATION:Sandstr. 35\, 7000 Chur
CATEGORIES:Saison 2024/25
END:VEVENT
BEGIN:VEVENT
DTSTAMP:20260425T005053Z
DTSTART;TZID=Europe/Berlin:20240905T200000
DTEND;TZID=Europe/Berlin:20240905T230000
SUMMARY:HE 5. Liga Gr. 8 Chur VI vs Balzers (0)
UID:318cd818-1be6-4b08-bd0b-4a2d608b5deb
STATUS:CONFIRMED
LAST-MODIFIED:20240913T132203Z
DESCRIPTION:5. Liga Herren Gruppe 8\nBegegnungs-Nr: 0\nHeim: Chur VI\nGast: Balzers\n\nAdresse: Sandstr. 35\, 7000 Chur\n
LOCATION:Sandstr. 35\, 7000 Chur
CATEGORIES:Saison 2024/25
END:VEVENT
BEGIN:VEVENT
DTSTAMP:20260425T005053Z
DTSTART;TZID=Europe/Berlin:20250327T200000
DTEND;TZID=Europe/Berlin:20250327T230000
SUMMARY:HE 5. Liga Gr. 8 Chur VI vs Flums V (0)
UID:67945fcc-8443-4ac7-b44c-d57fbf1ccc54
STATUS:CONFIRMED
LAST-MODIFIED:20250404T083459Z
DESCRIPTION:5. Liga Herren Gruppe 8\nBegegnungs-Nr: 0\nHeim: Chur VI\nGast: Flums V\n\nAdresse: Sandstr. 35\, 7000 Chur\n
LOCATION:Sandstr. 35\, 7000 Chur
CATEGORIES:Saison 2024/25
END:VEVENT
BEGIN:VEVENT
DTSTAMP:20260425T005053Z
DTSTART;TZID=Europe/Berlin:20250324T200000
DTEND;TZID=Europe/Berlin:20250324T230000
SUMMARY:HE 5. Liga Gr. 8 Chur VI vs Schaan-Eschen/Mauren II (0)
UID:1762e52e-97e7-4e20-8ef3-0f5d310d6923
STATUS:CONFIRMED
LAST-MODIFIED:20250327T134338Z
DESCRIPTION:5. Liga Herren Gruppe 8\nBegegnungs-Nr: 0\nHeim: Chur VI\nGast: Schaan-Eschen/Mauren II\n\nAdresse: Sandstr. 35\, 7000 Chur\n
LOCATION:Sandstr. 35\, 7000 Chur
CATEGORIES:Saison 2024/25
END:VEVENT
BEGIN:VEVENT
DTSTAMP:20260425T005053Z
DTSTART;TZID=Europe/Berlin:20250130T200000
DTEND;TZID=Europe/Berlin:20250130T230000
SUMMARY:HE 5. Liga Gr. 8 Chur VI vs Glarus III (0)
UID:9eb61f50-4de5-47ee-83c9-ed89830b888e
STATUS:CONFIRMED
LAST-MODIFIED:20250203T122645Z
DESCRIPTION:5. Liga Herren Gruppe 8\nBegegnungs-Nr: 0\nHeim: Chur VI\nGast: Glarus III\n\nAdresse: Sandstr. 35\, 7000 Chur\n
LOCATION:Sandstr. 35\, 7000 Chur
CATEGORIES:Saison 2024/25
END:VEVENT
BEGIN:VEVENT
DTSTAMP:20260425T005053Z
DTSTART;TZID=Europe/Berlin:20250109T200000
DTEND;TZID=Europe/Berlin:20250109T230000
SUMMARY:HE 5. Liga Gr. 8 Chur VI vs Ruggell II (0)
UID:3a6bf430-0ce7-47d2-bfb1-2f2bf99df441
STATUS:CONFIRMED
LAST-MODIFIED:20250110T151551Z
DESCRIPTION:5. Liga Herren Gruppe 8\nBegegnungs-Nr: 0\nHeim: Chur VI\nGast: Ruggell II\n\nAdresse: Sandstr. 35\, 7000 Chur\n
LOCATION:Sandstr. 35\, 7000 Chur
CATEGORIES:Saison 2024/25
END:VEVENT
BEGIN:VEVENT
DTSTAMP:20260425T005053Z
DTSTART;TZID=Europe/Berlin:20250509T200000
DTEND;TZID=Europe/Berlin:20250509T230000
SUMMARY:HE 5.Liga Aufstieg 1.Rde. Affoltern A/A VI vs Chur VI (514)
UID:4c0b6446-29db-40ad-9e84-2bc1a540e16c
STATUS:CONFIRMED
LAST-MODIFIED:20250509T064401Z
DESCRIPTION:5. Liga Herren Aufstieg 1.Rde.\nBegegnungs-Nr: 514\nHeim: Affoltern A/A VI\nGast: Chur VI\n
LOCATION:
CATEGORIES:Saison 2024/25
END:VEVENT
BEGIN:VEVENT
DTSTAMP:20260425T005053Z
DTSTART;TZID=Europe/Berlin:20241202T201500
DTEND;TZID=Europe/Berlin:20241202T231500
SUMMARY:HE 5. Liga Gr. 8 Flums V vs Chur VI (0)
UID:031d042d-0886-43a4-b0ed-276b48026067
STATUS:CONFIRMED
LAST-MODIFIED:20241205T125705Z
DESCRIPTION:5. Liga Herren Gruppe 8\nBegegnungs-Nr: 0\nHeim: Flums V\nGast: Chur VI\n\nAdresse: Bergstrasse\, 8890 Flums\n
LOCATION:Bergstrasse\, 8890 Flums
CATEGORIES:Saison 2024/25
END:VEVENT
BEGIN:VEVENT
DTSTAMP:20260425T005053Z
DTSTART;TZID=Europe/Berlin:20240920T200000
DTEND;TZID=Europe/Berlin:20240920T230000
SUMMARY:HE 5. Liga Gr. 8 Glarus III vs Chur VI (0)
UID:0a393466-213b-403a-b35b-878487fce5b3
STATUS:CONFIRMED
LAST-MODIFIED:20240926T115120Z
DESCRIPTION:5. Liga Herren Gruppe 8\nBegegnungs-Nr: 0\nHeim: Glarus III\nGast: Chur VI\n\nAdresse: Schwertgasse 23\, 8750 Glarus\n
LOCATION:Schwertgasse 23\, 8750 Glarus
CATEGORIES:Saison 2024/25
END:VEVENT
BEGIN:VEVENT
DTSTAMP:20260425T005053Z
DTSTART;TZID=Europe/Berlin:20241003T200000
DTEND;TZID=Europe/Berlin:20241003T230000
SUMMARY:HE 5. Liga Gr. 8 Ruggell II vs Chur VI (0)
UID:07dba47d-773d-4143-9586-ba2f39651ee8
STATUS:CONFIRMED
LAST-MODIFIED:20241004T081938Z
DESCRIPTION:5. Liga Herren Gruppe 8\nBegegnungs-Nr: 0\nHeim: Ruggell II\nGast: Chur VI\n\nAdresse: Nellengasse 40\, 9491 Ruggell\n
LOCATION:Nellengasse 40\, 9491 Ruggell
CATEGORIES:Saison 2024/25
END:VEVENT
BEGIN:VEVENT
DTSTAMP:20260425T005053Z
DTSTART;TZID=Europe/Berlin:20250131T200000
DTEND;TZID=Europe/Berlin:20250131T230000
SUMMARY:HE 5. Liga Gr. 8 Glarus II vs Chur VI (0)
UID:78d545c1-0c12-47a5-9ad4-4fbca827fe8a
STATUS:CONFIRMED
LAST-MODIFIED:20250203T122656Z
DESCRIPTION:5. Liga Herren Gruppe 8\nBegegnungs-Nr: 0\nHeim: Glarus II\nGast: Chur VI\n\nAdresse: Schwertgasse 23\, 8750 Glarus\n
LOCATION:Schwertgasse 23\, 8750 Glarus
CATEGORIES:Saison 2024/25
END:VEVENT
BEGIN:VEVENT
DTSTAMP:20260425T005053Z
DTSTART;TZID=Europe/Berlin:20250212T201500
DTEND;TZID=Europe/Berlin:20250212T231500
SUMMARY:HE 5. Liga Gr. 8 Oberriet IV vs Chur VI (0)
UID:af8cb205-881b-4a43-b9d1-cd4127aed2b9
STATUS:CONFIRMED
LAST-MODIFIED:20250219T132943Z
DESCRIPTION:5. Liga Herren Gruppe 8\nBegegnungs-Nr: 0\nHeim: Oberriet IV\nGast: Chur VI\n\nAdresse: Neugutstrasse 2\, 9463 Oberriet SG\n
LOCATION:Neugutstrasse 2\, 9463 Oberriet SG
CATEGORIES:Saison 2024/25
END:VEVENT
BEGIN:VEVENT
DTSTAMP:20260425T005053Z
DTSTART;TZID=Europe/Berlin:20250120T200000
DTEND;TZID=Europe/Berlin:20250120T230000
SUMMARY:HE 5. Liga Gr. 8 Balzers vs Chur VI (0)
UID:a25a68dc-08f1-497f-bd16-73ca4e113745
STATUS:CONFIRMED
LAST-MODIFIED:20250123T143130Z
DESCRIPTION:5. Liga Herren Gruppe 8\nBegegnungs-Nr: 0\nHeim: Balzers\nGast: Chur VI\n\nAdresse: Gnetsch 41\, 9496 Balzers\n
LOCATION:Gnetsch 41\, 9496 Balzers
CATEGORIES:Saison 2024/25
END:VEVENT
BEGIN:VEVENT
DTSTAMP:20260425T005053Z
DTSTART;TZID=Europe/Berlin:20241031T194500
DTEND;TZID=Europe/Berlin:20241031T224500
SUMMARY:HE 5. Liga Gr. 8 Schaan-Eschen/Mauren II vs Chur VI (0)
UID:301aadd4-5935-4af6-946d-a2380b6cccbb
STATUS:CONFIRMED
LAST-MODIFIED:20241108T145955Z
DESCRIPTION:5. Liga Herren Gruppe 8\nBegegnungs-Nr: 0\nHeim: Schaan-Eschen/Mauren II\nGast: Chur VI\n\nAdresse: Zur Schule\, 9494 Schaan\n
LOCATION:Zur Schule\, 9494 Schaan
CATEGORIES:Saison 2024/25
END:VEVENT
END:VCALENDAR
