BEGIN:VCALENDAR
PRODID:-//nuDatenautomaten//framework iCal4j //DE
VERSION:2.0
CALSCALE:GREGORIAN
BEGIN:VTIMEZONE
TZID:Europe/Berlin
LAST-MODIFIED:20260306T231828Z
TZURL:https://www.tzurl.org/zoneinfo/Europe/Berlin
X-LIC-LOCATION:Europe/Berlin
X-PROLEPTIC-TZNAME:LMT
BEGIN:STANDARD
TZNAME:CET
TZOFFSETFROM:+005328
TZOFFSETTO:+0100
DTSTART:18930401T000000
END:STANDARD
BEGIN:DAYLIGHT
TZNAME:CEST
TZOFFSETFROM:+0100
TZOFFSETTO:+0200
DTSTART:19160430T230000
RDATE:19400401T020000
RDATE:19430329T020000
RDATE:19460414T020000
RDATE:19470406T030000
RDATE:19480418T020000
RDATE:19490410T020000
RDATE:19800406T020000
END:DAYLIGHT
BEGIN:STANDARD
TZNAME:CET
TZOFFSETFROM:+0200
TZOFFSETTO:+0100
DTSTART:19161001T010000
RDATE:19421102T030000
RDATE:19431004T030000
RDATE:19441002T030000
RDATE:19451118T030000
RDATE:19461007T030000
END:STANDARD
BEGIN:DAYLIGHT
TZNAME:CEST
TZOFFSETFROM:+0100
TZOFFSETTO:+0200
DTSTART:19170416T020000
RRULE:FREQ=YEARLY;UNTIL=19180415T010000Z;BYMONTH=4;BYDAY=3MO
END:DAYLIGHT
BEGIN:STANDARD
TZNAME:CET
TZOFFSETFROM:+0200
TZOFFSETTO:+0100
DTSTART:19170917T030000
RRULE:FREQ=YEARLY;UNTIL=19180916T010000Z;BYMONTH=9;BYDAY=3MO
END:STANDARD
BEGIN:DAYLIGHT
TZNAME:CEST
TZOFFSETFROM:+0100
TZOFFSETTO:+0200
DTSTART:19440403T020000
RRULE:FREQ=YEARLY;UNTIL=19450402T010000Z;BYMONTH=4;BYDAY=1MO
END:DAYLIGHT
BEGIN:DAYLIGHT
TZNAME:CEMT
TZOFFSETFROM:+0200
TZOFFSETTO:+0300
DTSTART:19450524T020000
RDATE:19470511T030000
END:DAYLIGHT
BEGIN:DAYLIGHT
TZNAME:CEST
TZOFFSETFROM:+0300
TZOFFSETTO:+0200
DTSTART:19450924T030000
RDATE:19470629T030000
END:DAYLIGHT
BEGIN:STANDARD
TZNAME:CET
TZOFFSETFROM:+0100
TZOFFSETTO:+0100
DTSTART:19460101T000000
RDATE:19800101T000000
END:STANDARD
BEGIN:STANDARD
TZNAME:CET
TZOFFSETFROM:+0200
TZOFFSETTO:+0100
DTSTART:19471005T030000
RRULE:FREQ=YEARLY;UNTIL=19491002T010000Z;BYMONTH=10;BYDAY=1SU
END:STANDARD
BEGIN:STANDARD
TZNAME:CET
TZOFFSETFROM:+0200
TZOFFSETTO:+0100
DTSTART:19800928T030000
RRULE:FREQ=YEARLY;UNTIL=19950924T010000Z;BYMONTH=9;BYDAY=-1SU
END:STANDARD
BEGIN:DAYLIGHT
TZNAME:CEST
TZOFFSETFROM:+0100
TZOFFSETTO:+0200
DTSTART:19810329T020000
RRULE:FREQ=YEARLY;BYMONTH=3;BYDAY=-1SU
END:DAYLIGHT
BEGIN:STANDARD
TZNAME:CET
TZOFFSETFROM:+0200
TZOFFSETTO:+0100
DTSTART:19961027T030000
RRULE:FREQ=YEARLY;BYMONTH=10;BYDAY=-1SU
END:STANDARD
END:VTIMEZONE
BEGIN:VEVENT
DTSTAMP:20260425T004940Z
DTSTART;TZID=Europe/Berlin:20241203T201500
DTEND;TZID=Europe/Berlin:20241203T231500
SUMMARY:HE 3. Liga Gr. 3 Uster II vs Wetzikon VI (0)
UID:1ab38c79-499d-4d52-b613-94e52a434a36
STATUS:CONFIRMED
LAST-MODIFIED:20241205T085552Z
DESCRIPTION:3. Liga Herren Gruppe 3\nBegegnungs-Nr: 0\nHeim: Uster II\nGast: Wetzikon VI\n\nAdresse: Wilstrasse 30 / Zürcherstrasse\, 8610 Uster\n
LOCATION:Wilstrasse 30 / Zürcherstrasse\, 8610 Uster
CATEGORIES:Saison 2024/25
END:VEVENT
BEGIN:VEVENT
DTSTAMP:20260425T004940Z
DTSTART;TZID=Europe/Berlin:20241029T201500
DTEND;TZID=Europe/Berlin:20241029T231500
SUMMARY:HE 3. Liga Gr. 3 Uster II vs Winterthur II (0)
UID:f2a61bb2-fac8-489a-b8e5-572b437ab23c
STATUS:CONFIRMED
LAST-MODIFIED:20241030T102533Z
DESCRIPTION:3. Liga Herren Gruppe 3\nBegegnungs-Nr: 0\nHeim: Uster II\nGast: Winterthur II\n\nAdresse: Wilstrasse 30 / Zürcherstrasse\, 8610 Uster\n
LOCATION:Wilstrasse 30 / Zürcherstrasse\, 8610 Uster
CATEGORIES:Saison 2024/25
END:VEVENT
BEGIN:VEVENT
DTSTAMP:20260425T004940Z
DTSTART;TZID=Europe/Berlin:20240917T201500
DTEND;TZID=Europe/Berlin:20240917T231500
SUMMARY:HE 3. Liga Gr. 3 Uster II vs Dübendorf-Volketswil (0)
UID:b8a208d4-9009-4c4a-bbcc-a19ed22d7b10
STATUS:CONFIRMED
LAST-MODIFIED:20240919T151034Z
DESCRIPTION:3. Liga Herren Gruppe 3\nBegegnungs-Nr: 0\nHeim: Uster II\nGast: Dübendorf-Volketswil\n\nAdresse: Wilstrasse 30 / Zürcherstrasse\, 8610 Uster\n
LOCATION:Wilstrasse 30 / Zürcherstrasse\, 8610 Uster
CATEGORIES:Saison 2024/25
END:VEVENT
BEGIN:VEVENT
DTSTAMP:20260425T004940Z
DTSTART;TZID=Europe/Berlin:20240827T201500
DTEND;TZID=Europe/Berlin:20240827T231500
SUMMARY:HE 3. Liga Gr. 3 Uster II vs Young Stars ZH VI (0)
UID:4ff46184-978e-4964-ae5b-2785eded16c9
STATUS:CONFIRMED
LAST-MODIFIED:20240828T081306Z
DESCRIPTION:3. Liga Herren Gruppe 3\nBegegnungs-Nr: 0\nHeim: Uster II\nGast: Young Stars ZH VI\n\nAdresse: Wilstrasse 30 / Zürcherstrasse\, 8610 Uster\n
LOCATION:Wilstrasse 30 / Zürcherstrasse\, 8610 Uster
CATEGORIES:Saison 2024/25
END:VEVENT
BEGIN:VEVENT
DTSTAMP:20260425T004940Z
DTSTART;TZID=Europe/Berlin:20250311T201500
DTEND;TZID=Europe/Berlin:20250311T231500
SUMMARY:HE 3. Liga Gr. 3 Uster II vs Rapperswil-Jona V (0)
UID:0b9482e7-e53a-48c2-826a-52532a184de6
STATUS:CONFIRMED
LAST-MODIFIED:20250312T145422Z
DESCRIPTION:3. Liga Herren Gruppe 3\nBegegnungs-Nr: 0\nHeim: Uster II\nGast: Rapperswil-Jona V\n\nAdresse: Wilstrasse 30 / Zürcherstrasse\, 8610 Uster\n
LOCATION:Wilstrasse 30 / Zürcherstrasse\, 8610 Uster
CATEGORIES:Saison 2024/25
END:VEVENT
BEGIN:VEVENT
DTSTAMP:20260425T004940Z
DTSTART;TZID=Europe/Berlin:20250211T201500
DTEND;TZID=Europe/Berlin:20250211T231500
SUMMARY:HE 3. Liga Gr. 3 Uster II vs Wallenwil (0)
UID:287af1d5-6bf7-4c79-96e2-1f7d02e21225
STATUS:CONFIRMED
LAST-MODIFIED:20250213T085718Z
DESCRIPTION:3. Liga Herren Gruppe 3\nBegegnungs-Nr: 0\nHeim: Uster II\nGast: Wallenwil\n\nAdresse: Wilstrasse 30 / Zürcherstrasse\, 8610 Uster\n
LOCATION:Wilstrasse 30 / Zürcherstrasse\, 8610 Uster
CATEGORIES:Saison 2024/25
END:VEVENT
BEGIN:VEVENT
DTSTAMP:20260425T004940Z
DTSTART;TZID=Europe/Berlin:20250121T201500
DTEND;TZID=Europe/Berlin:20250121T231500
SUMMARY:HE 3. Liga Gr. 3 Uster II vs Embrachertal (0)
UID:1da80274-41a8-4903-a975-3ff7b6c58a79
STATUS:CONFIRMED
LAST-MODIFIED:20250123T071243Z
DESCRIPTION:3. Liga Herren Gruppe 3\nBegegnungs-Nr: 0\nHeim: Uster II\nGast: Embrachertal\n\nAdresse: Wilstrasse 30 / Zürcherstrasse\, 8610 Uster\n
LOCATION:Wilstrasse 30 / Zürcherstrasse\, 8610 Uster
CATEGORIES:Saison 2024/25
END:VEVENT
BEGIN:VEVENT
DTSTAMP:20260425T004940Z
DTSTART;TZID=Europe/Berlin:20241109T163000
DTEND;TZID=Europe/Berlin:20241109T193000
SUMMARY:HE 3. Liga Gr. 3 Rapperswil-Jona V vs Uster II (0)
UID:3c72e846-4e48-4656-b054-cf3df70eed70
STATUS:CONFIRMED
LAST-MODIFIED:20241114T070828Z
DESCRIPTION:3. Liga Herren Gruppe 3\nBegegnungs-Nr: 0\nHeim: Rapperswil-Jona V\nGast: Uster II\n\nAdresse: Kreuzstrasse 43\, 8640 Rapperswil\n
LOCATION:Kreuzstrasse 43\, 8640 Rapperswil
CATEGORIES:Saison 2024/25
END:VEVENT
BEGIN:VEVENT
DTSTAMP:20260425T004940Z
DTSTART;TZID=Europe/Berlin:20240926T201500
DTEND;TZID=Europe/Berlin:20240926T231500
SUMMARY:HE 3. Liga Gr. 3 Wallenwil vs Uster II (0)
UID:26a037b6-2660-4551-8ce5-af240e7b93d0
STATUS:CONFIRMED
LAST-MODIFIED:20240930T124436Z
DESCRIPTION:3. Liga Herren Gruppe 3\nBegegnungs-Nr: 0\nHeim: Wallenwil\nGast: Uster II\n\nAdresse: Stationsstrasse 29\, 8360 Wallenwil\n
LOCATION:Stationsstrasse 29\, 8360 Wallenwil
CATEGORIES:Saison 2024/25
END:VEVENT
BEGIN:VEVENT
DTSTAMP:20260425T004940Z
DTSTART;TZID=Europe/Berlin:20240905T200000
DTEND;TZID=Europe/Berlin:20240905T230000
SUMMARY:HE 3. Liga Gr. 3 Embrachertal vs Uster II (0)
UID:5f9edb86-f997-483d-ae1e-d1abb0487af0
STATUS:CONFIRMED
LAST-MODIFIED:20240906T095610Z
DESCRIPTION:3. Liga Herren Gruppe 3\nBegegnungs-Nr: 0\nHeim: Embrachertal\nGast: Uster II\n\nAdresse: Schützenhausstrasse 20\, 8424 Embrach\n
LOCATION:Schützenhausstrasse 20\, 8424 Embrach
CATEGORIES:Saison 2024/25
END:VEVENT
BEGIN:VEVENT
DTSTAMP:20260425T004940Z
DTSTART;TZID=Europe/Berlin:20250328T194500
DTEND;TZID=Europe/Berlin:20250328T224500
SUMMARY:HE 3. Liga Gr. 3 Wetzikon VI vs Uster II (0)
UID:2b49fbdc-22eb-41b3-8f31-4ebb718e77d3
STATUS:CONFIRMED
LAST-MODIFIED:20250402T102027Z
DESCRIPTION:3. Liga Herren Gruppe 3\nBegegnungs-Nr: 0\nHeim: Wetzikon VI\nGast: Uster II\n\nAdresse: Usterstrasse 37\, 8620 Wetzikon\n
LOCATION:Usterstrasse 37\, 8620 Wetzikon
CATEGORIES:Saison 2024/25
END:VEVENT
BEGIN:VEVENT
DTSTAMP:20260425T004940Z
DTSTART;TZID=Europe/Berlin:20250320T200000
DTEND;TZID=Europe/Berlin:20250320T230000
SUMMARY:HE 3. Liga Gr. 3 Winterthur II vs Uster II (0)
UID:4b7f429e-6611-4df7-b7b9-b0128e5ade09
STATUS:CONFIRMED
LAST-MODIFIED:20250321T124019Z
DESCRIPTION:3. Liga Herren Gruppe 3\nBegegnungs-Nr: 0\nHeim: Winterthur II\nGast: Uster II\n\nAdresse: Buchackerstrasse 54\, 8400 Winterthur\n
LOCATION:Buchackerstrasse 54\, 8400 Winterthur
CATEGORIES:Saison 2024/25
END:VEVENT
BEGIN:VEVENT
DTSTAMP:20260425T004940Z
DTSTART;TZID=Europe/Berlin:20250128T201500
DTEND;TZID=Europe/Berlin:20250128T231500
SUMMARY:HE 3. Liga Gr. 3 Dübendorf-Volketswil vs Uster II (0)
UID:8dd09cd8-ce5a-448b-ae58-dae836835466
STATUS:CONFIRMED
LAST-MODIFIED:20250129T111544Z
DESCRIPTION:3. Liga Herren Gruppe 3\nBegegnungs-Nr: 0\nHeim: Dübendorf-Volketswil\nGast: Uster II\n\nAdresse: Dübendorfstrasse 46\, 8602 Wangen ZH\n
LOCATION:Dübendorfstrasse 46\, 8602 Wangen ZH
CATEGORIES:Saison 2024/25
END:VEVENT
BEGIN:VEVENT
DTSTAMP:20260425T004940Z
DTSTART;TZID=Europe/Berlin:20250108T201500
DTEND;TZID=Europe/Berlin:20250108T231500
SUMMARY:HE 3. Liga Gr. 3 Young Stars ZH VI vs Uster II (0)
UID:55b5bbf9-f118-41cd-9969-fecec17f9682
STATUS:CONFIRMED
LAST-MODIFIED:20250110T150708Z
DESCRIPTION:3. Liga Herren Gruppe 3\nBegegnungs-Nr: 0\nHeim: Young Stars ZH VI\nGast: Uster II\n\nAdresse: Seefeldstrasse 93\, 8008 Zürich\n
LOCATION:Seefeldstrasse 93\, 8008 Zürich
CATEGORIES:Saison 2024/25
END:VEVENT
END:VCALENDAR
