BEGIN:VCALENDAR
PRODID:-//nuDatenautomaten//framework iCal4j //DE
VERSION:2.0
CALSCALE:GREGORIAN
BEGIN:VTIMEZONE
TZID:Europe/Berlin
LAST-MODIFIED:20260306T231828Z
TZURL:https://www.tzurl.org/zoneinfo/Europe/Berlin
X-LIC-LOCATION:Europe/Berlin
X-PROLEPTIC-TZNAME:LMT
BEGIN:STANDARD
TZNAME:CET
TZOFFSETFROM:+005328
TZOFFSETTO:+0100
DTSTART:18930401T000000
END:STANDARD
BEGIN:DAYLIGHT
TZNAME:CEST
TZOFFSETFROM:+0100
TZOFFSETTO:+0200
DTSTART:19160430T230000
RDATE:19400401T020000
RDATE:19430329T020000
RDATE:19460414T020000
RDATE:19470406T030000
RDATE:19480418T020000
RDATE:19490410T020000
RDATE:19800406T020000
END:DAYLIGHT
BEGIN:STANDARD
TZNAME:CET
TZOFFSETFROM:+0200
TZOFFSETTO:+0100
DTSTART:19161001T010000
RDATE:19421102T030000
RDATE:19431004T030000
RDATE:19441002T030000
RDATE:19451118T030000
RDATE:19461007T030000
END:STANDARD
BEGIN:DAYLIGHT
TZNAME:CEST
TZOFFSETFROM:+0100
TZOFFSETTO:+0200
DTSTART:19170416T020000
RRULE:FREQ=YEARLY;UNTIL=19180415T010000Z;BYMONTH=4;BYDAY=3MO
END:DAYLIGHT
BEGIN:STANDARD
TZNAME:CET
TZOFFSETFROM:+0200
TZOFFSETTO:+0100
DTSTART:19170917T030000
RRULE:FREQ=YEARLY;UNTIL=19180916T010000Z;BYMONTH=9;BYDAY=3MO
END:STANDARD
BEGIN:DAYLIGHT
TZNAME:CEST
TZOFFSETFROM:+0100
TZOFFSETTO:+0200
DTSTART:19440403T020000
RRULE:FREQ=YEARLY;UNTIL=19450402T010000Z;BYMONTH=4;BYDAY=1MO
END:DAYLIGHT
BEGIN:DAYLIGHT
TZNAME:CEMT
TZOFFSETFROM:+0200
TZOFFSETTO:+0300
DTSTART:19450524T020000
RDATE:19470511T030000
END:DAYLIGHT
BEGIN:DAYLIGHT
TZNAME:CEST
TZOFFSETFROM:+0300
TZOFFSETTO:+0200
DTSTART:19450924T030000
RDATE:19470629T030000
END:DAYLIGHT
BEGIN:STANDARD
TZNAME:CET
TZOFFSETFROM:+0100
TZOFFSETTO:+0100
DTSTART:19460101T000000
RDATE:19800101T000000
END:STANDARD
BEGIN:STANDARD
TZNAME:CET
TZOFFSETFROM:+0200
TZOFFSETTO:+0100
DTSTART:19471005T030000
RRULE:FREQ=YEARLY;UNTIL=19491002T010000Z;BYMONTH=10;BYDAY=1SU
END:STANDARD
BEGIN:STANDARD
TZNAME:CET
TZOFFSETFROM:+0200
TZOFFSETTO:+0100
DTSTART:19800928T030000
RRULE:FREQ=YEARLY;UNTIL=19950924T010000Z;BYMONTH=9;BYDAY=-1SU
END:STANDARD
BEGIN:DAYLIGHT
TZNAME:CEST
TZOFFSETFROM:+0100
TZOFFSETTO:+0200
DTSTART:19810329T020000
RRULE:FREQ=YEARLY;BYMONTH=3;BYDAY=-1SU
END:DAYLIGHT
BEGIN:STANDARD
TZNAME:CET
TZOFFSETFROM:+0200
TZOFFSETTO:+0100
DTSTART:19961027T030000
RRULE:FREQ=YEARLY;BYMONTH=10;BYDAY=-1SU
END:STANDARD
END:VTIMEZONE
BEGIN:VEVENT
DTSTAMP:20260425T020341Z
DTSTART;TZID=Europe/Berlin:20240822T201500
DTEND;TZID=Europe/Berlin:20240822T231500
SUMMARY:O40 2. Liga Gr. 2 Bülach vs Meilen-Männedorf (0)
UID:488320d6-8c65-4a5c-8b41-27e9866a7b27
STATUS:CONFIRMED
LAST-MODIFIED:20240828T091247Z
DESCRIPTION:2. Liga O40 Gruppe 2\nBegegnungs-Nr: 0\nHeim: Bülach\nGast: Meilen-Männedorf\n\nAdresse: Unterweg 51\, 8180 Bülach\n
LOCATION:Unterweg 51\, 8180 Bülach
CATEGORIES:Saison 2024/25
END:VEVENT
BEGIN:VEVENT
DTSTAMP:20260425T020341Z
DTSTART;TZID=Europe/Berlin:20250410T201500
DTEND;TZID=Europe/Berlin:20250410T231500
SUMMARY:O40 2. Liga Gr. 2 Bülach vs Triesen (0)
UID:9d900f31-57f8-4183-a2b2-228dbd9e6d5c
STATUS:CONFIRMED
LAST-MODIFIED:20250423T070230Z
DESCRIPTION:2. Liga O40 Gruppe 2\nBegegnungs-Nr: 0\nHeim: Bülach\nGast: Triesen\n\nAdresse: Unterweg 51\, 8180 Bülach\n
LOCATION:Unterweg 51\, 8180 Bülach
CATEGORIES:Saison 2024/25
END:VEVENT
BEGIN:VEVENT
DTSTAMP:20260425T020341Z
DTSTART;TZID=Europe/Berlin:20250306T201500
DTEND;TZID=Europe/Berlin:20250306T231500
SUMMARY:O40 2. Liga Gr. 2 Bülach vs Rapperswil-Jona (0)
UID:57d60384-e3df-4f7d-88da-b2a49c5ff53b
STATUS:CONFIRMED
LAST-MODIFIED:20250307T082902Z
DESCRIPTION:2. Liga O40 Gruppe 2\nBegegnungs-Nr: 0\nHeim: Bülach\nGast: Rapperswil-Jona\n\nAdresse: Unterweg 51\, 8180 Bülach\n
LOCATION:Unterweg 51\, 8180 Bülach
CATEGORIES:Saison 2024/25
END:VEVENT
BEGIN:VEVENT
DTSTAMP:20260425T020341Z
DTSTART;TZID=Europe/Berlin:20250424T201500
DTEND;TZID=Europe/Berlin:20250424T231500
SUMMARY:O40 2. Liga Gr. 2 Bülach vs Chur II (0)
UID:0e83b19b-1745-4e3a-9931-0f8ced22e0fb
STATUS:CONFIRMED
LAST-MODIFIED:20250428T142157Z
DESCRIPTION:2. Liga O40 Gruppe 2\nBegegnungs-Nr: 0\nHeim: Bülach\nGast: Chur II\n\nAdresse: Unterweg 51\, 8180 Bülach\n
LOCATION:Unterweg 51\, 8180 Bülach
CATEGORIES:Saison 2024/25
END:VEVENT
BEGIN:VEVENT
DTSTAMP:20260425T020341Z
DTSTART;TZID=Europe/Berlin:20250116T201500
DTEND;TZID=Europe/Berlin:20250116T231500
SUMMARY:O40 2. Liga Gr. 2 Bülach vs Affoltern A/A (0)
UID:162e995c-2ac5-499e-a0f3-50d991d57a9e
STATUS:CONFIRMED
LAST-MODIFIED:20250117T101743Z
DESCRIPTION:2. Liga O40 Gruppe 2\nBegegnungs-Nr: 0\nHeim: Bülach\nGast: Affoltern A/A\n\nAdresse: Unterweg 51\, 8180 Bülach\n
LOCATION:Unterweg 51\, 8180 Bülach
CATEGORIES:Saison 2024/25
END:VEVENT
BEGIN:VEVENT
DTSTAMP:20260425T020341Z
DTSTART;TZID=Europe/Berlin:20241210T194500
DTEND;TZID=Europe/Berlin:20241210T224500
SUMMARY:O40 2. Liga Gr. 2 Triesen vs Bülach (0)
UID:859b2da5-6975-478e-aa87-274bcd2a25c3
STATUS:CONFIRMED
LAST-MODIFIED:20241211T103448Z
DESCRIPTION:2. Liga O40 Gruppe 2\nBegegnungs-Nr: 0\nHeim: Triesen\nGast: Bülach\n\nAdresse: Gässle 12\, 9495 Triesen\n
LOCATION:Gässle 12\, 9495 Triesen
CATEGORIES:Saison 2024/25
END:VEVENT
BEGIN:VEVENT
DTSTAMP:20260425T020341Z
DTSTART;TZID=Europe/Berlin:20241129T193000
DTEND;TZID=Europe/Berlin:20241129T223000
SUMMARY:O40 2. Liga Gr. 2 Rapperswil-Jona vs Bülach (0)
UID:f9953557-2627-43b9-b5bb-c8dc79cbc874
STATUS:CONFIRMED
LAST-MODIFIED:20241205T130133Z
DESCRIPTION:2. Liga O40 Gruppe 2\nBegegnungs-Nr: 0\nHeim: Rapperswil-Jona\nGast: Bülach\n\nAdresse: Kreuzstrasse 43\, 8640 Rapperswil\n
LOCATION:Kreuzstrasse 43\, 8640 Rapperswil
CATEGORIES:Saison 2024/25
END:VEVENT
BEGIN:VEVENT
DTSTAMP:20260425T020341Z
DTSTART;TZID=Europe/Berlin:20241021T200000
DTEND;TZID=Europe/Berlin:20241021T230000
SUMMARY:O40 2. Liga Gr. 2 Chur II vs Bülach (0)
UID:8dd260ad-62d6-47d3-aa5c-ee554cf95375
STATUS:CONFIRMED
LAST-MODIFIED:20241023T082025Z
DESCRIPTION:2. Liga O40 Gruppe 2\nBegegnungs-Nr: 0\nHeim: Chur II\nGast: Bülach\n\nAdresse: Sandstr. 35\, 7000 Chur\n
LOCATION:Sandstr. 35\, 7000 Chur
CATEGORIES:Saison 2024/25
END:VEVENT
BEGIN:VEVENT
DTSTAMP:20260425T020341Z
DTSTART;TZID=Europe/Berlin:20240924T193000
DTEND;TZID=Europe/Berlin:20240924T223000
SUMMARY:O40 2. Liga Gr. 2 Affoltern A/A vs Bülach (0)
UID:89c14d7d-3bd5-47be-9fcc-1408a00ede45
STATUS:CONFIRMED
LAST-MODIFIED:20240926T113724Z
DESCRIPTION:2. Liga O40 Gruppe 2\nBegegnungs-Nr: 0\nHeim: Affoltern A/A\nGast: Bülach\n\nAdresse: Butzenstrasse 8\, 8910 Affoltern am Albis\n
LOCATION:Butzenstrasse 8\, 8910 Affoltern am Albis
CATEGORIES:Saison 2024/25
END:VEVENT
BEGIN:VEVENT
DTSTAMP:20260425T020341Z
DTSTART;TZID=Europe/Berlin:20250110T194500
DTEND;TZID=Europe/Berlin:20250110T224500
SUMMARY:O40 2. Liga Gr. 2 Meilen-Männedorf vs Bülach (0)
UID:11185609-cb8f-434c-b2d4-52ccd61c9267
STATUS:CONFIRMED
LAST-MODIFIED:20250114T153535Z
DESCRIPTION:2. Liga O40 Gruppe 2\nBegegnungs-Nr: 0\nHeim: Meilen-Männedorf\nGast: Bülach\n\nAdresse: Schulstrasse 10\, 8708 Männedorf\n
LOCATION:Schulstrasse 10\, 8708 Männedorf
CATEGORIES:Saison 2024/25
END:VEVENT
END:VCALENDAR
