BEGIN:VCALENDAR
PRODID:-//nuDatenautomaten//framework iCal4j //DE
VERSION:2.0
CALSCALE:GREGORIAN
BEGIN:VTIMEZONE
TZID:Europe/Berlin
LAST-MODIFIED:20260306T231828Z
TZURL:https://www.tzurl.org/zoneinfo/Europe/Berlin
X-LIC-LOCATION:Europe/Berlin
X-PROLEPTIC-TZNAME:LMT
BEGIN:STANDARD
TZNAME:CET
TZOFFSETFROM:+005328
TZOFFSETTO:+0100
DTSTART:18930401T000000
END:STANDARD
BEGIN:DAYLIGHT
TZNAME:CEST
TZOFFSETFROM:+0100
TZOFFSETTO:+0200
DTSTART:19160430T230000
RDATE:19400401T020000
RDATE:19430329T020000
RDATE:19460414T020000
RDATE:19470406T030000
RDATE:19480418T020000
RDATE:19490410T020000
RDATE:19800406T020000
END:DAYLIGHT
BEGIN:STANDARD
TZNAME:CET
TZOFFSETFROM:+0200
TZOFFSETTO:+0100
DTSTART:19161001T010000
RDATE:19421102T030000
RDATE:19431004T030000
RDATE:19441002T030000
RDATE:19451118T030000
RDATE:19461007T030000
END:STANDARD
BEGIN:DAYLIGHT
TZNAME:CEST
TZOFFSETFROM:+0100
TZOFFSETTO:+0200
DTSTART:19170416T020000
RRULE:FREQ=YEARLY;UNTIL=19180415T010000Z;BYMONTH=4;BYDAY=3MO
END:DAYLIGHT
BEGIN:STANDARD
TZNAME:CET
TZOFFSETFROM:+0200
TZOFFSETTO:+0100
DTSTART:19170917T030000
RRULE:FREQ=YEARLY;UNTIL=19180916T010000Z;BYMONTH=9;BYDAY=3MO
END:STANDARD
BEGIN:DAYLIGHT
TZNAME:CEST
TZOFFSETFROM:+0100
TZOFFSETTO:+0200
DTSTART:19440403T020000
RRULE:FREQ=YEARLY;UNTIL=19450402T010000Z;BYMONTH=4;BYDAY=1MO
END:DAYLIGHT
BEGIN:DAYLIGHT
TZNAME:CEMT
TZOFFSETFROM:+0200
TZOFFSETTO:+0300
DTSTART:19450524T020000
RDATE:19470511T030000
END:DAYLIGHT
BEGIN:DAYLIGHT
TZNAME:CEST
TZOFFSETFROM:+0300
TZOFFSETTO:+0200
DTSTART:19450924T030000
RDATE:19470629T030000
END:DAYLIGHT
BEGIN:STANDARD
TZNAME:CET
TZOFFSETFROM:+0100
TZOFFSETTO:+0100
DTSTART:19460101T000000
RDATE:19800101T000000
END:STANDARD
BEGIN:STANDARD
TZNAME:CET
TZOFFSETFROM:+0200
TZOFFSETTO:+0100
DTSTART:19471005T030000
RRULE:FREQ=YEARLY;UNTIL=19491002T010000Z;BYMONTH=10;BYDAY=1SU
END:STANDARD
BEGIN:STANDARD
TZNAME:CET
TZOFFSETFROM:+0200
TZOFFSETTO:+0100
DTSTART:19800928T030000
RRULE:FREQ=YEARLY;UNTIL=19950924T010000Z;BYMONTH=9;BYDAY=-1SU
END:STANDARD
BEGIN:DAYLIGHT
TZNAME:CEST
TZOFFSETFROM:+0100
TZOFFSETTO:+0200
DTSTART:19810329T020000
RRULE:FREQ=YEARLY;BYMONTH=3;BYDAY=-1SU
END:DAYLIGHT
BEGIN:STANDARD
TZNAME:CET
TZOFFSETFROM:+0200
TZOFFSETTO:+0100
DTSTART:19961027T030000
RRULE:FREQ=YEARLY;BYMONTH=10;BYDAY=-1SU
END:STANDARD
END:VTIMEZONE
BEGIN:VEVENT
DTSTAMP:20260424T231841Z
DTSTART;TZID=Europe/Berlin:20250406T110000
DTEND;TZID=Europe/Berlin:20250406T140000
SUMMARY:HE NLC Gr. 4 Wetzikon vs Affoltern A/A (27)
UID:a1f90f24-5dd0-4e70-83b4-77ba3e5de79a
STATUS:CONFIRMED
LAST-MODIFIED:20250408T102632Z
DESCRIPTION:Herren Nationalliga C Gruppe 4\nBegegnungs-Nr: 27\nHeim: Wetzikon\nGast: Affoltern A/A\n\nAdresse: Bühlstrasse 26\, 8620 Wetzikon\n
LOCATION:Bühlstrasse 26\, 8620 Wetzikon
CATEGORIES:Saison 2024/25
END:VEVENT
BEGIN:VEVENT
DTSTAMP:20260424T231841Z
DTSTART;TZID=Europe/Berlin:20250302T110000
DTEND;TZID=Europe/Berlin:20250302T140000
SUMMARY:HE NLC Gr. 4 Wetzikon vs Zürich-Affoltern (15)
UID:05c5bf53-24d3-4fd9-9861-94bfc09bd7cb
STATUS:CONFIRMED
LAST-MODIFIED:20250303T071408Z
DESCRIPTION:Herren Nationalliga C Gruppe 4\nBegegnungs-Nr: 15\nHeim: Wetzikon\nGast: Zürich-Affoltern\n\nAdresse: Bühlstrasse 26\, 8620 Wetzikon\n
LOCATION:Bühlstrasse 26\, 8620 Wetzikon
CATEGORIES:Saison 2024/25
END:VEVENT
BEGIN:VEVENT
DTSTAMP:20260424T231841Z
DTSTART;TZID=Europe/Berlin:20250405T191500
DTEND;TZID=Europe/Berlin:20250405T221500
SUMMARY:HE NLC Gr. 4 Wetzikon vs Rapid Luzern III (22)
UID:7d11f75c-9270-4ffe-b5b1-7fbbe487252a
STATUS:CONFIRMED
LAST-MODIFIED:20250409T124748Z
DESCRIPTION:Herren Nationalliga C Gruppe 4\nBegegnungs-Nr: 22\nHeim: Wetzikon\nGast: Rapid Luzern III\n\nAdresse: Bühlstrasse 26\, 8620 Wetzikon\n
LOCATION:Bühlstrasse 26\, 8620 Wetzikon
CATEGORIES:Saison 2024/25
END:VEVENT
BEGIN:VEVENT
DTSTAMP:20260424T231841Z
DTSTART;TZID=Europe/Berlin:20240907T191500
DTEND;TZID=Europe/Berlin:20240907T221500
SUMMARY:HE NLC Gr. 4 Wetzikon vs Horgen (2)
UID:566a4c9f-1885-40bd-bf1c-78e23667914d
STATUS:CONFIRMED
LAST-MODIFIED:20240910T080511Z
DESCRIPTION:Herren Nationalliga C Gruppe 4\nBegegnungs-Nr: 2\nHeim: Wetzikon\nGast: Horgen\n\nAdresse: Bahnhofstrasse 126\, 8620 Wetzikon\n
LOCATION:Bahnhofstrasse 126\, 8620 Wetzikon
CATEGORIES:Saison 2024/25
END:VEVENT
BEGIN:VEVENT
DTSTAMP:20260424T231841Z
DTSTART;TZID=Europe/Berlin:20241207T150000
DTEND;TZID=Europe/Berlin:20241207T180000
SUMMARY:HE NLC Gr. 4 Wetzikon vs Young Stars ZH III (26)
UID:01414df0-0d7a-4058-ba00-0b39c81f2502
STATUS:CONFIRMED
LAST-MODIFIED:20241209T111947Z
DESCRIPTION:Herren Nationalliga C Gruppe 4\nBegegnungs-Nr: 26\nHeim: Wetzikon\nGast: Young Stars ZH III\n\nAdresse: Bahnhofstrasse 126\, 8620 Wetzikon\n
LOCATION:Bahnhofstrasse 126\, 8620 Wetzikon
CATEGORIES:Saison 2024/25
END:VEVENT
BEGIN:VEVENT
DTSTAMP:20260424T231841Z
DTSTART;TZID=Europe/Berlin:20241116T191500
DTEND;TZID=Europe/Berlin:20241116T221500
SUMMARY:HE NLC Gr. 4 Wetzikon vs Neuhausen II (21)
UID:fac12894-b0e1-4ee1-bdd8-a6818b88f073
STATUS:CONFIRMED
LAST-MODIFIED:20241118T112142Z
DESCRIPTION:Herren Nationalliga C Gruppe 4\nBegegnungs-Nr: 21\nHeim: Wetzikon\nGast: Neuhausen II\n\nAdresse: Bahnhofstrasse 126\, 8620 Wetzikon\n
LOCATION:Bahnhofstrasse 126\, 8620 Wetzikon
CATEGORIES:Saison 2024/25
END:VEVENT
BEGIN:VEVENT
DTSTAMP:20260424T231841Z
DTSTART;TZID=Europe/Berlin:20241019T110000
DTEND;TZID=Europe/Berlin:20241019T140000
SUMMARY:HE NLC Gr. 4 Wetzikon vs Wädenswil (12)
UID:1b80965f-fe65-4357-81ea-d48770c1823b
STATUS:CONFIRMED
LAST-MODIFIED:20241021T101032Z
DESCRIPTION:Herren Nationalliga C Gruppe 4\nBegegnungs-Nr: 12\nHeim: Wetzikon\nGast: Wädenswil\n\nAdresse: Bahnhofstrasse 126\, 8620 Wetzikon\n
LOCATION:Bahnhofstrasse 126\, 8620 Wetzikon
CATEGORIES:Saison 2024/25
END:VEVENT
BEGIN:VEVENT
DTSTAMP:20260424T231841Z
DTSTART;TZID=Europe/Berlin:20250510T000000
DTEND;TZID=Europe/Berlin:20250510T030000
SUMMARY:HE NLC Play-Off 1/2-Final Wetzikon vs Wädenswil (4)
UID:9e72f83e-b1b6-4e98-b1d5-a21b1049d04e
STATUS:CONFIRMED
LAST-MODIFIED:20250502T105657Z
DESCRIPTION:Herren Nationalliga C Play-Off 1/2-Final\nBegegnungs-Nr: 4\nHeim: Wetzikon\nGast: Wädenswil\n
LOCATION:
CATEGORIES:Saison 2024/25
END:VEVENT
BEGIN:VEVENT
DTSTAMP:20260424T231841Z
DTSTART;TZID=Europe/Berlin:20250411T000000
DTEND;TZID=Europe/Berlin:20250411T030000
SUMMARY:HE NLC Play-Off 1/4-Final Wetzikon vs Sarnen (3)
UID:58eefcd7-1ed7-4ff7-9944-46a5185de492
STATUS:CONFIRMED
LAST-MODIFIED:20250411T104707Z
DESCRIPTION:Herren Nationalliga C Play-Off 1/4-Final\nBegegnungs-Nr: 3\nHeim: Wetzikon\nGast: Sarnen\n
LOCATION:
CATEGORIES:Saison 2024/25
END:VEVENT
BEGIN:VEVENT
DTSTAMP:20260424T231841Z
DTSTART;TZID=Europe/Berlin:20250518T140000
DTEND;TZID=Europe/Berlin:20250518T170000
SUMMARY:HE NLC Play-Off Final Mandement vs Wetzikon (1)
UID:f45da64a-7617-41d0-87ac-e1bc72622105
STATUS:CONFIRMED
LAST-MODIFIED:20250604T112117Z
DESCRIPTION:Herren Nationalliga C Play-Off Final\nBegegnungs-Nr: 1\nHeim: Mandement\nGast: Wetzikon\n
LOCATION:
CATEGORIES:Saison 2024/25
END:VEVENT
BEGIN:VEVENT
DTSTAMP:20260424T231841Z
DTSTART;TZID=Europe/Berlin:20250115T200000
DTEND;TZID=Europe/Berlin:20250115T230000
SUMMARY:HE NLC Gr. 4 Horgen vs Wetzikon (2)
UID:4aaca306-e4d4-494b-ad44-13535223adb0
STATUS:CONFIRMED
LAST-MODIFIED:20250117T085954Z
DESCRIPTION:Herren Nationalliga C Gruppe 4\nBegegnungs-Nr: 2\nHeim: Horgen\nGast: Wetzikon\n\nAdresse: Seestrasse 110\, 8810 Horgen\n
LOCATION:Seestrasse 110\, 8810 Horgen
CATEGORIES:Saison 2024/25
END:VEVENT
BEGIN:VEVENT
DTSTAMP:20260424T231841Z
DTSTART;TZID=Europe/Berlin:20250201T190000
DTEND;TZID=Europe/Berlin:20250201T220000
SUMMARY:HE NLC Gr. 4 Wädenswil vs Wetzikon (8)
UID:70bc4be7-09af-4133-b913-060771aa9238
STATUS:CONFIRMED
LAST-MODIFIED:20250203T093218Z
DESCRIPTION:Herren Nationalliga C Gruppe 4\nBegegnungs-Nr: 8\nHeim: Wädenswil\nGast: Wetzikon\n\nAdresse: Fuhrstrasse 16b\, 8820 Wädenswil\n
LOCATION:Fuhrstrasse 16b\, 8820 Wädenswil
CATEGORIES:Saison 2024/25
END:VEVENT
BEGIN:VEVENT
DTSTAMP:20260424T231841Z
DTSTART;TZID=Europe/Berlin:20250308T180000
DTEND;TZID=Europe/Berlin:20250308T210000
SUMMARY:HE NLC Gr. 4 Neuhausen II vs Wetzikon (17)
UID:f409d90c-10fa-4f46-b9e6-51eaf293eb1c
STATUS:CONFIRMED
LAST-MODIFIED:20250310T103938Z
DESCRIPTION:Herren Nationalliga C Gruppe 4\nBegegnungs-Nr: 17\nHeim: Neuhausen II\nGast: Wetzikon\n\nAdresse: Ebnatstrasse 35\, 8200 Schaffhausen\n
LOCATION:Ebnatstrasse 35\, 8200 Schaffhausen
CATEGORIES:Saison 2024/25
END:VEVENT
BEGIN:VEVENT
DTSTAMP:20260424T231841Z
DTSTART;TZID=Europe/Berlin:20250208T150000
DTEND;TZID=Europe/Berlin:20250208T180000
SUMMARY:HE NLC Gr. 4 Young Stars ZH III vs Wetzikon (10)
UID:c63c39e3-eb55-4d21-91c2-253ba8d077f6
STATUS:CONFIRMED
LAST-MODIFIED:20250210T073723Z
DESCRIPTION:Herren Nationalliga C Gruppe 4\nBegegnungs-Nr: 10\nHeim: Young Stars ZH III\nGast: Wetzikon\n\nAdresse: Seefeldstrasse 93\, 8008 Zürich\n
LOCATION:Seefeldstrasse 93\, 8008 Zürich
CATEGORIES:Saison 2024/25
END:VEVENT
BEGIN:VEVENT
DTSTAMP:20260424T231841Z
DTSTART;TZID=Europe/Berlin:20240921T100000
DTEND;TZID=Europe/Berlin:20240921T130000
SUMMARY:HE NLC Gr. 4 Affoltern A/A vs Wetzikon (7)
UID:cc4ed8f2-25a7-46e5-949c-4195fe642872
STATUS:CONFIRMED
LAST-MODIFIED:20240926T070814Z
DESCRIPTION:Herren Nationalliga C Gruppe 4\nBegegnungs-Nr: 7\nHeim: Affoltern A/A\nGast: Wetzikon\n\nAdresse: Butzenstr. 2\, 8910 Affoltern am Albis\n
LOCATION:Butzenstr. 2\, 8910 Affoltern am Albis
CATEGORIES:Saison 2024/25
END:VEVENT
BEGIN:VEVENT
DTSTAMP:20260424T231841Z
DTSTART;TZID=Europe/Berlin:20241109T130000
DTEND;TZID=Europe/Berlin:20241109T160000
SUMMARY:HE NLC Gr. 4 Rapid Luzern III vs Wetzikon (18)
UID:53e04155-2839-4d5d-a8cd-7481631233b7
STATUS:CONFIRMED
LAST-MODIFIED:20241111T161348Z
DESCRIPTION:Herren Nationalliga C Gruppe 4\nBegegnungs-Nr: 18\nHeim: Rapid Luzern III\nGast: Wetzikon\n\nAdresse: Kreuzbuchstr. 60\, 6006 Luzern\n
LOCATION:Kreuzbuchstr. 60\, 6006 Luzern
CATEGORIES:Saison 2024/25
END:VEVENT
BEGIN:VEVENT
DTSTAMP:20260424T231841Z
DTSTART;TZID=Europe/Berlin:20241026T180000
DTEND;TZID=Europe/Berlin:20241026T210000
SUMMARY:HE NLC Gr. 4 Zürich-Affoltern vs Wetzikon (15)
UID:b7fd3dbb-631f-4103-822c-9df5c778d26c
STATUS:CONFIRMED
LAST-MODIFIED:20241031T082757Z
DESCRIPTION:Herren Nationalliga C Gruppe 4\nBegegnungs-Nr: 15\nHeim: Zürich-Affoltern\nGast: Wetzikon\n\nAdresse: Rümlangstr. 89\, 8052 Zürich\n
LOCATION:Rümlangstr. 89\, 8052 Zürich
CATEGORIES:Saison 2024/25
END:VEVENT
BEGIN:VEVENT
DTSTAMP:20260424T231841Z
DTSTART;TZID=Europe/Berlin:20250412T000000
DTEND;TZID=Europe/Berlin:20250412T030000
SUMMARY:HE NLC Play-Off 1/4-Final Sarnen vs Wetzikon (7)
UID:4e2fa803-4bca-422a-8cdc-977ec0cd4b51
STATUS:CONFIRMED
LAST-MODIFIED:20250411T104632Z
DESCRIPTION:Herren Nationalliga C Play-Off 1/4-Final\nBegegnungs-Nr: 7\nHeim: Sarnen\nGast: Wetzikon\n
LOCATION:
CATEGORIES:Saison 2024/25
END:VEVENT
BEGIN:VEVENT
DTSTAMP:20260424T231841Z
DTSTART;TZID=Europe/Berlin:20250509T000000
DTEND;TZID=Europe/Berlin:20250509T030000
SUMMARY:HE NLC Play-Off 1/2-Final Wädenswil vs Wetzikon (2)
UID:8d832b63-3cad-4ad4-82db-bd54087fb5b7
STATUS:CONFIRMED
LAST-MODIFIED:20250502T105657Z
DESCRIPTION:Herren Nationalliga C Play-Off 1/2-Final\nBegegnungs-Nr: 2\nHeim: Wädenswil\nGast: Wetzikon\n
LOCATION:
CATEGORIES:Saison 2024/25
END:VEVENT
END:VCALENDAR
