BEGIN:VCALENDAR
PRODID:-//nuDatenautomaten//framework iCal4j //DE
VERSION:2.0
CALSCALE:GREGORIAN
BEGIN:VTIMEZONE
TZID:Europe/Berlin
LAST-MODIFIED:20260306T231828Z
TZURL:https://www.tzurl.org/zoneinfo/Europe/Berlin
X-LIC-LOCATION:Europe/Berlin
X-PROLEPTIC-TZNAME:LMT
BEGIN:STANDARD
TZNAME:CET
TZOFFSETFROM:+005328
TZOFFSETTO:+0100
DTSTART:18930401T000000
END:STANDARD
BEGIN:DAYLIGHT
TZNAME:CEST
TZOFFSETFROM:+0100
TZOFFSETTO:+0200
DTSTART:19160430T230000
RDATE:19400401T020000
RDATE:19430329T020000
RDATE:19460414T020000
RDATE:19470406T030000
RDATE:19480418T020000
RDATE:19490410T020000
RDATE:19800406T020000
END:DAYLIGHT
BEGIN:STANDARD
TZNAME:CET
TZOFFSETFROM:+0200
TZOFFSETTO:+0100
DTSTART:19161001T010000
RDATE:19421102T030000
RDATE:19431004T030000
RDATE:19441002T030000
RDATE:19451118T030000
RDATE:19461007T030000
END:STANDARD
BEGIN:DAYLIGHT
TZNAME:CEST
TZOFFSETFROM:+0100
TZOFFSETTO:+0200
DTSTART:19170416T020000
RRULE:FREQ=YEARLY;UNTIL=19180415T010000Z;BYMONTH=4;BYDAY=3MO
END:DAYLIGHT
BEGIN:STANDARD
TZNAME:CET
TZOFFSETFROM:+0200
TZOFFSETTO:+0100
DTSTART:19170917T030000
RRULE:FREQ=YEARLY;UNTIL=19180916T010000Z;BYMONTH=9;BYDAY=3MO
END:STANDARD
BEGIN:DAYLIGHT
TZNAME:CEST
TZOFFSETFROM:+0100
TZOFFSETTO:+0200
DTSTART:19440403T020000
RRULE:FREQ=YEARLY;UNTIL=19450402T010000Z;BYMONTH=4;BYDAY=1MO
END:DAYLIGHT
BEGIN:DAYLIGHT
TZNAME:CEMT
TZOFFSETFROM:+0200
TZOFFSETTO:+0300
DTSTART:19450524T020000
RDATE:19470511T030000
END:DAYLIGHT
BEGIN:DAYLIGHT
TZNAME:CEST
TZOFFSETFROM:+0300
TZOFFSETTO:+0200
DTSTART:19450924T030000
RDATE:19470629T030000
END:DAYLIGHT
BEGIN:STANDARD
TZNAME:CET
TZOFFSETFROM:+0100
TZOFFSETTO:+0100
DTSTART:19460101T000000
RDATE:19800101T000000
END:STANDARD
BEGIN:STANDARD
TZNAME:CET
TZOFFSETFROM:+0200
TZOFFSETTO:+0100
DTSTART:19471005T030000
RRULE:FREQ=YEARLY;UNTIL=19491002T010000Z;BYMONTH=10;BYDAY=1SU
END:STANDARD
BEGIN:STANDARD
TZNAME:CET
TZOFFSETFROM:+0200
TZOFFSETTO:+0100
DTSTART:19800928T030000
RRULE:FREQ=YEARLY;UNTIL=19950924T010000Z;BYMONTH=9;BYDAY=-1SU
END:STANDARD
BEGIN:DAYLIGHT
TZNAME:CEST
TZOFFSETFROM:+0100
TZOFFSETTO:+0200
DTSTART:19810329T020000
RRULE:FREQ=YEARLY;BYMONTH=3;BYDAY=-1SU
END:DAYLIGHT
BEGIN:STANDARD
TZNAME:CET
TZOFFSETFROM:+0200
TZOFFSETTO:+0100
DTSTART:19961027T030000
RRULE:FREQ=YEARLY;BYMONTH=10;BYDAY=-1SU
END:STANDARD
END:VTIMEZONE
BEGIN:VEVENT
DTSTAMP:20260425T021331Z
DTSTART;TZID=Europe/Berlin:20241125T194500
DTEND;TZID=Europe/Berlin:20241125T224500
SUMMARY:Ligue 1 Ph.A Versoix vs Châtelaine (41)
UID:d0b34da7-c3f4-4cdd-af0f-816ec3ff8712
STATUS:CONFIRMED
LAST-MODIFIED:20241126T181022Z
DESCRIPTION:1ère ligue Homme Gr. unique Phase A\nBegegnungs-Nr: 41\nHeim: Versoix\nGast: Châtelaine\n
LOCATION:
CATEGORIES:Saison 2024/25
END:VEVENT
BEGIN:VEVENT
DTSTAMP:20260425T021331Z
DTSTART;TZID=Europe/Berlin:20241111T194500
DTEND;TZID=Europe/Berlin:20241111T224500
SUMMARY:Ligue 1 Ph.A Versoix vs Châtelaine II (31)
UID:ad0d89f9-5bae-4a21-a2bf-ee98cda53ec3
STATUS:CONFIRMED
LAST-MODIFIED:20241112T221206Z
DESCRIPTION:1ère ligue Homme Gr. unique Phase A\nBegegnungs-Nr: 31\nHeim: Versoix\nGast: Châtelaine II\n
LOCATION:
CATEGORIES:Saison 2024/25
END:VEVENT
BEGIN:VEVENT
DTSTAMP:20260425T021331Z
DTSTART;TZID=Europe/Berlin:20240909T194500
DTEND;TZID=Europe/Berlin:20240909T224500
SUMMARY:Ligue 1 Ph.A Versoix vs Châtelaine III (1)
UID:23da8d0e-96b7-4711-92dc-a661c28d27f8
STATUS:CONFIRMED
LAST-MODIFIED:20240910T071741Z
DESCRIPTION:1ère ligue Homme Gr. unique Phase A\nBegegnungs-Nr: 1\nHeim: Versoix\nGast: Châtelaine III\n
LOCATION:
CATEGORIES:Saison 2024/25
END:VEVENT
BEGIN:VEVENT
DTSTAMP:20260425T021331Z
DTSTART;TZID=Europe/Berlin:20241014T194500
DTEND;TZID=Europe/Berlin:20241014T224500
SUMMARY:Ligue 1 Ph.A Versoix vs UGS-Chênois III (21)
UID:bd6c5139-d0e4-49c2-ac84-eca33d4f1134
STATUS:CONFIRMED
LAST-MODIFIED:20241015T121936Z
DESCRIPTION:1ère ligue Homme Gr. unique Phase A\nBegegnungs-Nr: 21\nHeim: Versoix\nGast: UGS-Chênois III\n
LOCATION:
CATEGORIES:Saison 2024/25
END:VEVENT
BEGIN:VEVENT
DTSTAMP:20260425T021331Z
DTSTART;TZID=Europe/Berlin:20241028T194500
DTEND;TZID=Europe/Berlin:20241028T224500
SUMMARY:Ligue 1 Ph.A Versoix vs UGS-Chênois IV (11)
UID:ade85221-6fe7-4927-9001-04a3f975b2f2
STATUS:CONFIRMED
LAST-MODIFIED:20241029T175829Z
DESCRIPTION:1ère ligue Homme Gr. unique Phase A\nBegegnungs-Nr: 11\nHeim: Versoix\nGast: UGS-Chênois IV\n
LOCATION:
CATEGORIES:Saison 2024/25
END:VEVENT
BEGIN:VEVENT
DTSTAMP:20260425T021331Z
DTSTART;TZID=Europe/Berlin:20250120T194500
DTEND;TZID=Europe/Berlin:20250120T224500
SUMMARY:Ligue 1 Ph.B Versoix vs UGS-Chênois IV (9)
UID:a6a9aed0-2681-405a-b353-52f1a4050175
STATUS:CONFIRMED
LAST-MODIFIED:20250121T193629Z
DESCRIPTION:1ère ligue Homme Gr. unique Phase B\nBegegnungs-Nr: 9\nHeim: Versoix\nGast: UGS-Chênois IV\n
LOCATION:
CATEGORIES:Saison 2024/25
END:VEVENT
BEGIN:VEVENT
DTSTAMP:20260425T021331Z
DTSTART;TZID=Europe/Berlin:20250113T200000
DTEND;TZID=Europe/Berlin:20250113T230000
SUMMARY:Ligue 1 Ph.B Versoix vs Carouge III (3)
UID:d4b56911-a210-42b5-b073-4e85a26835c9
STATUS:CONFIRMED
LAST-MODIFIED:20250114T102932Z
DESCRIPTION:1ère ligue Homme Gr. unique Phase B\nBegegnungs-Nr: 3\nHeim: Versoix\nGast: Carouge III\n
LOCATION:
CATEGORIES:Saison 2024/25
END:VEVENT
BEGIN:VEVENT
DTSTAMP:20260425T021331Z
DTSTART;TZID=Europe/Berlin:20250317T194500
DTEND;TZID=Europe/Berlin:20250317T224500
SUMMARY:Ligue 1 Ph.B Versoix vs UGS-Chênois III (34)
UID:5eb410dc-4224-43f2-a5b4-0acc959872db
STATUS:CONFIRMED
LAST-MODIFIED:20250409T081045Z
DESCRIPTION:1ère ligue Homme Gr. unique Phase B\nBegegnungs-Nr: 34\nHeim: Versoix\nGast: UGS-Chênois III\n
LOCATION:
CATEGORIES:Saison 2024/25
END:VEVENT
BEGIN:VEVENT
DTSTAMP:20260425T021331Z
DTSTART;TZID=Europe/Berlin:20250210T194500
DTEND;TZID=Europe/Berlin:20250210T224500
SUMMARY:Ligue 1 Ph.B Versoix vs Châtelaine (16)
UID:762de726-35d4-45e2-afdd-7e35a8768e2e
STATUS:CONFIRMED
LAST-MODIFIED:20250211T084851Z
DESCRIPTION:1ère ligue Homme Gr. unique Phase B\nBegegnungs-Nr: 16\nHeim: Versoix\nGast: Châtelaine\n
LOCATION:
CATEGORIES:Saison 2024/25
END:VEVENT
BEGIN:VEVENT
DTSTAMP:20260425T021331Z
DTSTART;TZID=Europe/Berlin:20250510T100000
DTEND;TZID=Europe/Berlin:20250510T130000
SUMMARY:Aufstieg 1. Liga/NLC Gr. B Versoix vs Bern (1)
UID:72d5e087-d47d-47e5-a724-9b75a2ae8413
STATUS:CONFIRMED
LAST-MODIFIED:20250510T105355Z
DESCRIPTION:Aufstieg 1. Liga/NLC Gruppe B\nBegegnungs-Nr: 1\nHeim: Versoix\nGast: Bern\n
LOCATION:
CATEGORIES:Saison 2024/25
END:VEVENT
BEGIN:VEVENT
DTSTAMP:20260425T021331Z
DTSTART;TZID=Europe/Berlin:20250510T160000
DTEND;TZID=Europe/Berlin:20250510T190000
SUMMARY:Aufstieg 1. Liga/NLC Gr. B Versoix vs Entente Pongiste Neuchâteloise (5)
UID:5d9f4f36-48f9-47a1-834b-a99cefe7b079
STATUS:CONFIRMED
LAST-MODIFIED:20250510T164131Z
DESCRIPTION:Aufstieg 1. Liga/NLC Gruppe B\nBegegnungs-Nr: 5\nHeim: Versoix\nGast: Entente Pongiste Neuchâteloise\n
LOCATION:
CATEGORIES:Saison 2024/25
END:VEVENT
BEGIN:VEVENT
DTSTAMP:20260425T021331Z
DTSTART;TZID=Europe/Berlin:20250510T130000
DTEND;TZID=Europe/Berlin:20250510T160000
SUMMARY:Aufstieg 1. Liga/NLC Gr. B Versoix vs Schöftland (3)
UID:e8c13b2d-8c2c-4d61-ac74-5ff572c3a925
STATUS:CONFIRMED
LAST-MODIFIED:20250510T144414Z
DESCRIPTION:Aufstieg 1. Liga/NLC Gruppe B\nBegegnungs-Nr: 3\nHeim: Versoix\nGast: Schöftland\n
LOCATION:
CATEGORIES:Saison 2024/25
END:VEVENT
BEGIN:VEVENT
DTSTAMP:20260425T021331Z
DTSTART;TZID=Europe/Berlin:20241118T194500
DTEND;TZID=Europe/Berlin:20241118T224500
SUMMARY:Ligue 1 Ph.A Carouge III vs Versoix (36)
UID:4905393e-24d0-452a-bbbb-f4a7fd0d4fcc
STATUS:CONFIRMED
LAST-MODIFIED:20241119T100240Z
DESCRIPTION:1ère ligue Homme Gr. unique Phase A\nBegegnungs-Nr: 36\nHeim: Carouge III\nGast: Versoix\n
LOCATION:
CATEGORIES:Saison 2024/25
END:VEVENT
BEGIN:VEVENT
DTSTAMP:20260425T021331Z
DTSTART;TZID=Europe/Berlin:20240916T194500
DTEND;TZID=Europe/Berlin:20240916T224500
SUMMARY:Ligue 1 Ph.A ZZ-Lancy IV vs Versoix (6)
UID:cc412afd-6fe9-48da-a060-6d333dac969d
STATUS:CONFIRMED
LAST-MODIFIED:20240917T064029Z
DESCRIPTION:1ère ligue Homme Gr. unique Phase A\nBegegnungs-Nr: 6\nHeim: ZZ-Lancy IV\nGast: Versoix\n
LOCATION:
CATEGORIES:Saison 2024/25
END:VEVENT
BEGIN:VEVENT
DTSTAMP:20260425T021331Z
DTSTART;TZID=Europe/Berlin:20240923T194500
DTEND;TZID=Europe/Berlin:20240923T224500
SUMMARY:Ligue 1 Ph.A Mandement II vs Versoix (26)
UID:1b9788b9-bce2-488d-9547-317db939cdf7
STATUS:CONFIRMED
LAST-MODIFIED:20240924T072347Z
DESCRIPTION:1ère ligue Homme Gr. unique Phase A\nBegegnungs-Nr: 26\nHeim: Mandement II\nGast: Versoix\n
LOCATION:
CATEGORIES:Saison 2024/25
END:VEVENT
BEGIN:VEVENT
DTSTAMP:20260425T021331Z
DTSTART;TZID=Europe/Berlin:20241007T194500
DTEND;TZID=Europe/Berlin:20241007T224500
SUMMARY:Ligue 1 Ph.A Silver Star II vs Versoix (16)
UID:f3a87e9a-9358-498f-b577-158c2a8bd709
STATUS:CONFIRMED
LAST-MODIFIED:20241008T070239Z
DESCRIPTION:1ère ligue Homme Gr. unique Phase A\nBegegnungs-Nr: 16\nHeim: Silver Star II\nGast: Versoix\n
LOCATION:
CATEGORIES:Saison 2024/25
END:VEVENT
BEGIN:VEVENT
DTSTAMP:20260425T021331Z
DTSTART;TZID=Europe/Berlin:20250407T194500
DTEND;TZID=Europe/Berlin:20250407T224500
SUMMARY:Ligue 1 Ph.B Mandement III vs Versoix (43)
UID:97c02ea1-adf5-4c74-bf9a-da3f6a4311a1
STATUS:CONFIRMED
LAST-MODIFIED:20250410T142522Z
DESCRIPTION:1ère ligue Homme Gr. unique Phase B\nBegegnungs-Nr: 43\nHeim: Mandement III\nGast: Versoix\n\nAdresse: Route de la Gare de Satigny 27A\, 1242 Satigny\n
LOCATION:Route de la Gare de Satigny 27A\, 1242 Satigny
CATEGORIES:Saison 2024/25
END:VEVENT
BEGIN:VEVENT
DTSTAMP:20260425T021331Z
DTSTART;TZID=Europe/Berlin:20250331T194500
DTEND;TZID=Europe/Berlin:20250331T224500
SUMMARY:Ligue 1 Ph.B Bernex II vs Versoix (40)
UID:0c7058d2-20e7-4945-ac69-bb6112f192d8
STATUS:CONFIRMED
LAST-MODIFIED:20250401T072548Z
DESCRIPTION:1ère ligue Homme Gr. unique Phase B\nBegegnungs-Nr: 40\nHeim: Bernex II\nGast: Versoix\n
LOCATION:
CATEGORIES:Saison 2024/25
END:VEVENT
BEGIN:VEVENT
DTSTAMP:20260425T021331Z
DTSTART;TZID=Europe/Berlin:20250310T194500
DTEND;TZID=Europe/Berlin:20250310T224500
SUMMARY:Ligue 1 Ph.B ZZ-Lancy IV vs Versoix (30)
UID:4ebf5d58-95bc-4425-be2d-1e3bcc0ec389
STATUS:CONFIRMED
LAST-MODIFIED:20250311T082754Z
DESCRIPTION:1ère ligue Homme Gr. unique Phase B\nBegegnungs-Nr: 30\nHeim: ZZ-Lancy IV\nGast: Versoix\n
LOCATION:
CATEGORIES:Saison 2024/25
END:VEVENT
BEGIN:VEVENT
DTSTAMP:20260425T021331Z
DTSTART;TZID=Europe/Berlin:20250217T194500
DTEND;TZID=Europe/Berlin:20250217T224500
SUMMARY:Ligue 1 Ph.B Mandement II vs Versoix (22)
UID:95bcb371-dab6-4109-a3da-aae6ae002792
STATUS:CONFIRMED
LAST-MODIFIED:20250218T091035Z
DESCRIPTION:1ère ligue Homme Gr. unique Phase B\nBegegnungs-Nr: 22\nHeim: Mandement II\nGast: Versoix\n\nAdresse: Route de la Gare de Satigny 27A\, 1242 Satigny\n
LOCATION:Route de la Gare de Satigny 27A\, 1242 Satigny
CATEGORIES:Saison 2024/25
END:VEVENT
BEGIN:VEVENT
DTSTAMP:20260425T021331Z
DTSTART;TZID=Europe/Berlin:20250127T194500
DTEND;TZID=Europe/Berlin:20250127T224500
SUMMARY:Ligue 1 Ph.B Silver Star II vs Versoix (15)
UID:55ca0cf3-1417-43e5-8b4d-2f24c923fc9b
STATUS:CONFIRMED
LAST-MODIFIED:20250128T092131Z
DESCRIPTION:1ère ligue Homme Gr. unique Phase B\nBegegnungs-Nr: 15\nHeim: Silver Star II\nGast: Versoix\n
LOCATION:
CATEGORIES:Saison 2024/25
END:VEVENT
END:VCALENDAR
