BEGIN:VCALENDAR
PRODID:-//nuDatenautomaten//framework iCal4j //DE
VERSION:2.0
CALSCALE:GREGORIAN
BEGIN:VTIMEZONE
TZID:Europe/Berlin
LAST-MODIFIED:20260306T231828Z
TZURL:https://www.tzurl.org/zoneinfo/Europe/Berlin
X-LIC-LOCATION:Europe/Berlin
X-PROLEPTIC-TZNAME:LMT
BEGIN:STANDARD
TZNAME:CET
TZOFFSETFROM:+005328
TZOFFSETTO:+0100
DTSTART:18930401T000000
END:STANDARD
BEGIN:DAYLIGHT
TZNAME:CEST
TZOFFSETFROM:+0100
TZOFFSETTO:+0200
DTSTART:19160430T230000
RDATE:19400401T020000
RDATE:19430329T020000
RDATE:19460414T020000
RDATE:19470406T030000
RDATE:19480418T020000
RDATE:19490410T020000
RDATE:19800406T020000
END:DAYLIGHT
BEGIN:STANDARD
TZNAME:CET
TZOFFSETFROM:+0200
TZOFFSETTO:+0100
DTSTART:19161001T010000
RDATE:19421102T030000
RDATE:19431004T030000
RDATE:19441002T030000
RDATE:19451118T030000
RDATE:19461007T030000
END:STANDARD
BEGIN:DAYLIGHT
TZNAME:CEST
TZOFFSETFROM:+0100
TZOFFSETTO:+0200
DTSTART:19170416T020000
RRULE:FREQ=YEARLY;UNTIL=19180415T010000Z;BYMONTH=4;BYDAY=3MO
END:DAYLIGHT
BEGIN:STANDARD
TZNAME:CET
TZOFFSETFROM:+0200
TZOFFSETTO:+0100
DTSTART:19170917T030000
RRULE:FREQ=YEARLY;UNTIL=19180916T010000Z;BYMONTH=9;BYDAY=3MO
END:STANDARD
BEGIN:DAYLIGHT
TZNAME:CEST
TZOFFSETFROM:+0100
TZOFFSETTO:+0200
DTSTART:19440403T020000
RRULE:FREQ=YEARLY;UNTIL=19450402T010000Z;BYMONTH=4;BYDAY=1MO
END:DAYLIGHT
BEGIN:DAYLIGHT
TZNAME:CEMT
TZOFFSETFROM:+0200
TZOFFSETTO:+0300
DTSTART:19450524T020000
RDATE:19470511T030000
END:DAYLIGHT
BEGIN:DAYLIGHT
TZNAME:CEST
TZOFFSETFROM:+0300
TZOFFSETTO:+0200
DTSTART:19450924T030000
RDATE:19470629T030000
END:DAYLIGHT
BEGIN:STANDARD
TZNAME:CET
TZOFFSETFROM:+0100
TZOFFSETTO:+0100
DTSTART:19460101T000000
RDATE:19800101T000000
END:STANDARD
BEGIN:STANDARD
TZNAME:CET
TZOFFSETFROM:+0200
TZOFFSETTO:+0100
DTSTART:19471005T030000
RRULE:FREQ=YEARLY;UNTIL=19491002T010000Z;BYMONTH=10;BYDAY=1SU
END:STANDARD
BEGIN:STANDARD
TZNAME:CET
TZOFFSETFROM:+0200
TZOFFSETTO:+0100
DTSTART:19800928T030000
RRULE:FREQ=YEARLY;UNTIL=19950924T010000Z;BYMONTH=9;BYDAY=-1SU
END:STANDARD
BEGIN:DAYLIGHT
TZNAME:CEST
TZOFFSETFROM:+0100
TZOFFSETTO:+0200
DTSTART:19810329T020000
RRULE:FREQ=YEARLY;BYMONTH=3;BYDAY=-1SU
END:DAYLIGHT
BEGIN:STANDARD
TZNAME:CET
TZOFFSETFROM:+0200
TZOFFSETTO:+0100
DTSTART:19961027T030000
RRULE:FREQ=YEARLY;BYMONTH=10;BYDAY=-1SU
END:STANDARD
END:VTIMEZONE
BEGIN:VEVENT
DTSTAMP:20260419T214357Z
DTSTART;TZID=Europe/Berlin:20241122T201500
DTEND;TZID=Europe/Berlin:20241122T231500
SUMMARY:L3P1 Delémont III vs Hauterive (0)
UID:fdc81017-a6ca-41ee-b2a9-f5b5ac3731c6
STATUS:CONFIRMED
LAST-MODIFIED:20241129T082042Z
DESCRIPTION:3ème ligue phase 1\nBegegnungs-Nr: 0\nHeim: Delémont III\nGast: Hauterive\n\nAdresse: Rue de la Blancherie 4\, 2800 Delémont\n
LOCATION:Rue de la Blancherie 4\, 2800 Delémont
CATEGORIES:Saison 2024/25
END:VEVENT
BEGIN:VEVENT
DTSTAMP:20260419T214357Z
DTSTART;TZID=Europe/Berlin:20241011T201500
DTEND;TZID=Europe/Berlin:20241011T231500
SUMMARY:L3P1 Delémont III vs Omega II (0)
UID:62107b66-4bfe-4e2c-8420-e260aa0b4a26
STATUS:CONFIRMED
LAST-MODIFIED:20241014T074127Z
DESCRIPTION:3ème ligue phase 1\nBegegnungs-Nr: 0\nHeim: Delémont III\nGast: Omega II\n\nAdresse: Rue de la Blancherie 4\, 2800 Delémont\n
LOCATION:Rue de la Blancherie 4\, 2800 Delémont
CATEGORIES:Saison 2024/25
END:VEVENT
BEGIN:VEVENT
DTSTAMP:20260419T214357Z
DTSTART;TZID=Europe/Berlin:20240913T201500
DTEND;TZID=Europe/Berlin:20240913T231500
SUMMARY:L3P1 Delémont III vs Le Locle II (0)
UID:7cca24f9-1c45-491f-a5e5-bc3268614377
STATUS:CONFIRMED
LAST-MODIFIED:20240924T160151Z
DESCRIPTION:3ème ligue phase 1\nBegegnungs-Nr: 0\nHeim: Delémont III\nGast: Le Locle II\n\nAdresse: Rue de la Blancherie 4\, 2800 Delémont\n
LOCATION:Rue de la Blancherie 4\, 2800 Delémont
CATEGORIES:Saison 2024/25
END:VEVENT
BEGIN:VEVENT
DTSTAMP:20260419T214357Z
DTSTART;TZID=Europe/Berlin:20250117T201500
DTEND;TZID=Europe/Berlin:20250117T231500
SUMMARY:L4P2 Delémont III vs Delémont IV (0)
UID:a2b69ef2-053d-4c7f-a9ed-f9805662023f
STATUS:CONFIRMED
LAST-MODIFIED:20250121T142456Z
DESCRIPTION:4ème ligue phase 2\nBegegnungs-Nr: 0\nHeim: Delémont III\nGast: Delémont IV\n\nAdresse: Rue de la Blancherie 4\, 2800 Delémont\n
LOCATION:Rue de la Blancherie 4\, 2800 Delémont
CATEGORIES:Saison 2024/25
END:VEVENT
BEGIN:VEVENT
DTSTAMP:20260419T214357Z
DTSTART;TZID=Europe/Berlin:20250314T201500
DTEND;TZID=Europe/Berlin:20250314T231500
SUMMARY:L4P2 Delémont III vs Cortaillod IV (0)
UID:3ecc7d60-3326-4b4f-bd6d-ef6996bf4cc7
STATUS:CONFIRMED
LAST-MODIFIED:20250317T071546Z
DESCRIPTION:4ème ligue phase 2\nBegegnungs-Nr: 0\nHeim: Delémont III\nGast: Cortaillod IV\n\nAdresse: Rue de la Blancherie 4\, 2800 Delémont\n
LOCATION:Rue de la Blancherie 4\, 2800 Delémont
CATEGORIES:Saison 2024/25
END:VEVENT
BEGIN:VEVENT
DTSTAMP:20260419T214357Z
DTSTART;TZID=Europe/Berlin:20250411T201500
DTEND;TZID=Europe/Berlin:20250411T231500
SUMMARY:L4P2 Delémont III vs Entente Pongiste Neuchâteloise V (0)
UID:b98837e0-157b-4c50-92fe-fe29d002007f
STATUS:CONFIRMED
LAST-MODIFIED:20250413T125629Z
DESCRIPTION:4ème ligue phase 2\nBegegnungs-Nr: 0\nHeim: Delémont III\nGast: Entente Pongiste Neuchâteloise V\n\nAdresse: Rue de la Blancherie 4\, 2800 Delémont\n
LOCATION:Rue de la Blancherie 4\, 2800 Delémont
CATEGORIES:Saison 2024/25
END:VEVENT
BEGIN:VEVENT
DTSTAMP:20260419T214357Z
DTSTART;TZID=Europe/Berlin:20250401T193000
DTEND;TZID=Europe/Berlin:20250401T223000
SUMMARY:L4P2 Delémont III vs Hauterive (0)
UID:0424ba77-8344-4d1e-b596-28b4e87983fe
STATUS:CONFIRMED
LAST-MODIFIED:20250404T050947Z
DESCRIPTION:4ème ligue phase 2\nBegegnungs-Nr: 0\nHeim: Delémont III\nGast: Hauterive\n\nAdresse: Rue de la Blancherie 4\, 2800 Delémont\n
LOCATION:Rue de la Blancherie 4\, 2800 Delémont
CATEGORIES:Saison 2024/25
END:VEVENT
BEGIN:VEVENT
DTSTAMP:20260419T214357Z
DTSTART;TZID=Europe/Berlin:20241206T200000
DTEND;TZID=Europe/Berlin:20241206T230000
SUMMARY:L3P1 Entente Pongiste Neuchâteloise IV vs Delémont III (0)
UID:85be91d8-ce29-4197-8ee0-9865abb072af
STATUS:CONFIRMED
LAST-MODIFIED:20241208T110045Z
DESCRIPTION:3ème ligue phase 1\nBegegnungs-Nr: 0\nHeim: Entente Pongiste Neuchâteloise IV\nGast: Delémont III\n\nAdresse: Allée du 700e\, 2525 Le Landeron\n
LOCATION:Allée du 700e\, 2525 Le Landeron
CATEGORIES:Saison 2024/25
END:VEVENT
BEGIN:VEVENT
DTSTAMP:20260419T214357Z
DTSTART;TZID=Europe/Berlin:20241105T194500
DTEND;TZID=Europe/Berlin:20241105T224500
SUMMARY:L3P1 Tavannes vs Delémont III (0)
UID:14431262-e90d-4d5e-a8bd-0e5ce3298a57
STATUS:CONFIRMED
LAST-MODIFIED:20241106T170337Z
DESCRIPTION:3ème ligue phase 1\nBegegnungs-Nr: 0\nHeim: Tavannes\nGast: Delémont III\n\nAdresse: Sources 1\, 2710 Tavannes\n
LOCATION:Sources 1\, 2710 Tavannes
CATEGORIES:Saison 2024/25
END:VEVENT
BEGIN:VEVENT
DTSTAMP:20260419T214357Z
DTSTART;TZID=Europe/Berlin:20241023T194500
DTEND;TZID=Europe/Berlin:20241023T224500
SUMMARY:L3P1 Val-de-Ruz III vs Delémont III (0)
UID:81c443d6-2e2f-4626-a21a-135c68186ea3
STATUS:CONFIRMED
LAST-MODIFIED:20241025T144652Z
DESCRIPTION:3ème ligue phase 1\nBegegnungs-Nr: 0\nHeim: Val-de-Ruz III\nGast: Delémont III\n\nAdresse: Rue de Chasseral 3\, 2053 Cernier\n
LOCATION:Rue de Chasseral 3\, 2053 Cernier
CATEGORIES:Saison 2024/25
END:VEVENT
BEGIN:VEVENT
DTSTAMP:20260419T214357Z
DTSTART;TZID=Europe/Berlin:20240920T193000
DTEND;TZID=Europe/Berlin:20240920T223000
SUMMARY:L3P1 La Chaux-de-Fonds III vs Delémont III (0)
UID:0c149622-df9d-4e5f-b420-4deb647fa165
STATUS:CONFIRMED
LAST-MODIFIED:20240924T160332Z
DESCRIPTION:3ème ligue phase 1\nBegegnungs-Nr: 0\nHeim: La Chaux-de-Fonds III\nGast: Delémont III\n\nAdresse: Rue du Docteur-Kern 14\, 2300 La Chaux-de-Fonds\n
LOCATION:Rue du Docteur-Kern 14\, 2300 La Chaux-de-Fonds
CATEGORIES:Saison 2024/25
END:VEVENT
BEGIN:VEVENT
DTSTAMP:20260419T214357Z
DTSTART;TZID=Europe/Berlin:20250122T200000
DTEND;TZID=Europe/Berlin:20250122T230000
SUMMARY:L4P2 Omega III vs Delémont III (0)
UID:3563bfc0-9956-4e4b-a20d-206dd661d4f5
STATUS:CONFIRMED
LAST-MODIFIED:20250128T151819Z
DESCRIPTION:4ème ligue phase 2\nBegegnungs-Nr: 0\nHeim: Omega III\nGast: Delémont III\n\nAdresse: Tennisweg 1\, 2504 Biel-Bienne\n
LOCATION:Tennisweg 1\, 2504 Biel-Bienne
CATEGORIES:Saison 2024/25
END:VEVENT
BEGIN:VEVENT
DTSTAMP:20260419T214357Z
DTSTART;TZID=Europe/Berlin:20250221T193000
DTEND;TZID=Europe/Berlin:20250221T223000
SUMMARY:L4P2 Val-de-Ruz V vs Delémont III (0)
UID:bedc8de6-fa15-409e-95e5-e648969b6131
STATUS:CONFIRMED
LAST-MODIFIED:20250224T144410Z
DESCRIPTION:4ème ligue phase 2\nBegegnungs-Nr: 0\nHeim: Val-de-Ruz V\nGast: Delémont III\n\nAdresse: Rue de Chasseral 3\, 2053 Cernier\n
LOCATION:Rue de Chasseral 3\, 2053 Cernier
CATEGORIES:Saison 2024/25
END:VEVENT
BEGIN:VEVENT
DTSTAMP:20260419T214357Z
DTSTART;TZID=Europe/Berlin:20250325T194500
DTEND;TZID=Europe/Berlin:20250325T224500
SUMMARY:L4P2 Tavannes vs Delémont III (0)
UID:4b4b5c0d-a231-4d26-924c-69748a5422ee
STATUS:CONFIRMED
LAST-MODIFIED:20250404T042838Z
DESCRIPTION:4ème ligue phase 2\nBegegnungs-Nr: 0\nHeim: Tavannes\nGast: Delémont III\n\nAdresse: Sources 1\, 2710 Tavannes\n
LOCATION:Sources 1\, 2710 Tavannes
CATEGORIES:Saison 2024/25
END:VEVENT
END:VCALENDAR
