BEGIN:VCALENDAR
PRODID:-//nuDatenautomaten//framework iCal4j //DE
VERSION:2.0
CALSCALE:GREGORIAN
BEGIN:VTIMEZONE
TZID:Europe/Berlin
LAST-MODIFIED:20260306T231828Z
TZURL:https://www.tzurl.org/zoneinfo/Europe/Berlin
X-LIC-LOCATION:Europe/Berlin
X-PROLEPTIC-TZNAME:LMT
BEGIN:STANDARD
TZNAME:CET
TZOFFSETFROM:+005328
TZOFFSETTO:+0100
DTSTART:18930401T000000
END:STANDARD
BEGIN:DAYLIGHT
TZNAME:CEST
TZOFFSETFROM:+0100
TZOFFSETTO:+0200
DTSTART:19160430T230000
RDATE:19400401T020000
RDATE:19430329T020000
RDATE:19460414T020000
RDATE:19470406T030000
RDATE:19480418T020000
RDATE:19490410T020000
RDATE:19800406T020000
END:DAYLIGHT
BEGIN:STANDARD
TZNAME:CET
TZOFFSETFROM:+0200
TZOFFSETTO:+0100
DTSTART:19161001T010000
RDATE:19421102T030000
RDATE:19431004T030000
RDATE:19441002T030000
RDATE:19451118T030000
RDATE:19461007T030000
END:STANDARD
BEGIN:DAYLIGHT
TZNAME:CEST
TZOFFSETFROM:+0100
TZOFFSETTO:+0200
DTSTART:19170416T020000
RRULE:FREQ=YEARLY;UNTIL=19180415T010000Z;BYMONTH=4;BYDAY=3MO
END:DAYLIGHT
BEGIN:STANDARD
TZNAME:CET
TZOFFSETFROM:+0200
TZOFFSETTO:+0100
DTSTART:19170917T030000
RRULE:FREQ=YEARLY;UNTIL=19180916T010000Z;BYMONTH=9;BYDAY=3MO
END:STANDARD
BEGIN:DAYLIGHT
TZNAME:CEST
TZOFFSETFROM:+0100
TZOFFSETTO:+0200
DTSTART:19440403T020000
RRULE:FREQ=YEARLY;UNTIL=19450402T010000Z;BYMONTH=4;BYDAY=1MO
END:DAYLIGHT
BEGIN:DAYLIGHT
TZNAME:CEMT
TZOFFSETFROM:+0200
TZOFFSETTO:+0300
DTSTART:19450524T020000
RDATE:19470511T030000
END:DAYLIGHT
BEGIN:DAYLIGHT
TZNAME:CEST
TZOFFSETFROM:+0300
TZOFFSETTO:+0200
DTSTART:19450924T030000
RDATE:19470629T030000
END:DAYLIGHT
BEGIN:STANDARD
TZNAME:CET
TZOFFSETFROM:+0100
TZOFFSETTO:+0100
DTSTART:19460101T000000
RDATE:19800101T000000
END:STANDARD
BEGIN:STANDARD
TZNAME:CET
TZOFFSETFROM:+0200
TZOFFSETTO:+0100
DTSTART:19471005T030000
RRULE:FREQ=YEARLY;UNTIL=19491002T010000Z;BYMONTH=10;BYDAY=1SU
END:STANDARD
BEGIN:STANDARD
TZNAME:CET
TZOFFSETFROM:+0200
TZOFFSETTO:+0100
DTSTART:19800928T030000
RRULE:FREQ=YEARLY;UNTIL=19950924T010000Z;BYMONTH=9;BYDAY=-1SU
END:STANDARD
BEGIN:DAYLIGHT
TZNAME:CEST
TZOFFSETFROM:+0100
TZOFFSETTO:+0200
DTSTART:19810329T020000
RRULE:FREQ=YEARLY;BYMONTH=3;BYDAY=-1SU
END:DAYLIGHT
BEGIN:STANDARD
TZNAME:CET
TZOFFSETFROM:+0200
TZOFFSETTO:+0100
DTSTART:19961027T030000
RRULE:FREQ=YEARLY;BYMONTH=10;BYDAY=-1SU
END:STANDARD
END:VTIMEZONE
BEGIN:VEVENT
DTSTAMP:20260421T142856Z
DTSTART;TZID=Europe/Berlin:20241126T201500
DTEND;TZID=Europe/Berlin:20241126T231500
SUMMARY:He 1. Liga Gr. 1 Schenkon vs Kriens (0)
UID:a87ca41f-2a3e-4ebc-b492-f7a5c668312b
STATUS:CONFIRMED
LAST-MODIFIED:20241129T103547Z
DESCRIPTION:1. Liga Herren Gruppe 1\nBegegnungs-Nr: 0\nHeim: Schenkon\nGast: Kriens\n6214 Schenkon\n
LOCATION:6214 Schenkon
CATEGORIES:Saison 2024/25
END:VEVENT
BEGIN:VEVENT
DTSTAMP:20260421T142856Z
DTSTART;TZID=Europe/Berlin:20250121T201500
DTEND;TZID=Europe/Berlin:20250121T231500
SUMMARY:He 1. Liga Gr. 1 Schenkon vs Kriens II (0)
UID:f8484631-32a0-4c23-94d4-6d18b21471ad
STATUS:CONFIRMED
LAST-MODIFIED:20250127T132634Z
DESCRIPTION:1. Liga Herren Gruppe 1\nBegegnungs-Nr: 0\nHeim: Schenkon\nGast: Kriens II\n6214 Schenkon\n
LOCATION:6214 Schenkon
CATEGORIES:Saison 2024/25
END:VEVENT
BEGIN:VEVENT
DTSTAMP:20260421T142856Z
DTSTART;TZID=Europe/Berlin:20241210T201500
DTEND;TZID=Europe/Berlin:20241210T231500
SUMMARY:He 1. Liga Gr. 1 Schenkon vs Rapid Luzern IV (0)
UID:fec543d5-5d9b-4649-8185-4acfec9c555a
STATUS:CONFIRMED
LAST-MODIFIED:20241217T140106Z
DESCRIPTION:1. Liga Herren Gruppe 1\nBegegnungs-Nr: 0\nHeim: Schenkon\nGast: Rapid Luzern IV\n6214 Schenkon\n
LOCATION:6214 Schenkon
CATEGORIES:Saison 2024/25
END:VEVENT
BEGIN:VEVENT
DTSTAMP:20260421T142856Z
DTSTART;TZID=Europe/Berlin:20250311T201500
DTEND;TZID=Europe/Berlin:20250311T231500
SUMMARY:He 1. Liga Gr. 1 Schenkon vs Rapid Luzern V (0)
UID:3c2e7da5-1e5e-44e4-b1bf-7313f0f9dffe
STATUS:CONFIRMED
LAST-MODIFIED:20250314T123625Z
DESCRIPTION:1. Liga Herren Gruppe 1\nBegegnungs-Nr: 0\nHeim: Schenkon\nGast: Rapid Luzern V\n6214 Schenkon\n
LOCATION:6214 Schenkon
CATEGORIES:Saison 2024/25
END:VEVENT
BEGIN:VEVENT
DTSTAMP:20260421T142856Z
DTSTART;TZID=Europe/Berlin:20240903T201500
DTEND;TZID=Europe/Berlin:20240903T231500
SUMMARY:He 1. Liga Gr. 1 Schenkon vs Goldau (0)
UID:baf0ee74-2904-49e8-bd83-a772054dc076
STATUS:CONFIRMED
LAST-MODIFIED:20240904T091537Z
DESCRIPTION:1. Liga Herren Gruppe 1\nBegegnungs-Nr: 0\nHeim: Schenkon\nGast: Goldau\n6214 Schenkon\n
LOCATION:6214 Schenkon
CATEGORIES:Saison 2024/25
END:VEVENT
BEGIN:VEVENT
DTSTAMP:20260421T142856Z
DTSTART;TZID=Europe/Berlin:20240827T201500
DTEND;TZID=Europe/Berlin:20240827T231500
SUMMARY:He 1. Liga Gr. 1 Schenkon vs Hünenberg (0)
UID:42523aba-87fb-41ca-bfd5-6f3d971f35a8
STATUS:CONFIRMED
LAST-MODIFIED:20240902T180649Z
DESCRIPTION:1. Liga Herren Gruppe 1\nBegegnungs-Nr: 0\nHeim: Schenkon\nGast: Hünenberg\n6214 Schenkon\n
LOCATION:6214 Schenkon
CATEGORIES:Saison 2024/25
END:VEVENT
BEGIN:VEVENT
DTSTAMP:20260421T142856Z
DTSTART;TZID=Europe/Berlin:20241119T201500
DTEND;TZID=Europe/Berlin:20241119T231500
SUMMARY:He 1. Liga Gr. 1 Schenkon vs Baar (0)
UID:61a6a3bf-1e8f-40ab-85a6-56044bc67a64
STATUS:CONFIRMED
LAST-MODIFIED:20241121T120457Z
DESCRIPTION:1. Liga Herren Gruppe 1\nBegegnungs-Nr: 0\nHeim: Schenkon\nGast: Baar\n6214 Schenkon\n
LOCATION:6214 Schenkon
CATEGORIES:Saison 2024/25
END:VEVENT
BEGIN:VEVENT
DTSTAMP:20260421T142856Z
DTSTART;TZID=Europe/Berlin:20250324T200000
DTEND;TZID=Europe/Berlin:20250324T230000
SUMMARY:He 1. Liga Gr. 1 Baar vs Schenkon (0)
UID:948c46ce-3926-44f0-8894-c1524c9c510e
STATUS:CONFIRMED
LAST-MODIFIED:20250326T152758Z
DESCRIPTION:1. Liga Herren Gruppe 1\nBegegnungs-Nr: 0\nHeim: Baar\nGast: Schenkon\n\nAdresse: Rigistrasse 175/177\, 6340 Baar\n
LOCATION:Rigistrasse 175/177\, 6340 Baar
CATEGORIES:Saison 2024/25
END:VEVENT
BEGIN:VEVENT
DTSTAMP:20260421T142856Z
DTSTART;TZID=Europe/Berlin:20250321T200000
DTEND;TZID=Europe/Berlin:20250321T230000
SUMMARY:He 1. Liga Gr. 1 Kriens vs Schenkon (0)
UID:d0d73072-a2d3-443c-82b8-b46de7562fc2
STATUS:CONFIRMED
LAST-MODIFIED:20250326T151933Z
DESCRIPTION:1. Liga Herren Gruppe 1\nBegegnungs-Nr: 0\nHeim: Kriens\nGast: Schenkon\n\nAdresse: Krauerstrasse 1\, 6010 Kriens\n
LOCATION:Krauerstrasse 1\, 6010 Kriens
CATEGORIES:Saison 2024/25
END:VEVENT
BEGIN:VEVENT
DTSTAMP:20260421T142856Z
DTSTART;TZID=Europe/Berlin:20241205T200000
DTEND;TZID=Europe/Berlin:20241205T230000
SUMMARY:He 1. Liga Gr. 1 Goldau vs Schenkon (0)
UID:19632141-0c02-46dc-9638-f22703a63410
STATUS:CONFIRMED
LAST-MODIFIED:20241210T110040Z
DESCRIPTION:1. Liga Herren Gruppe 1\nBegegnungs-Nr: 0\nHeim: Goldau\nGast: Schenkon\n\nAdresse: Zaystrasse\, 6410 Goldau\n
LOCATION:Zaystrasse\, 6410 Goldau
CATEGORIES:Saison 2024/25
END:VEVENT
BEGIN:VEVENT
DTSTAMP:20260421T142856Z
DTSTART;TZID=Europe/Berlin:20250106T200000
DTEND;TZID=Europe/Berlin:20250106T230000
SUMMARY:He 1. Liga Gr. 1 Hünenberg vs Schenkon (0)
UID:f8588969-ef05-480f-b284-cf7eb86eebf7
STATUS:CONFIRMED
LAST-MODIFIED:20250107T134437Z
DESCRIPTION:1. Liga Herren Gruppe 1\nBegegnungs-Nr: 0\nHeim: Hünenberg\nGast: Schenkon\n\nAdresse: Lindenbergstrasse 25\, 6331 Hünenberg\n
LOCATION:Lindenbergstrasse 25\, 6331 Hünenberg
CATEGORIES:Saison 2024/25
END:VEVENT
BEGIN:VEVENT
DTSTAMP:20260421T142856Z
DTSTART;TZID=Europe/Berlin:20240921T130000
DTEND;TZID=Europe/Berlin:20240921T160000
SUMMARY:He 1. Liga Gr. 1 Rapid Luzern IV vs Schenkon (0)
UID:ee0771a1-7e58-4c74-ba7c-09df3d1ccd19
STATUS:CONFIRMED
LAST-MODIFIED:20240923T140253Z
DESCRIPTION:1. Liga Herren Gruppe 1\nBegegnungs-Nr: 0\nHeim: Rapid Luzern IV\nGast: Schenkon\n\nAdresse: Kreuzbuchstr. 60\, 6006 Luzern\n
LOCATION:Kreuzbuchstr. 60\, 6006 Luzern
CATEGORIES:Saison 2024/25
END:VEVENT
BEGIN:VEVENT
DTSTAMP:20260421T142856Z
DTSTART;TZID=Europe/Berlin:20241019T130000
DTEND;TZID=Europe/Berlin:20241019T160000
SUMMARY:He 1. Liga Gr. 1 Rapid Luzern V vs Schenkon (0)
UID:ac6c4d20-b062-4a76-853e-b82baa271db7
STATUS:CONFIRMED
LAST-MODIFIED:20241022T162904Z
DESCRIPTION:1. Liga Herren Gruppe 1\nBegegnungs-Nr: 0\nHeim: Rapid Luzern V\nGast: Schenkon\n\nAdresse: Kreuzbuchstr. 60\, 6006 Luzern\n
LOCATION:Kreuzbuchstr. 60\, 6006 Luzern
CATEGORIES:Saison 2024/25
END:VEVENT
BEGIN:VEVENT
DTSTAMP:20260421T142856Z
DTSTART;TZID=Europe/Berlin:20241111T200000
DTEND;TZID=Europe/Berlin:20241111T230000
SUMMARY:He 1. Liga Gr. 1 Kriens II vs Schenkon (0)
UID:924a138b-c08e-40ac-8d12-e8af672d23e5
STATUS:CONFIRMED
LAST-MODIFIED:20241118T175400Z
DESCRIPTION:1. Liga Herren Gruppe 1\nBegegnungs-Nr: 0\nHeim: Kriens II\nGast: Schenkon\n\nAdresse: Krauerstrasse 1\, 6010 Kriens\n
LOCATION:Krauerstrasse 1\, 6010 Kriens
CATEGORIES:Saison 2024/25
END:VEVENT
END:VCALENDAR
