BEGIN:VCALENDAR
PRODID:-//nuDatenautomaten//framework iCal4j //DE
VERSION:2.0
CALSCALE:GREGORIAN
BEGIN:VTIMEZONE
TZID:Europe/Berlin
LAST-MODIFIED:20260306T231828Z
TZURL:https://www.tzurl.org/zoneinfo/Europe/Berlin
X-LIC-LOCATION:Europe/Berlin
X-PROLEPTIC-TZNAME:LMT
BEGIN:STANDARD
TZNAME:CET
TZOFFSETFROM:+005328
TZOFFSETTO:+0100
DTSTART:18930401T000000
END:STANDARD
BEGIN:DAYLIGHT
TZNAME:CEST
TZOFFSETFROM:+0100
TZOFFSETTO:+0200
DTSTART:19160430T230000
RDATE:19400401T020000
RDATE:19430329T020000
RDATE:19460414T020000
RDATE:19470406T030000
RDATE:19480418T020000
RDATE:19490410T020000
RDATE:19800406T020000
END:DAYLIGHT
BEGIN:STANDARD
TZNAME:CET
TZOFFSETFROM:+0200
TZOFFSETTO:+0100
DTSTART:19161001T010000
RDATE:19421102T030000
RDATE:19431004T030000
RDATE:19441002T030000
RDATE:19451118T030000
RDATE:19461007T030000
END:STANDARD
BEGIN:DAYLIGHT
TZNAME:CEST
TZOFFSETFROM:+0100
TZOFFSETTO:+0200
DTSTART:19170416T020000
RRULE:FREQ=YEARLY;UNTIL=19180415T010000Z;BYMONTH=4;BYDAY=3MO
END:DAYLIGHT
BEGIN:STANDARD
TZNAME:CET
TZOFFSETFROM:+0200
TZOFFSETTO:+0100
DTSTART:19170917T030000
RRULE:FREQ=YEARLY;UNTIL=19180916T010000Z;BYMONTH=9;BYDAY=3MO
END:STANDARD
BEGIN:DAYLIGHT
TZNAME:CEST
TZOFFSETFROM:+0100
TZOFFSETTO:+0200
DTSTART:19440403T020000
RRULE:FREQ=YEARLY;UNTIL=19450402T010000Z;BYMONTH=4;BYDAY=1MO
END:DAYLIGHT
BEGIN:DAYLIGHT
TZNAME:CEMT
TZOFFSETFROM:+0200
TZOFFSETTO:+0300
DTSTART:19450524T020000
RDATE:19470511T030000
END:DAYLIGHT
BEGIN:DAYLIGHT
TZNAME:CEST
TZOFFSETFROM:+0300
TZOFFSETTO:+0200
DTSTART:19450924T030000
RDATE:19470629T030000
END:DAYLIGHT
BEGIN:STANDARD
TZNAME:CET
TZOFFSETFROM:+0100
TZOFFSETTO:+0100
DTSTART:19460101T000000
RDATE:19800101T000000
END:STANDARD
BEGIN:STANDARD
TZNAME:CET
TZOFFSETFROM:+0200
TZOFFSETTO:+0100
DTSTART:19471005T030000
RRULE:FREQ=YEARLY;UNTIL=19491002T010000Z;BYMONTH=10;BYDAY=1SU
END:STANDARD
BEGIN:STANDARD
TZNAME:CET
TZOFFSETFROM:+0200
TZOFFSETTO:+0100
DTSTART:19800928T030000
RRULE:FREQ=YEARLY;UNTIL=19950924T010000Z;BYMONTH=9;BYDAY=-1SU
END:STANDARD
BEGIN:DAYLIGHT
TZNAME:CEST
TZOFFSETFROM:+0100
TZOFFSETTO:+0200
DTSTART:19810329T020000
RRULE:FREQ=YEARLY;BYMONTH=3;BYDAY=-1SU
END:DAYLIGHT
BEGIN:STANDARD
TZNAME:CET
TZOFFSETFROM:+0200
TZOFFSETTO:+0100
DTSTART:19961027T030000
RRULE:FREQ=YEARLY;BYMONTH=10;BYDAY=-1SU
END:STANDARD
END:VTIMEZONE
BEGIN:VEVENT
DTSTAMP:20260421T145943Z
DTSTART;TZID=Europe/Berlin:20240910T200000
DTEND;TZID=Europe/Berlin:20240910T230000
SUMMARY:He 1. Liga Gr. 1 Kriens vs Kriens II (0)
UID:ebeb06e6-2ca3-4016-9b43-ee45ab927c43
STATUS:CONFIRMED
LAST-MODIFIED:20240911T135813Z
DESCRIPTION:1. Liga Herren Gruppe 1\nBegegnungs-Nr: 0\nHeim: Kriens\nGast: Kriens II\n\nAdresse: Krauerstrasse 1\, 6010 Kriens\n
LOCATION:Krauerstrasse 1\, 6010 Kriens
CATEGORIES:Saison 2024/25
END:VEVENT
BEGIN:VEVENT
DTSTAMP:20260421T145943Z
DTSTART;TZID=Europe/Berlin:20250117T200000
DTEND;TZID=Europe/Berlin:20250117T230000
SUMMARY:He 1. Liga Gr. 1 Kriens vs Hünenberg (0)
UID:60a93ca5-c5b7-4a13-a145-2ef7a09ad207
STATUS:CONFIRMED
LAST-MODIFIED:20250123T145243Z
DESCRIPTION:1. Liga Herren Gruppe 1\nBegegnungs-Nr: 0\nHeim: Kriens\nGast: Hünenberg\n\nAdresse: Krauerstrasse 1\, 6010 Kriens\n
LOCATION:Krauerstrasse 1\, 6010 Kriens
CATEGORIES:Saison 2024/25
END:VEVENT
BEGIN:VEVENT
DTSTAMP:20260421T145943Z
DTSTART;TZID=Europe/Berlin:20250228T200000
DTEND;TZID=Europe/Berlin:20250228T230000
SUMMARY:He 1. Liga Gr. 1 Kriens vs Baar (0)
UID:39c25661-921b-4bc0-bca4-1352f22eefd0
STATUS:CONFIRMED
LAST-MODIFIED:20250314T123615Z
DESCRIPTION:1. Liga Herren Gruppe 1\nBegegnungs-Nr: 0\nHeim: Kriens\nGast: Baar\n\nAdresse: Krauerstrasse 1\, 6010 Kriens\n
LOCATION:Krauerstrasse 1\, 6010 Kriens
CATEGORIES:Saison 2024/25
END:VEVENT
BEGIN:VEVENT
DTSTAMP:20260421T145943Z
DTSTART;TZID=Europe/Berlin:20250321T200000
DTEND;TZID=Europe/Berlin:20250321T230000
SUMMARY:He 1. Liga Gr. 1 Kriens vs Schenkon (0)
UID:d0d73072-a2d3-443c-82b8-b46de7562fc2
STATUS:CONFIRMED
LAST-MODIFIED:20250326T151933Z
DESCRIPTION:1. Liga Herren Gruppe 1\nBegegnungs-Nr: 0\nHeim: Kriens\nGast: Schenkon\n\nAdresse: Krauerstrasse 1\, 6010 Kriens\n
LOCATION:Krauerstrasse 1\, 6010 Kriens
CATEGORIES:Saison 2024/25
END:VEVENT
BEGIN:VEVENT
DTSTAMP:20260421T145943Z
DTSTART;TZID=Europe/Berlin:20250328T200000
DTEND;TZID=Europe/Berlin:20250328T230000
SUMMARY:He 1. Liga Gr. 1 Kriens vs Goldau (0)
UID:3bc6bacb-6537-4ca6-87a3-a1cecccc8ade
STATUS:CONFIRMED
LAST-MODIFIED:20250415T084907Z
DESCRIPTION:1. Liga Herren Gruppe 1\nBegegnungs-Nr: 0\nHeim: Kriens\nGast: Goldau\n\nAdresse: Krauerstrasse 1\, 6010 Kriens\n
LOCATION:Krauerstrasse 1\, 6010 Kriens
CATEGORIES:Saison 2024/25
END:VEVENT
BEGIN:VEVENT
DTSTAMP:20260421T145943Z
DTSTART;TZID=Europe/Berlin:20241115T200000
DTEND;TZID=Europe/Berlin:20241115T230000
SUMMARY:He 1. Liga Gr. 1 Kriens vs Rapid Luzern V (0)
UID:0545b72b-e374-4353-944b-8872664ddf0a
STATUS:CONFIRMED
LAST-MODIFIED:20241118T175425Z
DESCRIPTION:1. Liga Herren Gruppe 1\nBegegnungs-Nr: 0\nHeim: Kriens\nGast: Rapid Luzern V\n\nAdresse: Krauerstrasse 1\, 6010 Kriens\n
LOCATION:Krauerstrasse 1\, 6010 Kriens
CATEGORIES:Saison 2024/25
END:VEVENT
BEGIN:VEVENT
DTSTAMP:20260421T145943Z
DTSTART;TZID=Europe/Berlin:20241025T200000
DTEND;TZID=Europe/Berlin:20241025T230000
SUMMARY:He 1. Liga Gr. 1 Kriens vs Rapid Luzern IV (0)
UID:02b2571d-9c4e-42ed-ad11-75b0347f4640
STATUS:CONFIRMED
LAST-MODIFIED:20241027T094124Z
DESCRIPTION:1. Liga Herren Gruppe 1\nBegegnungs-Nr: 0\nHeim: Kriens\nGast: Rapid Luzern IV\n\nAdresse: Krauerstrasse 1\, 6010 Kriens\n
LOCATION:Krauerstrasse 1\, 6010 Kriens
CATEGORIES:Saison 2024/25
END:VEVENT
BEGIN:VEVENT
DTSTAMP:20260421T145943Z
DTSTART;TZID=Europe/Berlin:20250510T130000
DTEND;TZID=Europe/Berlin:20250510T160000
SUMMARY:Aufstieg 1. Liga/NLC Gr. C Kriens vs Lugano III (4)
UID:758cd3df-57f8-41b9-95a1-db87962f9f27
STATUS:CONFIRMED
LAST-MODIFIED:20250510T142441Z
DESCRIPTION:Aufstieg 1. Liga/NLC Gruppe C\nBegegnungs-Nr: 4\nHeim: Kriens\nGast: Lugano III\n
LOCATION:
CATEGORIES:Saison 2024/25
END:VEVENT
BEGIN:VEVENT
DTSTAMP:20260421T145943Z
DTSTART;TZID=Europe/Berlin:20241126T201500
DTEND;TZID=Europe/Berlin:20241126T231500
SUMMARY:He 1. Liga Gr. 1 Schenkon vs Kriens (0)
UID:a87ca41f-2a3e-4ebc-b492-f7a5c668312b
STATUS:CONFIRMED
LAST-MODIFIED:20241129T103547Z
DESCRIPTION:1. Liga Herren Gruppe 1\nBegegnungs-Nr: 0\nHeim: Schenkon\nGast: Kriens\n6214 Schenkon\n
LOCATION:6214 Schenkon
CATEGORIES:Saison 2024/25
END:VEVENT
BEGIN:VEVENT
DTSTAMP:20260421T145943Z
DTSTART;TZID=Europe/Berlin:20240902T200000
DTEND;TZID=Europe/Berlin:20240902T230000
SUMMARY:He 1. Liga Gr. 1 Kriens II vs Kriens (0)
UID:05812ea1-8d2f-4fb6-a600-7700105ad367
STATUS:CONFIRMED
LAST-MODIFIED:20240911T135742Z
DESCRIPTION:1. Liga Herren Gruppe 1\nBegegnungs-Nr: 0\nHeim: Kriens II\nGast: Kriens\n\nAdresse: Krauerstrasse 1\, 6010 Kriens\n
LOCATION:Krauerstrasse 1\, 6010 Kriens
CATEGORIES:Saison 2024/25
END:VEVENT
BEGIN:VEVENT
DTSTAMP:20260421T145943Z
DTSTART;TZID=Europe/Berlin:20250322T153000
DTEND;TZID=Europe/Berlin:20250322T183000
SUMMARY:He 1. Liga Gr. 1 Rapid Luzern V vs Kriens (0)
UID:ac75bcd7-217e-4f7e-bb92-73a6556f949b
STATUS:CONFIRMED
LAST-MODIFIED:20250326T152738Z
DESCRIPTION:1. Liga Herren Gruppe 1\nBegegnungs-Nr: 0\nHeim: Rapid Luzern V\nGast: Kriens\n\nAdresse: Kreuzbuchstr. 60\, 6006 Luzern\n
LOCATION:Kreuzbuchstr. 60\, 6006 Luzern
CATEGORIES:Saison 2024/25
END:VEVENT
BEGIN:VEVENT
DTSTAMP:20260421T145943Z
DTSTART;TZID=Europe/Berlin:20241221T130000
DTEND;TZID=Europe/Berlin:20241221T160000
SUMMARY:He 1. Liga Gr. 1 Rapid Luzern IV vs Kriens (0)
UID:ebe45abb-127b-4e5e-b55b-e83c5b62154b
STATUS:CONFIRMED
LAST-MODIFIED:20241223T170908Z
DESCRIPTION:1. Liga Herren Gruppe 1\nBegegnungs-Nr: 0\nHeim: Rapid Luzern IV\nGast: Kriens\n\nAdresse: Kreuzbuchstr. 60\, 6006 Luzern\n
LOCATION:Kreuzbuchstr. 60\, 6006 Luzern
CATEGORIES:Saison 2024/25
END:VEVENT
BEGIN:VEVENT
DTSTAMP:20260421T145943Z
DTSTART;TZID=Europe/Berlin:20241212T200000
DTEND;TZID=Europe/Berlin:20241212T230000
SUMMARY:He 1. Liga Gr. 1 Goldau vs Kriens (0)
UID:572dec7b-7fd7-4a98-934f-fd595f8b73e0
STATUS:CONFIRMED
LAST-MODIFIED:20241217T140121Z
DESCRIPTION:1. Liga Herren Gruppe 1\nBegegnungs-Nr: 0\nHeim: Goldau\nGast: Kriens\n\nAdresse: Zaystrasse\, 6410 Goldau\n
LOCATION:Zaystrasse\, 6410 Goldau
CATEGORIES:Saison 2024/25
END:VEVENT
BEGIN:VEVENT
DTSTAMP:20260421T145943Z
DTSTART;TZID=Europe/Berlin:20241028T200000
DTEND;TZID=Europe/Berlin:20241028T230000
SUMMARY:He 1. Liga Gr. 1 Hünenberg vs Kriens (0)
UID:2e323539-ebcd-4c8f-9022-cdee445f8d3a
STATUS:CONFIRMED
LAST-MODIFIED:20241106T132659Z
DESCRIPTION:1. Liga Herren Gruppe 1\nBegegnungs-Nr: 0\nHeim: Hünenberg\nGast: Kriens\n\nAdresse: Lindenbergstrasse 25\, 6331 Hünenberg\n
LOCATION:Lindenbergstrasse 25\, 6331 Hünenberg
CATEGORIES:Saison 2024/25
END:VEVENT
BEGIN:VEVENT
DTSTAMP:20260421T145943Z
DTSTART;TZID=Europe/Berlin:20241111T200000
DTEND;TZID=Europe/Berlin:20241111T230000
SUMMARY:He 1. Liga Gr. 1 Baar vs Kriens (0)
UID:6de6e6bf-38d3-4001-9944-cb171180e020
STATUS:CONFIRMED
LAST-MODIFIED:20241113T143158Z
DESCRIPTION:1. Liga Herren Gruppe 1\nBegegnungs-Nr: 0\nHeim: Baar\nGast: Kriens\n\nAdresse: Rigistrasse 175/177\, 6340 Baar\n
LOCATION:Rigistrasse 175/177\, 6340 Baar
CATEGORIES:Saison 2024/25
END:VEVENT
BEGIN:VEVENT
DTSTAMP:20260421T145943Z
DTSTART;TZID=Europe/Berlin:20250510T100000
DTEND;TZID=Europe/Berlin:20250510T130000
SUMMARY:Aufstieg 1. Liga/NLC Gr. C Basel II vs Kriens (1)
UID:e8b21cff-d4ba-428a-9fdc-42dd3ee86bc7
STATUS:CONFIRMED
LAST-MODIFIED:20250510T112730Z
DESCRIPTION:Aufstieg 1. Liga/NLC Gruppe C\nBegegnungs-Nr: 1\nHeim: Basel II\nGast: Kriens\n
LOCATION:
CATEGORIES:Saison 2024/25
END:VEVENT
BEGIN:VEVENT
DTSTAMP:20260421T145943Z
DTSTART;TZID=Europe/Berlin:20250510T160000
DTEND;TZID=Europe/Berlin:20250510T190000
SUMMARY:Aufstieg 1. Liga/NLC Gr. C Delémont vs Kriens (6)
UID:4197f0b3-22c0-4387-829b-69cbbf27032a
STATUS:CONFIRMED
LAST-MODIFIED:20250510T164656Z
DESCRIPTION:Aufstieg 1. Liga/NLC Gruppe C\nBegegnungs-Nr: 6\nHeim: Delémont\nGast: Kriens\n
LOCATION:
CATEGORIES:Saison 2024/25
END:VEVENT
END:VCALENDAR
