BEGIN:VCALENDAR
PRODID:-//nuDatenautomaten//framework iCal4j //DE
VERSION:2.0
CALSCALE:GREGORIAN
BEGIN:VTIMEZONE
TZID:Europe/Berlin
LAST-MODIFIED:20260306T231828Z
TZURL:https://www.tzurl.org/zoneinfo/Europe/Berlin
X-LIC-LOCATION:Europe/Berlin
X-PROLEPTIC-TZNAME:LMT
BEGIN:STANDARD
TZNAME:CET
TZOFFSETFROM:+005328
TZOFFSETTO:+0100
DTSTART:18930401T000000
END:STANDARD
BEGIN:DAYLIGHT
TZNAME:CEST
TZOFFSETFROM:+0100
TZOFFSETTO:+0200
DTSTART:19160430T230000
RDATE:19400401T020000
RDATE:19430329T020000
RDATE:19460414T020000
RDATE:19470406T030000
RDATE:19480418T020000
RDATE:19490410T020000
RDATE:19800406T020000
END:DAYLIGHT
BEGIN:STANDARD
TZNAME:CET
TZOFFSETFROM:+0200
TZOFFSETTO:+0100
DTSTART:19161001T010000
RDATE:19421102T030000
RDATE:19431004T030000
RDATE:19441002T030000
RDATE:19451118T030000
RDATE:19461007T030000
END:STANDARD
BEGIN:DAYLIGHT
TZNAME:CEST
TZOFFSETFROM:+0100
TZOFFSETTO:+0200
DTSTART:19170416T020000
RRULE:FREQ=YEARLY;UNTIL=19180415T010000Z;BYMONTH=4;BYDAY=3MO
END:DAYLIGHT
BEGIN:STANDARD
TZNAME:CET
TZOFFSETFROM:+0200
TZOFFSETTO:+0100
DTSTART:19170917T030000
RRULE:FREQ=YEARLY;UNTIL=19180916T010000Z;BYMONTH=9;BYDAY=3MO
END:STANDARD
BEGIN:DAYLIGHT
TZNAME:CEST
TZOFFSETFROM:+0100
TZOFFSETTO:+0200
DTSTART:19440403T020000
RRULE:FREQ=YEARLY;UNTIL=19450402T010000Z;BYMONTH=4;BYDAY=1MO
END:DAYLIGHT
BEGIN:DAYLIGHT
TZNAME:CEMT
TZOFFSETFROM:+0200
TZOFFSETTO:+0300
DTSTART:19450524T020000
RDATE:19470511T030000
END:DAYLIGHT
BEGIN:DAYLIGHT
TZNAME:CEST
TZOFFSETFROM:+0300
TZOFFSETTO:+0200
DTSTART:19450924T030000
RDATE:19470629T030000
END:DAYLIGHT
BEGIN:STANDARD
TZNAME:CET
TZOFFSETFROM:+0100
TZOFFSETTO:+0100
DTSTART:19460101T000000
RDATE:19800101T000000
END:STANDARD
BEGIN:STANDARD
TZNAME:CET
TZOFFSETFROM:+0200
TZOFFSETTO:+0100
DTSTART:19471005T030000
RRULE:FREQ=YEARLY;UNTIL=19491002T010000Z;BYMONTH=10;BYDAY=1SU
END:STANDARD
BEGIN:STANDARD
TZNAME:CET
TZOFFSETFROM:+0200
TZOFFSETTO:+0100
DTSTART:19800928T030000
RRULE:FREQ=YEARLY;UNTIL=19950924T010000Z;BYMONTH=9;BYDAY=-1SU
END:STANDARD
BEGIN:DAYLIGHT
TZNAME:CEST
TZOFFSETFROM:+0100
TZOFFSETTO:+0200
DTSTART:19810329T020000
RRULE:FREQ=YEARLY;BYMONTH=3;BYDAY=-1SU
END:DAYLIGHT
BEGIN:STANDARD
TZNAME:CET
TZOFFSETFROM:+0200
TZOFFSETTO:+0100
DTSTART:19961027T030000
RRULE:FREQ=YEARLY;BYMONTH=10;BYDAY=-1SU
END:STANDARD
END:VTIMEZONE
BEGIN:VEVENT
DTSTAMP:20260419T225935Z
DTSTART;TZID=Europe/Berlin:20241210T193000
DTEND;TZID=Europe/Berlin:20241210T223000
SUMMARY:L1P1 Delémont vs Entente Pongiste Neuchâteloise (0)
UID:89fddb1c-0f62-4478-90c3-b4621c16156f
STATUS:CONFIRMED
LAST-MODIFIED:20241212T063628Z
DESCRIPTION:1ère ligue phase 1\nBegegnungs-Nr: 0\nHeim: Delémont\nGast: Entente Pongiste Neuchâteloise\n\nAdresse: Rue de la Blancherie 4\, 2800 Delémont\n
LOCATION:Rue de la Blancherie 4\, 2800 Delémont
CATEGORIES:Saison 2024/25
END:VEVENT
BEGIN:VEVENT
DTSTAMP:20260419T225935Z
DTSTART;TZID=Europe/Berlin:20241105T193000
DTEND;TZID=Europe/Berlin:20241105T223000
SUMMARY:L1P1 Delémont vs Porrentruy (0)
UID:c597e50c-0813-442f-935e-1e8d9f6fca70
STATUS:CONFIRMED
LAST-MODIFIED:20241106T170226Z
DESCRIPTION:1ère ligue phase 1\nBegegnungs-Nr: 0\nHeim: Delémont\nGast: Porrentruy\n\nAdresse: Rue de la Blancherie 4\, 2800 Delémont\n
LOCATION:Rue de la Blancherie 4\, 2800 Delémont
CATEGORIES:Saison 2024/25
END:VEVENT
BEGIN:VEVENT
DTSTAMP:20260419T225935Z
DTSTART;TZID=Europe/Berlin:20240910T193000
DTEND;TZID=Europe/Berlin:20240910T223000
SUMMARY:L1P1 Delémont vs Cortaillod II (0)
UID:4a55ce8b-75f2-4712-ba80-10beb7cc9acf
STATUS:CONFIRMED
LAST-MODIFIED:20240924T155606Z
DESCRIPTION:1ère ligue phase 1\nBegegnungs-Nr: 0\nHeim: Delémont\nGast: Cortaillod II\n\nAdresse: Rue de la Blancherie 4\, 2800 Delémont\n
LOCATION:Rue de la Blancherie 4\, 2800 Delémont
CATEGORIES:Saison 2024/25
END:VEVENT
BEGIN:VEVENT
DTSTAMP:20260419T225935Z
DTSTART;TZID=Europe/Berlin:20241001T193000
DTEND;TZID=Europe/Berlin:20241001T223000
SUMMARY:L1P1 Delémont vs Tramelan (0)
UID:1ebf7ebc-066a-4063-b06e-8bd1b20ef506
STATUS:CONFIRMED
LAST-MODIFIED:20241003T090018Z
DESCRIPTION:1ère ligue phase 1\nBegegnungs-Nr: 0\nHeim: Delémont\nGast: Tramelan\n\nAdresse: Rue de la Blancherie 4\, 2800 Delémont\n
LOCATION:Rue de la Blancherie 4\, 2800 Delémont
CATEGORIES:Saison 2024/25
END:VEVENT
BEGIN:VEVENT
DTSTAMP:20260419T225935Z
DTSTART;TZID=Europe/Berlin:20250128T193000
DTEND;TZID=Europe/Berlin:20250128T223000
SUMMARY:L1P2 Delémont vs Val-de-Ruz II (0)
UID:1595bf60-60f2-4f61-a2ee-93ef39f5b644
STATUS:CONFIRMED
LAST-MODIFIED:20250130T063704Z
DESCRIPTION:1 ère ligue phase 2\nBegegnungs-Nr: 0\nHeim: Delémont\nGast: Val-de-Ruz II\n\nAdresse: Rue de la Blancherie 4\, 2800 Delémont\n
LOCATION:Rue de la Blancherie 4\, 2800 Delémont
CATEGORIES:Saison 2024/25
END:VEVENT
BEGIN:VEVENT
DTSTAMP:20260419T225935Z
DTSTART;TZID=Europe/Berlin:20250304T193000
DTEND;TZID=Europe/Berlin:20250304T223000
SUMMARY:L1P2 Delémont vs Val-de-Ruz (0)
UID:5be42ede-1fa4-4edd-ae73-510c9ea92673
STATUS:CONFIRMED
LAST-MODIFIED:20250307T081757Z
DESCRIPTION:1 ère ligue phase 2\nBegegnungs-Nr: 0\nHeim: Delémont\nGast: Val-de-Ruz\n\nAdresse: Rue de la Blancherie 4\, 2800 Delémont\n
LOCATION:Rue de la Blancherie 4\, 2800 Delémont
CATEGORIES:Saison 2024/25
END:VEVENT
BEGIN:VEVENT
DTSTAMP:20260419T225935Z
DTSTART;TZID=Europe/Berlin:20250408T193000
DTEND;TZID=Europe/Berlin:20250408T223000
SUMMARY:L1P2 Delémont vs Porrentruy (0)
UID:7dbdda46-be60-4dd7-81b9-39eb9aad389d
STATUS:CONFIRMED
LAST-MODIFIED:20250411T044249Z
DESCRIPTION:1 ère ligue phase 2\nBegegnungs-Nr: 0\nHeim: Delémont\nGast: Porrentruy\n\nAdresse: Rue de la Blancherie 4\, 2800 Delémont\n
LOCATION:Rue de la Blancherie 4\, 2800 Delémont
CATEGORIES:Saison 2024/25
END:VEVENT
BEGIN:VEVENT
DTSTAMP:20260419T225935Z
DTSTART;TZID=Europe/Berlin:20250510T100000
DTEND;TZID=Europe/Berlin:20250510T130000
SUMMARY:Aufstieg 1. Liga/NLC Gr. C Delémont vs Lugano III (2)
UID:af75cb47-964b-4d24-807a-5786c8152fde
STATUS:CONFIRMED
LAST-MODIFIED:20250510T104205Z
DESCRIPTION:Aufstieg 1. Liga/NLC Gruppe C\nBegegnungs-Nr: 2\nHeim: Delémont\nGast: Lugano III\n
LOCATION:
CATEGORIES:Saison 2024/25
END:VEVENT
BEGIN:VEVENT
DTSTAMP:20260419T225935Z
DTSTART;TZID=Europe/Berlin:20250510T160000
DTEND;TZID=Europe/Berlin:20250510T190000
SUMMARY:Aufstieg 1. Liga/NLC Gr. C Delémont vs Kriens (6)
UID:4197f0b3-22c0-4387-829b-69cbbf27032a
STATUS:CONFIRMED
LAST-MODIFIED:20250510T164656Z
DESCRIPTION:Aufstieg 1. Liga/NLC Gruppe C\nBegegnungs-Nr: 6\nHeim: Delémont\nGast: Kriens\n
LOCATION:
CATEGORIES:Saison 2024/25
END:VEVENT
BEGIN:VEVENT
DTSTAMP:20260419T225935Z
DTSTART;TZID=Europe/Berlin:20241115T200000
DTEND;TZID=Europe/Berlin:20241115T230000
SUMMARY:L1P1 Entente Pongiste Neuchâteloise II vs Delémont (0)
UID:5fbbc819-c9bf-4fec-8271-13bbf75f1fd4
STATUS:CONFIRMED
LAST-MODIFIED:20241122T115028Z
DESCRIPTION:1ère ligue phase 1\nBegegnungs-Nr: 0\nHeim: Entente Pongiste Neuchâteloise II\nGast: Delémont\n\nAdresse: Allée du 700e\, 2525 Le Landeron\n
LOCATION:Allée du 700e\, 2525 Le Landeron
CATEGORIES:Saison 2024/25
END:VEVENT
BEGIN:VEVENT
DTSTAMP:20260419T225935Z
DTSTART;TZID=Europe/Berlin:20241129T200000
DTEND;TZID=Europe/Berlin:20241129T230000
SUMMARY:L1P1 Val-de-Ruz vs Delémont (0)
UID:254f7ea5-5590-49ec-8051-4d9a54461dbd
STATUS:CONFIRMED
LAST-MODIFIED:20241204T081536Z
DESCRIPTION:1ère ligue phase 1\nBegegnungs-Nr: 0\nHeim: Val-de-Ruz\nGast: Delémont\n\nAdresse: Rue du Collège 31\, 2207 Coffrane\n
LOCATION:Rue du Collège 31\, 2207 Coffrane
CATEGORIES:Saison 2024/25
END:VEVENT
BEGIN:VEVENT
DTSTAMP:20260419T225935Z
DTSTART;TZID=Europe/Berlin:20240903T193000
DTEND;TZID=Europe/Berlin:20240903T223000
SUMMARY:L1P1 Delémont II vs Delémont (0)
UID:513aa45a-23f5-41f1-99cb-4291f33fda63
STATUS:CONFIRMED
LAST-MODIFIED:20240924T155541Z
DESCRIPTION:1ère ligue phase 1\nBegegnungs-Nr: 0\nHeim: Delémont II\nGast: Delémont\n\nAdresse: Rue de la Blancherie 4\, 2800 Delémont\n
LOCATION:Rue de la Blancherie 4\, 2800 Delémont
CATEGORIES:Saison 2024/25
END:VEVENT
BEGIN:VEVENT
DTSTAMP:20260419T225935Z
DTSTART;TZID=Europe/Berlin:20250117T200000
DTEND;TZID=Europe/Berlin:20250117T230000
SUMMARY:L1P2 Cortaillod II vs Delémont (0)
UID:683fe036-b965-414f-b4b1-efbab0e940e4
STATUS:CONFIRMED
LAST-MODIFIED:20250121T142533Z
DESCRIPTION:1 ère ligue phase 2\nBegegnungs-Nr: 0\nHeim: Cortaillod II\nGast: Delémont\n\nAdresse: Coteaux 1\, 2016 Cortaillod\n
LOCATION:Coteaux 1\, 2016 Cortaillod
CATEGORIES:Saison 2024/25
END:VEVENT
BEGIN:VEVENT
DTSTAMP:20260419T225935Z
DTSTART;TZID=Europe/Berlin:20250221T200000
DTEND;TZID=Europe/Berlin:20250221T230000
SUMMARY:L1P2 Moutier vs Delémont (0)
UID:b81d8306-9662-402d-bf87-20b133157680
STATUS:CONFIRMED
LAST-MODIFIED:20250224T144353Z
DESCRIPTION:1 ère ligue phase 2\nBegegnungs-Nr: 0\nHeim: Moutier\nGast: Delémont\n\nAdresse: Place Beseran\, 2740 Moutier\n
LOCATION:Place Beseran\, 2740 Moutier
CATEGORIES:Saison 2024/25
END:VEVENT
BEGIN:VEVENT
DTSTAMP:20260419T225935Z
DTSTART;TZID=Europe/Berlin:20250328T193000
DTEND;TZID=Europe/Berlin:20250328T223000
SUMMARY:L1P2 La Chaux-de-Fonds II vs Delémont (0)
UID:2265c06e-5bd2-404e-afef-2a8a089ec53a
STATUS:CONFIRMED
LAST-MODIFIED:20250404T042715Z
DESCRIPTION:1 ère ligue phase 2\nBegegnungs-Nr: 0\nHeim: La Chaux-de-Fonds II\nGast: Delémont\n\nAdresse: Rue du Docteur-Kern 14\, 2300 La Chaux-de-Fonds\n
LOCATION:Rue du Docteur-Kern 14\, 2300 La Chaux-de-Fonds
CATEGORIES:Saison 2024/25
END:VEVENT
BEGIN:VEVENT
DTSTAMP:20260419T225935Z
DTSTART;TZID=Europe/Berlin:20250425T200000
DTEND;TZID=Europe/Berlin:20250425T230000
SUMMARY:L1P2 Entente Pongiste Neuchâteloise vs Delémont (0)
UID:8e2b337f-11f0-4f58-b0ff-ab2798b50d24
STATUS:CONFIRMED
LAST-MODIFIED:20250501T051124Z
DESCRIPTION:1 ère ligue phase 2\nBegegnungs-Nr: 0\nHeim: Entente Pongiste Neuchâteloise\nGast: Delémont\n\nAdresse: Allée du 700e\, 2525 Le Landeron\n
LOCATION:Allée du 700e\, 2525 Le Landeron
CATEGORIES:Saison 2024/25
END:VEVENT
BEGIN:VEVENT
DTSTAMP:20260419T225935Z
DTSTART;TZID=Europe/Berlin:20250510T130000
DTEND;TZID=Europe/Berlin:20250510T160000
SUMMARY:Aufstieg 1. Liga/NLC Gr. C Basel II vs Delémont (3)
UID:9b18b938-9c89-4108-b11a-e95830a83bac
STATUS:CONFIRMED
LAST-MODIFIED:20250510T141238Z
DESCRIPTION:Aufstieg 1. Liga/NLC Gruppe C\nBegegnungs-Nr: 3\nHeim: Basel II\nGast: Delémont\n
LOCATION:
CATEGORIES:Saison 2024/25
END:VEVENT
END:VCALENDAR
