BEGIN:VCALENDAR
PRODID:-//nuDatenautomaten//framework iCal4j //DE
VERSION:2.0
CALSCALE:GREGORIAN
BEGIN:VTIMEZONE
TZID:Europe/Berlin
LAST-MODIFIED:20260306T231828Z
TZURL:https://www.tzurl.org/zoneinfo/Europe/Berlin
X-LIC-LOCATION:Europe/Berlin
X-PROLEPTIC-TZNAME:LMT
BEGIN:STANDARD
TZNAME:CET
TZOFFSETFROM:+005328
TZOFFSETTO:+0100
DTSTART:18930401T000000
END:STANDARD
BEGIN:DAYLIGHT
TZNAME:CEST
TZOFFSETFROM:+0100
TZOFFSETTO:+0200
DTSTART:19160430T230000
RDATE:19400401T020000
RDATE:19430329T020000
RDATE:19460414T020000
RDATE:19470406T030000
RDATE:19480418T020000
RDATE:19490410T020000
RDATE:19800406T020000
END:DAYLIGHT
BEGIN:STANDARD
TZNAME:CET
TZOFFSETFROM:+0200
TZOFFSETTO:+0100
DTSTART:19161001T010000
RDATE:19421102T030000
RDATE:19431004T030000
RDATE:19441002T030000
RDATE:19451118T030000
RDATE:19461007T030000
END:STANDARD
BEGIN:DAYLIGHT
TZNAME:CEST
TZOFFSETFROM:+0100
TZOFFSETTO:+0200
DTSTART:19170416T020000
RRULE:FREQ=YEARLY;UNTIL=19180415T010000Z;BYMONTH=4;BYDAY=3MO
END:DAYLIGHT
BEGIN:STANDARD
TZNAME:CET
TZOFFSETFROM:+0200
TZOFFSETTO:+0100
DTSTART:19170917T030000
RRULE:FREQ=YEARLY;UNTIL=19180916T010000Z;BYMONTH=9;BYDAY=3MO
END:STANDARD
BEGIN:DAYLIGHT
TZNAME:CEST
TZOFFSETFROM:+0100
TZOFFSETTO:+0200
DTSTART:19440403T020000
RRULE:FREQ=YEARLY;UNTIL=19450402T010000Z;BYMONTH=4;BYDAY=1MO
END:DAYLIGHT
BEGIN:DAYLIGHT
TZNAME:CEMT
TZOFFSETFROM:+0200
TZOFFSETTO:+0300
DTSTART:19450524T020000
RDATE:19470511T030000
END:DAYLIGHT
BEGIN:DAYLIGHT
TZNAME:CEST
TZOFFSETFROM:+0300
TZOFFSETTO:+0200
DTSTART:19450924T030000
RDATE:19470629T030000
END:DAYLIGHT
BEGIN:STANDARD
TZNAME:CET
TZOFFSETFROM:+0100
TZOFFSETTO:+0100
DTSTART:19460101T000000
RDATE:19800101T000000
END:STANDARD
BEGIN:STANDARD
TZNAME:CET
TZOFFSETFROM:+0200
TZOFFSETTO:+0100
DTSTART:19471005T030000
RRULE:FREQ=YEARLY;UNTIL=19491002T010000Z;BYMONTH=10;BYDAY=1SU
END:STANDARD
BEGIN:STANDARD
TZNAME:CET
TZOFFSETFROM:+0200
TZOFFSETTO:+0100
DTSTART:19800928T030000
RRULE:FREQ=YEARLY;UNTIL=19950924T010000Z;BYMONTH=9;BYDAY=-1SU
END:STANDARD
BEGIN:DAYLIGHT
TZNAME:CEST
TZOFFSETFROM:+0100
TZOFFSETTO:+0200
DTSTART:19810329T020000
RRULE:FREQ=YEARLY;BYMONTH=3;BYDAY=-1SU
END:DAYLIGHT
BEGIN:STANDARD
TZNAME:CET
TZOFFSETFROM:+0200
TZOFFSETTO:+0100
DTSTART:19961027T030000
RRULE:FREQ=YEARLY;BYMONTH=10;BYDAY=-1SU
END:STANDARD
END:VTIMEZONE
BEGIN:VEVENT
DTSTAMP:20260419T230153Z
DTSTART;TZID=Europe/Berlin:20241106T193000
DTEND;TZID=Europe/Berlin:20241106T223000
SUMMARY:L3P1 Hauterive vs Entente Pongiste Neuchâteloise IV (0)
UID:0a9ad51a-7441-446f-baf8-aa2f6af339c4
STATUS:CONFIRMED
LAST-MODIFIED:20241112T192227Z
DESCRIPTION:3ème ligue phase 1\nBegegnungs-Nr: 0\nHeim: Hauterive\nGast: Entente Pongiste Neuchâteloise IV\n\nAdresse: Rue des Longschamps 10\, 2068 Hauterive NE\n
LOCATION:Rue des Longschamps 10\, 2068 Hauterive NE
CATEGORIES:Saison 2024/25
END:VEVENT
BEGIN:VEVENT
DTSTAMP:20260419T230153Z
DTSTART;TZID=Europe/Berlin:20241002T193000
DTEND;TZID=Europe/Berlin:20241002T223000
SUMMARY:L3P1 Hauterive vs Le Locle II (0)
UID:d33c0865-d154-415d-8955-b82eb1a1680c
STATUS:CONFIRMED
LAST-MODIFIED:20241007T072425Z
DESCRIPTION:3ème ligue phase 1\nBegegnungs-Nr: 0\nHeim: Hauterive\nGast: Le Locle II\n\nAdresse: Rue des Longschamps 10\, 2068 Hauterive NE\n
LOCATION:Rue des Longschamps 10\, 2068 Hauterive NE
CATEGORIES:Saison 2024/25
END:VEVENT
BEGIN:VEVENT
DTSTAMP:20260419T230153Z
DTSTART;TZID=Europe/Berlin:20240904T193000
DTEND;TZID=Europe/Berlin:20240904T223000
SUMMARY:L3P1 Hauterive vs Omega II (0)
UID:a49302ed-9a17-479d-9148-3c39636dc9b9
STATUS:CONFIRMED
LAST-MODIFIED:20240924T160047Z
DESCRIPTION:3ème ligue phase 1\nBegegnungs-Nr: 0\nHeim: Hauterive\nGast: Omega II\n\nAdresse: Rue des Longschamps 10\, 2068 Hauterive NE\n
LOCATION:Rue des Longschamps 10\, 2068 Hauterive NE
CATEGORIES:Saison 2024/25
END:VEVENT
BEGIN:VEVENT
DTSTAMP:20260419T230153Z
DTSTART;TZID=Europe/Berlin:20250212T193000
DTEND;TZID=Europe/Berlin:20250212T223000
SUMMARY:L4P2 Hauterive vs Val-de-Ruz V (0)
UID:d6141bd5-e9fe-4951-b92f-58295bfdd58c
STATUS:CONFIRMED
LAST-MODIFIED:20250214T150811Z
DESCRIPTION:4ème ligue phase 2\nBegegnungs-Nr: 0\nHeim: Hauterive\nGast: Val-de-Ruz V\n\nAdresse: Rue des Longschamps 10\, 2068 Hauterive NE\n
LOCATION:Rue des Longschamps 10\, 2068 Hauterive NE
CATEGORIES:Saison 2024/25
END:VEVENT
BEGIN:VEVENT
DTSTAMP:20260419T230153Z
DTSTART;TZID=Europe/Berlin:20250305T193000
DTEND;TZID=Europe/Berlin:20250305T223000
SUMMARY:L4P2 Hauterive vs Omega III (0)
UID:8517612b-e84d-4d4f-b88a-e56f37c28347
STATUS:CONFIRMED
LAST-MODIFIED:20250306T100524Z
DESCRIPTION:4ème ligue phase 2\nBegegnungs-Nr: 0\nHeim: Hauterive\nGast: Omega III\n\nAdresse: Rue des Longschamps 10\, 2068 Hauterive NE\n
LOCATION:Rue des Longschamps 10\, 2068 Hauterive NE
CATEGORIES:Saison 2024/25
END:VEVENT
BEGIN:VEVENT
DTSTAMP:20260419T230153Z
DTSTART;TZID=Europe/Berlin:20250416T193000
DTEND;TZID=Europe/Berlin:20250416T223000
SUMMARY:L4P2 Hauterive vs Tavannes (0)
UID:a5e1856f-cfe3-40fa-aab1-780a260036bc
STATUS:CONFIRMED
LAST-MODIFIED:20250418T065007Z
DESCRIPTION:4ème ligue phase 2\nBegegnungs-Nr: 0\nHeim: Hauterive\nGast: Tavannes\n\nAdresse: Rue des Longschamps 10\, 2068 Hauterive NE\n
LOCATION:Rue des Longschamps 10\, 2068 Hauterive NE
CATEGORIES:Saison 2024/25
END:VEVENT
BEGIN:VEVENT
DTSTAMP:20260419T230153Z
DTSTART;TZID=Europe/Berlin:20241203T194500
DTEND;TZID=Europe/Berlin:20241203T224500
SUMMARY:L3P1 Tavannes vs Hauterive (0)
UID:93555ae4-531b-49aa-8f0c-1658f0078e9b
STATUS:CONFIRMED
LAST-MODIFIED:20241204T081814Z
DESCRIPTION:3ème ligue phase 1\nBegegnungs-Nr: 0\nHeim: Tavannes\nGast: Hauterive\n\nAdresse: Sources 1\, 2710 Tavannes\n
LOCATION:Sources 1\, 2710 Tavannes
CATEGORIES:Saison 2024/25
END:VEVENT
BEGIN:VEVENT
DTSTAMP:20260419T230153Z
DTSTART;TZID=Europe/Berlin:20241122T201500
DTEND;TZID=Europe/Berlin:20241122T231500
SUMMARY:L3P1 Delémont III vs Hauterive (0)
UID:fdc81017-a6ca-41ee-b2a9-f5b5ac3731c6
STATUS:CONFIRMED
LAST-MODIFIED:20241129T082042Z
DESCRIPTION:3ème ligue phase 1\nBegegnungs-Nr: 0\nHeim: Delémont III\nGast: Hauterive\n\nAdresse: Rue de la Blancherie 4\, 2800 Delémont\n
LOCATION:Rue de la Blancherie 4\, 2800 Delémont
CATEGORIES:Saison 2024/25
END:VEVENT
BEGIN:VEVENT
DTSTAMP:20260419T230153Z
DTSTART;TZID=Europe/Berlin:20241025T193000
DTEND;TZID=Europe/Berlin:20241025T223000
SUMMARY:L3P1 La Chaux-de-Fonds III vs Hauterive (0)
UID:8b9e7d74-dcaf-476a-b2f9-002567d28a0a
STATUS:CONFIRMED
LAST-MODIFIED:20241029T073838Z
DESCRIPTION:3ème ligue phase 1\nBegegnungs-Nr: 0\nHeim: La Chaux-de-Fonds III\nGast: Hauterive\n\nAdresse: Rue du Docteur-Kern 14\, 2300 La Chaux-de-Fonds\n
LOCATION:Rue du Docteur-Kern 14\, 2300 La Chaux-de-Fonds
CATEGORIES:Saison 2024/25
END:VEVENT
BEGIN:VEVENT
DTSTAMP:20260419T230153Z
DTSTART;TZID=Europe/Berlin:20240918T194500
DTEND;TZID=Europe/Berlin:20240918T224500
SUMMARY:L3P1 Val-de-Ruz III vs Hauterive (0)
UID:d13505f3-c660-486f-83fb-bdb8e30213f9
STATUS:CONFIRMED
LAST-MODIFIED:20240924T160312Z
DESCRIPTION:3ème ligue phase 1\nBegegnungs-Nr: 0\nHeim: Val-de-Ruz III\nGast: Hauterive\n\nAdresse: Rue de Chasseral 3\, 2053 Cernier\n
LOCATION:Rue de Chasseral 3\, 2053 Cernier
CATEGORIES:Saison 2024/25
END:VEVENT
BEGIN:VEVENT
DTSTAMP:20260419T230153Z
DTSTART;TZID=Europe/Berlin:20250121T193000
DTEND;TZID=Europe/Berlin:20250121T223000
SUMMARY:L4P2 Delémont IV vs Hauterive (0)
UID:9f49fed6-4565-4214-95b4-e9efd32606d1
STATUS:CONFIRMED
LAST-MODIFIED:20250128T151800Z
DESCRIPTION:4ème ligue phase 2\nBegegnungs-Nr: 0\nHeim: Delémont IV\nGast: Hauterive\n\nAdresse: Rue de la Blancherie 4\, 2800 Delémont\n
LOCATION:Rue de la Blancherie 4\, 2800 Delémont
CATEGORIES:Saison 2024/25
END:VEVENT
BEGIN:VEVENT
DTSTAMP:20260419T230153Z
DTSTART;TZID=Europe/Berlin:20250221T200000
DTEND;TZID=Europe/Berlin:20250221T230000
SUMMARY:L4P2 Cortaillod IV vs Hauterive (0)
UID:0e5fd079-a6ce-46f0-abba-d0b8a3d6415e
STATUS:CONFIRMED
LAST-MODIFIED:20250222T071635Z
DESCRIPTION:4ème ligue phase 2\nBegegnungs-Nr: 0\nHeim: Cortaillod IV\nGast: Hauterive\n\nAdresse: Coteaux 1\, 2016 Cortaillod\n
LOCATION:Coteaux 1\, 2016 Cortaillod
CATEGORIES:Saison 2024/25
END:VEVENT
BEGIN:VEVENT
DTSTAMP:20260419T230153Z
DTSTART;TZID=Europe/Berlin:20250404T200000
DTEND;TZID=Europe/Berlin:20250404T230000
SUMMARY:L4P2 Entente Pongiste Neuchâteloise V vs Hauterive (0)
UID:bb99558c-c0d9-46c3-8642-c572d09b7459
STATUS:CONFIRMED
LAST-MODIFIED:20250408T130034Z
DESCRIPTION:4ème ligue phase 2\nBegegnungs-Nr: 0\nHeim: Entente Pongiste Neuchâteloise V\nGast: Hauterive\n\nAdresse: Allée du 700e\, 2525 Le Landeron\n
LOCATION:Allée du 700e\, 2525 Le Landeron
CATEGORIES:Saison 2024/25
END:VEVENT
BEGIN:VEVENT
DTSTAMP:20260419T230153Z
DTSTART;TZID=Europe/Berlin:20250401T193000
DTEND;TZID=Europe/Berlin:20250401T223000
SUMMARY:L4P2 Delémont III vs Hauterive (0)
UID:0424ba77-8344-4d1e-b596-28b4e87983fe
STATUS:CONFIRMED
LAST-MODIFIED:20250404T050947Z
DESCRIPTION:4ème ligue phase 2\nBegegnungs-Nr: 0\nHeim: Delémont III\nGast: Hauterive\n\nAdresse: Rue de la Blancherie 4\, 2800 Delémont\n
LOCATION:Rue de la Blancherie 4\, 2800 Delémont
CATEGORIES:Saison 2024/25
END:VEVENT
END:VCALENDAR
