BEGIN:VCALENDAR
PRODID:-//nuDatenautomaten//framework iCal4j //DE
VERSION:2.0
CALSCALE:GREGORIAN
BEGIN:VTIMEZONE
TZID:Europe/Berlin
LAST-MODIFIED:20260306T231828Z
TZURL:https://www.tzurl.org/zoneinfo/Europe/Berlin
X-LIC-LOCATION:Europe/Berlin
X-PROLEPTIC-TZNAME:LMT
BEGIN:STANDARD
TZNAME:CET
TZOFFSETFROM:+005328
TZOFFSETTO:+0100
DTSTART:18930401T000000
END:STANDARD
BEGIN:DAYLIGHT
TZNAME:CEST
TZOFFSETFROM:+0100
TZOFFSETTO:+0200
DTSTART:19160430T230000
RDATE:19400401T020000
RDATE:19430329T020000
RDATE:19460414T020000
RDATE:19470406T030000
RDATE:19480418T020000
RDATE:19490410T020000
RDATE:19800406T020000
END:DAYLIGHT
BEGIN:STANDARD
TZNAME:CET
TZOFFSETFROM:+0200
TZOFFSETTO:+0100
DTSTART:19161001T010000
RDATE:19421102T030000
RDATE:19431004T030000
RDATE:19441002T030000
RDATE:19451118T030000
RDATE:19461007T030000
END:STANDARD
BEGIN:DAYLIGHT
TZNAME:CEST
TZOFFSETFROM:+0100
TZOFFSETTO:+0200
DTSTART:19170416T020000
RRULE:FREQ=YEARLY;UNTIL=19180415T010000Z;BYMONTH=4;BYDAY=3MO
END:DAYLIGHT
BEGIN:STANDARD
TZNAME:CET
TZOFFSETFROM:+0200
TZOFFSETTO:+0100
DTSTART:19170917T030000
RRULE:FREQ=YEARLY;UNTIL=19180916T010000Z;BYMONTH=9;BYDAY=3MO
END:STANDARD
BEGIN:DAYLIGHT
TZNAME:CEST
TZOFFSETFROM:+0100
TZOFFSETTO:+0200
DTSTART:19440403T020000
RRULE:FREQ=YEARLY;UNTIL=19450402T010000Z;BYMONTH=4;BYDAY=1MO
END:DAYLIGHT
BEGIN:DAYLIGHT
TZNAME:CEMT
TZOFFSETFROM:+0200
TZOFFSETTO:+0300
DTSTART:19450524T020000
RDATE:19470511T030000
END:DAYLIGHT
BEGIN:DAYLIGHT
TZNAME:CEST
TZOFFSETFROM:+0300
TZOFFSETTO:+0200
DTSTART:19450924T030000
RDATE:19470629T030000
END:DAYLIGHT
BEGIN:STANDARD
TZNAME:CET
TZOFFSETFROM:+0100
TZOFFSETTO:+0100
DTSTART:19460101T000000
RDATE:19800101T000000
END:STANDARD
BEGIN:STANDARD
TZNAME:CET
TZOFFSETFROM:+0200
TZOFFSETTO:+0100
DTSTART:19471005T030000
RRULE:FREQ=YEARLY;UNTIL=19491002T010000Z;BYMONTH=10;BYDAY=1SU
END:STANDARD
BEGIN:STANDARD
TZNAME:CET
TZOFFSETFROM:+0200
TZOFFSETTO:+0100
DTSTART:19800928T030000
RRULE:FREQ=YEARLY;UNTIL=19950924T010000Z;BYMONTH=9;BYDAY=-1SU
END:STANDARD
BEGIN:DAYLIGHT
TZNAME:CEST
TZOFFSETFROM:+0100
TZOFFSETTO:+0200
DTSTART:19810329T020000
RRULE:FREQ=YEARLY;BYMONTH=3;BYDAY=-1SU
END:DAYLIGHT
BEGIN:STANDARD
TZNAME:CET
TZOFFSETFROM:+0200
TZOFFSETTO:+0100
DTSTART:19961027T030000
RRULE:FREQ=YEARLY;BYMONTH=10;BYDAY=-1SU
END:STANDARD
END:VTIMEZONE
BEGIN:VEVENT
DTSTAMP:20260425T021421Z
DTSTART;TZID=Europe/Berlin:20241129T193000
DTEND;TZID=Europe/Berlin:20241129T223000
SUMMARY:O40 4. Liga Gr. 2 Bülach II vs Pinguin Zürich II (0)
UID:928ed5f9-2be0-49a4-b9b7-5f1f777d81d9
STATUS:CONFIRMED
LAST-MODIFIED:20241211T110401Z
DESCRIPTION:4. Liga O40 Gruppe 2\nBegegnungs-Nr: 0\nHeim: Bülach II\nGast: Pinguin Zürich II\n\nAdresse: Schwerzgruebstrasse 28\, 8180 Bülach\n
LOCATION:Schwerzgruebstrasse 28\, 8180 Bülach
CATEGORIES:Saison 2024/25
END:VEVENT
BEGIN:VEVENT
DTSTAMP:20260425T021421Z
DTSTART;TZID=Europe/Berlin:20241025T193000
DTEND;TZID=Europe/Berlin:20241025T223000
SUMMARY:O40 4. Liga Gr. 2 Bülach II vs Imperial Winterthur (0)
UID:2b6f52ed-e4b4-4fe9-baaa-22088fcd9e52
STATUS:CONFIRMED
LAST-MODIFIED:20241030T133839Z
DESCRIPTION:4. Liga O40 Gruppe 2\nBegegnungs-Nr: 0\nHeim: Bülach II\nGast: Imperial Winterthur\n\nAdresse: Schwerzgruebstrasse 28\, 8180 Bülach\n
LOCATION:Schwerzgruebstrasse 28\, 8180 Bülach
CATEGORIES:Saison 2024/25
END:VEVENT
BEGIN:VEVENT
DTSTAMP:20260425T021421Z
DTSTART;TZID=Europe/Berlin:20240823T201500
DTEND;TZID=Europe/Berlin:20240823T231500
SUMMARY:O40 4. Liga Gr. 2 Bülach II vs Wolfhausen II (0)
UID:07b5e130-5b90-4262-b395-90b3cb0d47b8
STATUS:CONFIRMED
LAST-MODIFIED:20240828T091835Z
DESCRIPTION:4. Liga O40 Gruppe 2\nBegegnungs-Nr: 0\nHeim: Bülach II\nGast: Wolfhausen II\n\nAdresse: Schwerzgruebstrasse 28\, 8180 Bülach\n
LOCATION:Schwerzgruebstrasse 28\, 8180 Bülach
CATEGORIES:Saison 2024/25
END:VEVENT
BEGIN:VEVENT
DTSTAMP:20260425T021421Z
DTSTART;TZID=Europe/Berlin:20250404T193000
DTEND;TZID=Europe/Berlin:20250404T223000
SUMMARY:O40 4. Liga Gr. 2 Bülach II vs Uster II (0)
UID:1c983155-10ab-457d-abb9-f25eb4f02aaa
STATUS:CONFIRMED
LAST-MODIFIED:20250407T123144Z
DESCRIPTION:4. Liga O40 Gruppe 2\nBegegnungs-Nr: 0\nHeim: Bülach II\nGast: Uster II\n\nAdresse: Schwerzgruebstrasse 28\, 8180 Bülach\n
LOCATION:Schwerzgruebstrasse 28\, 8180 Bülach
CATEGORIES:Saison 2024/25
END:VEVENT
BEGIN:VEVENT
DTSTAMP:20260425T021421Z
DTSTART;TZID=Europe/Berlin:20250228T193000
DTEND;TZID=Europe/Berlin:20250228T223000
SUMMARY:O40 4. Liga Gr. 2 Bülach II vs Buchs Zürich III (0)
UID:353c0b3b-fe8a-4ec6-a410-3501e68271d6
STATUS:CONFIRMED
LAST-MODIFIED:20250306T143247Z
DESCRIPTION:4. Liga O40 Gruppe 2\nBegegnungs-Nr: 0\nHeim: Bülach II\nGast: Buchs Zürich III\n\nAdresse: Schwerzgruebstrasse 28\, 8180 Bülach\n
LOCATION:Schwerzgruebstrasse 28\, 8180 Bülach
CATEGORIES:Saison 2024/25
END:VEVENT
BEGIN:VEVENT
DTSTAMP:20260425T021421Z
DTSTART;TZID=Europe/Berlin:20250307T193000
DTEND;TZID=Europe/Berlin:20250307T223000
SUMMARY:O40 4. Liga Gr. 2 Bülach II vs Dübendorf-Volketswil III (0)
UID:541245aa-04a9-42bf-926f-8b3a63340e2b
STATUS:CONFIRMED
LAST-MODIFIED:20250312T150410Z
DESCRIPTION:4. Liga O40 Gruppe 2\nBegegnungs-Nr: 0\nHeim: Bülach II\nGast: Dübendorf-Volketswil III\n\nAdresse: Schwerzgruebstrasse 28\, 8180 Bülach\n
LOCATION:Schwerzgruebstrasse 28\, 8180 Bülach
CATEGORIES:Saison 2024/25
END:VEVENT
BEGIN:VEVENT
DTSTAMP:20260425T021421Z
DTSTART;TZID=Europe/Berlin:20241119T201500
DTEND;TZID=Europe/Berlin:20241119T231500
SUMMARY:O40 4. Liga Gr. 2 Uster II vs Bülach II (0)
UID:4288f81c-0927-4c0a-92c8-3cbf8bad8288
STATUS:CONFIRMED
LAST-MODIFIED:20241122T152000Z
DESCRIPTION:4. Liga O40 Gruppe 2\nBegegnungs-Nr: 0\nHeim: Uster II\nGast: Bülach II\n\nAdresse: Wilstrasse 30 / Zürcherstrasse\, 8610 Uster\n
LOCATION:Wilstrasse 30 / Zürcherstrasse\, 8610 Uster
CATEGORIES:Saison 2024/25
END:VEVENT
BEGIN:VEVENT
DTSTAMP:20260425T021421Z
DTSTART;TZID=Europe/Berlin:20240911T201500
DTEND;TZID=Europe/Berlin:20240911T231500
SUMMARY:O40 4. Liga Gr. 2 Buchs Zürich III vs Bülach II (0)
UID:ffee3a95-8eaf-40f0-8f15-0b6909c2c984
STATUS:CONFIRMED
LAST-MODIFIED:20240913T134142Z
DESCRIPTION:4. Liga O40 Gruppe 2\nBegegnungs-Nr: 0\nHeim: Buchs Zürich III\nGast: Bülach II\n\nAdresse: Schulstrasse 73\, 8105 Regensdorf\n
LOCATION:Schulstrasse 73\, 8105 Regensdorf
CATEGORIES:Saison 2024/25
END:VEVENT
BEGIN:VEVENT
DTSTAMP:20260425T021421Z
DTSTART;TZID=Europe/Berlin:20241003T194500
DTEND;TZID=Europe/Berlin:20241003T224500
SUMMARY:O40 4. Liga Gr. 2 Dübendorf-Volketswil III vs Bülach II (0)
UID:46260b30-5cbc-4b81-888d-143da7aefc17
STATUS:CONFIRMED
LAST-MODIFIED:20241010T105958Z
DESCRIPTION:4. Liga O40 Gruppe 2\nBegegnungs-Nr: 0\nHeim: Dübendorf-Volketswil III\nGast: Bülach II\n\nAdresse: Wasserfurrenstrasse 7\, 8600 Dübendorf\n
LOCATION:Wasserfurrenstrasse 7\, 8600 Dübendorf
CATEGORIES:Saison 2024/25
END:VEVENT
BEGIN:VEVENT
DTSTAMP:20260425T021421Z
DTSTART;TZID=Europe/Berlin:20250410T200000
DTEND;TZID=Europe/Berlin:20250410T230000
SUMMARY:O40 4. Liga Gr. 2 Pinguin Zürich II vs Bülach II (0)
UID:efdb3303-4a26-45f1-a98e-f701e79a19d4
STATUS:CONFIRMED
LAST-MODIFIED:20250423T070736Z
DESCRIPTION:4. Liga O40 Gruppe 2\nBegegnungs-Nr: 0\nHeim: Pinguin Zürich II\nGast: Bülach II\n\nAdresse: Grindelstrasse 20\, 8303 Bassersdorf\n
LOCATION:Grindelstrasse 20\, 8303 Bassersdorf
CATEGORIES:Saison 2024/25
END:VEVENT
BEGIN:VEVENT
DTSTAMP:20260425T021421Z
DTSTART;TZID=Europe/Berlin:20250317T200000
DTEND;TZID=Europe/Berlin:20250317T230000
SUMMARY:O40 4. Liga Gr. 2 Imperial Winterthur vs Bülach II (0)
UID:50ca6570-b794-4066-b6e5-e76cf2b2f35d
STATUS:CONFIRMED
LAST-MODIFIED:20250319T095419Z
DESCRIPTION:4. Liga O40 Gruppe 2\nBegegnungs-Nr: 0\nHeim: Imperial Winterthur\nGast: Bülach II\n\nAdresse: Büelhofstrasse 25a\, 8405 Winterthur\n
LOCATION:Büelhofstrasse 25a\, 8405 Winterthur
CATEGORIES:Saison 2024/25
END:VEVENT
BEGIN:VEVENT
DTSTAMP:20260425T021421Z
DTSTART;TZID=Europe/Berlin:20250203T200000
DTEND;TZID=Europe/Berlin:20250203T230000
SUMMARY:O40 4. Liga Gr. 2 Wolfhausen II vs Bülach II (0)
UID:d8eb6049-ae0e-4c99-b066-1e1aa9defc35
STATUS:CONFIRMED
LAST-MODIFIED:20250204T123944Z
DESCRIPTION:4. Liga O40 Gruppe 2\nBegegnungs-Nr: 0\nHeim: Wolfhausen II\nGast: Bülach II\n\nAdresse: Schulstrasse 9\, 8633 Wolfhausen\n
LOCATION:Schulstrasse 9\, 8633 Wolfhausen
CATEGORIES:Saison 2024/25
END:VEVENT
END:VCALENDAR
