BEGIN:VCALENDAR
PRODID:-//nuDatenautomaten//framework iCal4j //DE
VERSION:2.0
CALSCALE:GREGORIAN
BEGIN:VTIMEZONE
TZID:Europe/Berlin
LAST-MODIFIED:20260306T231828Z
TZURL:https://www.tzurl.org/zoneinfo/Europe/Berlin
X-LIC-LOCATION:Europe/Berlin
X-PROLEPTIC-TZNAME:LMT
BEGIN:STANDARD
TZNAME:CET
TZOFFSETFROM:+005328
TZOFFSETTO:+0100
DTSTART:18930401T000000
END:STANDARD
BEGIN:DAYLIGHT
TZNAME:CEST
TZOFFSETFROM:+0100
TZOFFSETTO:+0200
DTSTART:19160430T230000
RDATE:19400401T020000
RDATE:19430329T020000
RDATE:19460414T020000
RDATE:19470406T030000
RDATE:19480418T020000
RDATE:19490410T020000
RDATE:19800406T020000
END:DAYLIGHT
BEGIN:STANDARD
TZNAME:CET
TZOFFSETFROM:+0200
TZOFFSETTO:+0100
DTSTART:19161001T010000
RDATE:19421102T030000
RDATE:19431004T030000
RDATE:19441002T030000
RDATE:19451118T030000
RDATE:19461007T030000
END:STANDARD
BEGIN:DAYLIGHT
TZNAME:CEST
TZOFFSETFROM:+0100
TZOFFSETTO:+0200
DTSTART:19170416T020000
RRULE:FREQ=YEARLY;UNTIL=19180415T010000Z;BYMONTH=4;BYDAY=3MO
END:DAYLIGHT
BEGIN:STANDARD
TZNAME:CET
TZOFFSETFROM:+0200
TZOFFSETTO:+0100
DTSTART:19170917T030000
RRULE:FREQ=YEARLY;UNTIL=19180916T010000Z;BYMONTH=9;BYDAY=3MO
END:STANDARD
BEGIN:DAYLIGHT
TZNAME:CEST
TZOFFSETFROM:+0100
TZOFFSETTO:+0200
DTSTART:19440403T020000
RRULE:FREQ=YEARLY;UNTIL=19450402T010000Z;BYMONTH=4;BYDAY=1MO
END:DAYLIGHT
BEGIN:DAYLIGHT
TZNAME:CEMT
TZOFFSETFROM:+0200
TZOFFSETTO:+0300
DTSTART:19450524T020000
RDATE:19470511T030000
END:DAYLIGHT
BEGIN:DAYLIGHT
TZNAME:CEST
TZOFFSETFROM:+0300
TZOFFSETTO:+0200
DTSTART:19450924T030000
RDATE:19470629T030000
END:DAYLIGHT
BEGIN:STANDARD
TZNAME:CET
TZOFFSETFROM:+0100
TZOFFSETTO:+0100
DTSTART:19460101T000000
RDATE:19800101T000000
END:STANDARD
BEGIN:STANDARD
TZNAME:CET
TZOFFSETFROM:+0200
TZOFFSETTO:+0100
DTSTART:19471005T030000
RRULE:FREQ=YEARLY;UNTIL=19491002T010000Z;BYMONTH=10;BYDAY=1SU
END:STANDARD
BEGIN:STANDARD
TZNAME:CET
TZOFFSETFROM:+0200
TZOFFSETTO:+0100
DTSTART:19800928T030000
RRULE:FREQ=YEARLY;UNTIL=19950924T010000Z;BYMONTH=9;BYDAY=-1SU
END:STANDARD
BEGIN:DAYLIGHT
TZNAME:CEST
TZOFFSETFROM:+0100
TZOFFSETTO:+0200
DTSTART:19810329T020000
RRULE:FREQ=YEARLY;BYMONTH=3;BYDAY=-1SU
END:DAYLIGHT
BEGIN:STANDARD
TZNAME:CET
TZOFFSETFROM:+0200
TZOFFSETTO:+0100
DTSTART:19961027T030000
RRULE:FREQ=YEARLY;BYMONTH=10;BYDAY=-1SU
END:STANDARD
END:VTIMEZONE
BEGIN:VEVENT
DTSTAMP:20260425T020447Z
DTSTART;TZID=Europe/Berlin:20241205T201500
DTEND;TZID=Europe/Berlin:20241205T231500
SUMMARY:HE 6. Liga Gr. 2 Gossau St.Gallen IV vs Weinfelden IV (0)
UID:43749109-263c-4b2e-84b4-488b9172fc8f
STATUS:CONFIRMED
LAST-MODIFIED:20241211T103012Z
DESCRIPTION:6. Liga Herren Gruppe 2\nBegegnungs-Nr: 0\nHeim: Gossau St.Gallen IV\nGast: Weinfelden IV\n\nAdresse: Falkenstrasse 21\, 9200 Gossau\n
LOCATION:Falkenstrasse 21\, 9200 Gossau
CATEGORIES:Saison 2024/25
END:VEVENT
BEGIN:VEVENT
DTSTAMP:20260425T020447Z
DTSTART;TZID=Europe/Berlin:20241107T201500
DTEND;TZID=Europe/Berlin:20241107T231500
SUMMARY:HE 6. Liga Gr. 2 Gossau St.Gallen IV vs Arbon II (0)
UID:92d35231-d92a-46a9-9886-f1a312e775ce
STATUS:CONFIRMED
LAST-MODIFIED:20241108T150321Z
DESCRIPTION:6. Liga Herren Gruppe 2\nBegegnungs-Nr: 0\nHeim: Gossau St.Gallen IV\nGast: Arbon II\n\nAdresse: Falkenstrasse 21\, 9200 Gossau\n
LOCATION:Falkenstrasse 21\, 9200 Gossau
CATEGORIES:Saison 2024/25
END:VEVENT
BEGIN:VEVENT
DTSTAMP:20260425T020447Z
DTSTART;TZID=Europe/Berlin:20240829T201500
DTEND;TZID=Europe/Berlin:20240829T231500
SUMMARY:HE 6. Liga Gr. 2 Gossau St.Gallen IV vs St. Gallen VIII (0)
UID:39bb467c-4a20-43ac-b7f7-fbcb00775496
STATUS:CONFIRMED
LAST-MODIFIED:20240904T113945Z
DESCRIPTION:6. Liga Herren Gruppe 2\nBegegnungs-Nr: 0\nHeim: Gossau St.Gallen IV\nGast: St. Gallen VIII\n\nAdresse: Falkenstrasse 21\, 9200 Gossau\n
LOCATION:Falkenstrasse 21\, 9200 Gossau
CATEGORIES:Saison 2024/25
END:VEVENT
BEGIN:VEVENT
DTSTAMP:20260425T020447Z
DTSTART;TZID=Europe/Berlin:20250306T201500
DTEND;TZID=Europe/Berlin:20250306T231500
SUMMARY:HE 6. Liga Gr. 2 Gossau St.Gallen IV vs Romanshorn V (0)
UID:3594423f-c43d-438b-897b-ca73469a60e1
STATUS:CONFIRMED
LAST-MODIFIED:20250307T082716Z
DESCRIPTION:6. Liga Herren Gruppe 2\nBegegnungs-Nr: 0\nHeim: Gossau St.Gallen IV\nGast: Romanshorn V\n\nAdresse: Falkenstrasse 21\, 9200 Gossau\n
LOCATION:Falkenstrasse 21\, 9200 Gossau
CATEGORIES:Saison 2024/25
END:VEVENT
BEGIN:VEVENT
DTSTAMP:20260425T020447Z
DTSTART;TZID=Europe/Berlin:20250220T201500
DTEND;TZID=Europe/Berlin:20250220T231500
SUMMARY:HE 6. Liga Gr. 2 Gossau St.Gallen IV vs Muolen V (0)
UID:86956eb1-9dd0-4e97-9324-02c9c2447d50
STATUS:CONFIRMED
LAST-MODIFIED:20250227T112917Z
DESCRIPTION:6. Liga Herren Gruppe 2\nBegegnungs-Nr: 0\nHeim: Gossau St.Gallen IV\nGast: Muolen V\n\nAdresse: Falkenstrasse 21\, 9200 Gossau\n
LOCATION:Falkenstrasse 21\, 9200 Gossau
CATEGORIES:Saison 2024/25
END:VEVENT
BEGIN:VEVENT
DTSTAMP:20260425T020447Z
DTSTART;TZID=Europe/Berlin:20250109T201500
DTEND;TZID=Europe/Berlin:20250109T231500
SUMMARY:HE 6. Liga Gr. 2 Gossau St.Gallen IV vs Wil SG VI (0)
UID:7adf07fe-9b85-4282-b08e-77fb610d1fdf
STATUS:CONFIRMED
LAST-MODIFIED:20250110T151656Z
DESCRIPTION:6. Liga Herren Gruppe 2\nBegegnungs-Nr: 0\nHeim: Gossau St.Gallen IV\nGast: Wil SG VI\n\nAdresse: Falkenstrasse 21\, 9200 Gossau\n
LOCATION:Falkenstrasse 21\, 9200 Gossau
CATEGORIES:Saison 2024/25
END:VEVENT
BEGIN:VEVENT
DTSTAMP:20260425T020447Z
DTSTART;TZID=Europe/Berlin:20241101T201500
DTEND;TZID=Europe/Berlin:20241101T231500
SUMMARY:HE 6. Liga Gr. 2 Romanshorn V vs Gossau St.Gallen IV (0)
UID:3e0e5aa6-801d-4e57-b326-6c784dffec78
STATUS:CONFIRMED
LAST-MODIFIED:20241108T150302Z
DESCRIPTION:6. Liga Herren Gruppe 2\nBegegnungs-Nr: 0\nHeim: Romanshorn V\nGast: Gossau St.Gallen IV\n\nAdresse: Florastrasse\, 8590 Romanshorn\n
LOCATION:Florastrasse\, 8590 Romanshorn
CATEGORIES:Saison 2024/25
END:VEVENT
BEGIN:VEVENT
DTSTAMP:20260425T020447Z
DTSTART;TZID=Europe/Berlin:20240928T100000
DTEND;TZID=Europe/Berlin:20240928T130000
SUMMARY:HE 6. Liga Gr. 2 Muolen V vs Gossau St.Gallen IV (0)
UID:ffb488b5-5c0f-4032-83f4-5cc31e9b8bf4
STATUS:CONFIRMED
LAST-MODIFIED:20240930T124825Z
DESCRIPTION:6. Liga Herren Gruppe 2\nBegegnungs-Nr: 0\nHeim: Muolen V\nGast: Gossau St.Gallen IV\n\nAdresse: Dorfstrasse 31\, 9313 Muolen\n
LOCATION:Dorfstrasse 31\, 9313 Muolen
CATEGORIES:Saison 2024/25
END:VEVENT
BEGIN:VEVENT
DTSTAMP:20260425T020447Z
DTSTART;TZID=Europe/Berlin:20240903T201500
DTEND;TZID=Europe/Berlin:20240903T231500
SUMMARY:HE 6. Liga Gr. 2 Wil SG VI vs Gossau St.Gallen IV (0)
UID:4f8abb52-f5a5-43ea-b34d-6c28db8c47a5
STATUS:CONFIRMED
LAST-MODIFIED:20240904T113955Z
DESCRIPTION:6. Liga Herren Gruppe 2\nBegegnungs-Nr: 0\nHeim: Wil SG VI\nGast: Gossau St.Gallen IV\n\nAdresse: Lindenhofstr. 23\, 9500 Wil\n
LOCATION:Lindenhofstr. 23\, 9500 Wil
CATEGORIES:Saison 2024/25
END:VEVENT
BEGIN:VEVENT
DTSTAMP:20260425T020447Z
DTSTART;TZID=Europe/Berlin:20250327T200000
DTEND;TZID=Europe/Berlin:20250327T230000
SUMMARY:HE 6. Liga Gr. 2 Weinfelden IV vs Gossau St.Gallen IV (0)
UID:dbbbf65c-e198-4565-8f46-b0b8a0d21ef9
STATUS:CONFIRMED
LAST-MODIFIED:20250404T083521Z
DESCRIPTION:6. Liga Herren Gruppe 2\nBegegnungs-Nr: 0\nHeim: Weinfelden IV\nGast: Gossau St.Gallen IV\n\nAdresse: Bleichestrasse 3 (neben Hallenbad)\, 8570 Weinfelden\n
LOCATION:Bleichestrasse 3 (neben Hallenbad)\, 8570 Weinfelden
CATEGORIES:Saison 2024/25
END:VEVENT
BEGIN:VEVENT
DTSTAMP:20260425T020447Z
DTSTART;TZID=Europe/Berlin:20250313T200000
DTEND;TZID=Europe/Berlin:20250313T230000
SUMMARY:HE 6. Liga Gr. 2 Arbon II vs Gossau St.Gallen IV (0)
UID:0b68234a-84d4-4fe7-b7ef-8ba0f81e3a9c
STATUS:CONFIRMED
LAST-MODIFIED:20250314T125108Z
DESCRIPTION:6. Liga Herren Gruppe 2\nBegegnungs-Nr: 0\nHeim: Arbon II\nGast: Gossau St.Gallen IV\n\nAdresse: Promenadenstrasse 17\, 9320 Arbon\n
LOCATION:Promenadenstrasse 17\, 9320 Arbon
CATEGORIES:Saison 2024/25
END:VEVENT
BEGIN:VEVENT
DTSTAMP:20260425T020447Z
DTSTART;TZID=Europe/Berlin:20250107T200000
DTEND;TZID=Europe/Berlin:20250107T230000
SUMMARY:HE 6. Liga Gr. 2 St. Gallen VIII vs Gossau St.Gallen IV (0)
UID:0dc9167c-ffc9-4957-b7d5-f4181267b523
STATUS:CONFIRMED
LAST-MODIFIED:20250110T151635Z
DESCRIPTION:6. Liga Herren Gruppe 2\nBegegnungs-Nr: 0\nHeim: St. Gallen VIII\nGast: Gossau St.Gallen IV\n\nAdresse: Zilstrasse 61\, 9016 St.Gallen\n
LOCATION:Zilstrasse 61\, 9016 St.Gallen
CATEGORIES:Saison 2024/25
END:VEVENT
END:VCALENDAR
