BEGIN:VCALENDAR
PRODID:-//nuDatenautomaten//framework iCal4j //DE
VERSION:2.0
CALSCALE:GREGORIAN
BEGIN:VTIMEZONE
TZID:Europe/Berlin
LAST-MODIFIED:20260306T231828Z
TZURL:https://www.tzurl.org/zoneinfo/Europe/Berlin
X-LIC-LOCATION:Europe/Berlin
X-PROLEPTIC-TZNAME:LMT
BEGIN:STANDARD
TZNAME:CET
TZOFFSETFROM:+005328
TZOFFSETTO:+0100
DTSTART:18930401T000000
END:STANDARD
BEGIN:DAYLIGHT
TZNAME:CEST
TZOFFSETFROM:+0100
TZOFFSETTO:+0200
DTSTART:19160430T230000
RDATE:19400401T020000
RDATE:19430329T020000
RDATE:19460414T020000
RDATE:19470406T030000
RDATE:19480418T020000
RDATE:19490410T020000
RDATE:19800406T020000
END:DAYLIGHT
BEGIN:STANDARD
TZNAME:CET
TZOFFSETFROM:+0200
TZOFFSETTO:+0100
DTSTART:19161001T010000
RDATE:19421102T030000
RDATE:19431004T030000
RDATE:19441002T030000
RDATE:19451118T030000
RDATE:19461007T030000
END:STANDARD
BEGIN:DAYLIGHT
TZNAME:CEST
TZOFFSETFROM:+0100
TZOFFSETTO:+0200
DTSTART:19170416T020000
RRULE:FREQ=YEARLY;UNTIL=19180415T010000Z;BYMONTH=4;BYDAY=3MO
END:DAYLIGHT
BEGIN:STANDARD
TZNAME:CET
TZOFFSETFROM:+0200
TZOFFSETTO:+0100
DTSTART:19170917T030000
RRULE:FREQ=YEARLY;UNTIL=19180916T010000Z;BYMONTH=9;BYDAY=3MO
END:STANDARD
BEGIN:DAYLIGHT
TZNAME:CEST
TZOFFSETFROM:+0100
TZOFFSETTO:+0200
DTSTART:19440403T020000
RRULE:FREQ=YEARLY;UNTIL=19450402T010000Z;BYMONTH=4;BYDAY=1MO
END:DAYLIGHT
BEGIN:DAYLIGHT
TZNAME:CEMT
TZOFFSETFROM:+0200
TZOFFSETTO:+0300
DTSTART:19450524T020000
RDATE:19470511T030000
END:DAYLIGHT
BEGIN:DAYLIGHT
TZNAME:CEST
TZOFFSETFROM:+0300
TZOFFSETTO:+0200
DTSTART:19450924T030000
RDATE:19470629T030000
END:DAYLIGHT
BEGIN:STANDARD
TZNAME:CET
TZOFFSETFROM:+0100
TZOFFSETTO:+0100
DTSTART:19460101T000000
RDATE:19800101T000000
END:STANDARD
BEGIN:STANDARD
TZNAME:CET
TZOFFSETFROM:+0200
TZOFFSETTO:+0100
DTSTART:19471005T030000
RRULE:FREQ=YEARLY;UNTIL=19491002T010000Z;BYMONTH=10;BYDAY=1SU
END:STANDARD
BEGIN:STANDARD
TZNAME:CET
TZOFFSETFROM:+0200
TZOFFSETTO:+0100
DTSTART:19800928T030000
RRULE:FREQ=YEARLY;UNTIL=19950924T010000Z;BYMONTH=9;BYDAY=-1SU
END:STANDARD
BEGIN:DAYLIGHT
TZNAME:CEST
TZOFFSETFROM:+0100
TZOFFSETTO:+0200
DTSTART:19810329T020000
RRULE:FREQ=YEARLY;BYMONTH=3;BYDAY=-1SU
END:DAYLIGHT
BEGIN:STANDARD
TZNAME:CET
TZOFFSETFROM:+0200
TZOFFSETTO:+0100
DTSTART:19961027T030000
RRULE:FREQ=YEARLY;BYMONTH=10;BYDAY=-1SU
END:STANDARD
END:VTIMEZONE
BEGIN:VEVENT
DTSTAMP:20260425T021421Z
DTSTART;TZID=Europe/Berlin:20241210T201500
DTEND;TZID=Europe/Berlin:20241210T231500
SUMMARY:O40 4. Liga Gr. 2 Uster II vs Pinguin Zürich II (0)
UID:5eacfc8d-a42d-4435-bbd1-7fcf33e1e82b
STATUS:CONFIRMED
LAST-MODIFIED:20241211T103632Z
DESCRIPTION:4. Liga O40 Gruppe 2\nBegegnungs-Nr: 0\nHeim: Uster II\nGast: Pinguin Zürich II\n\nAdresse: Wilstrasse 30 / Zürcherstrasse\, 8610 Uster\n
LOCATION:Wilstrasse 30 / Zürcherstrasse\, 8610 Uster
CATEGORIES:Saison 2024/25
END:VEVENT
BEGIN:VEVENT
DTSTAMP:20260425T021421Z
DTSTART;TZID=Europe/Berlin:20241119T201500
DTEND;TZID=Europe/Berlin:20241119T231500
SUMMARY:O40 4. Liga Gr. 2 Uster II vs Bülach II (0)
UID:4288f81c-0927-4c0a-92c8-3cbf8bad8288
STATUS:CONFIRMED
LAST-MODIFIED:20241122T152000Z
DESCRIPTION:4. Liga O40 Gruppe 2\nBegegnungs-Nr: 0\nHeim: Uster II\nGast: Bülach II\n\nAdresse: Wilstrasse 30 / Zürcherstrasse\, 8610 Uster\n
LOCATION:Wilstrasse 30 / Zürcherstrasse\, 8610 Uster
CATEGORIES:Saison 2024/25
END:VEVENT
BEGIN:VEVENT
DTSTAMP:20260425T021421Z
DTSTART;TZID=Europe/Berlin:20241001T201500
DTEND;TZID=Europe/Berlin:20241001T231500
SUMMARY:O40 4. Liga Gr. 2 Uster II vs Wolfhausen II (0)
UID:1b39dba3-db77-47e1-ba9c-9635c6204fd3
STATUS:CONFIRMED
LAST-MODIFIED:20241004T082149Z
DESCRIPTION:4. Liga O40 Gruppe 2\nBegegnungs-Nr: 0\nHeim: Uster II\nGast: Wolfhausen II\n\nAdresse: Wilstrasse 30 / Zürcherstrasse\, 8610 Uster\n
LOCATION:Wilstrasse 30 / Zürcherstrasse\, 8610 Uster
CATEGORIES:Saison 2024/25
END:VEVENT
BEGIN:VEVENT
DTSTAMP:20260425T021421Z
DTSTART;TZID=Europe/Berlin:20240820T201500
DTEND;TZID=Europe/Berlin:20240820T231500
SUMMARY:O40 4. Liga Gr. 2 Uster II vs Imperial Winterthur (0)
UID:75c8f8af-01fd-4d3b-bff6-0245156841a1
STATUS:CONFIRMED
LAST-MODIFIED:20240828T091824Z
DESCRIPTION:4. Liga O40 Gruppe 2\nBegegnungs-Nr: 0\nHeim: Uster II\nGast: Imperial Winterthur\n\nAdresse: Wilstrasse 30 / Zürcherstrasse\, 8610 Uster\n
LOCATION:Wilstrasse 30 / Zürcherstrasse\, 8610 Uster
CATEGORIES:Saison 2024/25
END:VEVENT
BEGIN:VEVENT
DTSTAMP:20260425T021421Z
DTSTART;TZID=Europe/Berlin:20250218T201500
DTEND;TZID=Europe/Berlin:20250218T231500
SUMMARY:O40 4. Liga Gr. 2 Uster II vs Dübendorf-Volketswil III (0)
UID:a15a42e3-9caf-4a15-bd5f-79175d62713b
STATUS:CONFIRMED
LAST-MODIFIED:20250227T154205Z
DESCRIPTION:4. Liga O40 Gruppe 2\nBegegnungs-Nr: 0\nHeim: Uster II\nGast: Dübendorf-Volketswil III\n\nAdresse: Wilstrasse 30 / Zürcherstrasse\, 8610 Uster\n
LOCATION:Wilstrasse 30 / Zürcherstrasse\, 8610 Uster
CATEGORIES:Saison 2024/25
END:VEVENT
BEGIN:VEVENT
DTSTAMP:20260425T021421Z
DTSTART;TZID=Europe/Berlin:20250114T201500
DTEND;TZID=Europe/Berlin:20250114T231500
SUMMARY:O40 4. Liga Gr. 2 Uster II vs Buchs Zürich III (0)
UID:8f5182d3-3856-41cb-a053-cf8fbf1fe908
STATUS:CONFIRMED
LAST-MODIFIED:20250116T101729Z
DESCRIPTION:4. Liga O40 Gruppe 2\nBegegnungs-Nr: 0\nHeim: Uster II\nGast: Buchs Zürich III\n\nAdresse: Wilstrasse 30 / Zürcherstrasse\, 8610 Uster\n
LOCATION:Wilstrasse 30 / Zürcherstrasse\, 8610 Uster
CATEGORIES:Saison 2024/25
END:VEVENT
BEGIN:VEVENT
DTSTAMP:20260425T021421Z
DTSTART;TZID=Europe/Berlin:20240912T194500
DTEND;TZID=Europe/Berlin:20240912T224500
SUMMARY:O40 4. Liga Gr. 2 Dübendorf-Volketswil III vs Uster II (0)
UID:7f327730-2ddb-42e1-9485-0b850cf5313c
STATUS:CONFIRMED
LAST-MODIFIED:20240917T072800Z
DESCRIPTION:4. Liga O40 Gruppe 2\nBegegnungs-Nr: 0\nHeim: Dübendorf-Volketswil III\nGast: Uster II\n\nAdresse: Wasserfurrenstrasse 7\, 8600 Dübendorf\n
LOCATION:Wasserfurrenstrasse 7\, 8600 Dübendorf
CATEGORIES:Saison 2024/25
END:VEVENT
BEGIN:VEVENT
DTSTAMP:20260425T021421Z
DTSTART;TZID=Europe/Berlin:20241002T201500
DTEND;TZID=Europe/Berlin:20241002T231500
SUMMARY:O40 4. Liga Gr. 2 Buchs Zürich III vs Uster II (0)
UID:93c35cfd-5a5f-4da4-9d8b-b5a5e523dc5b
STATUS:CONFIRMED
LAST-MODIFIED:20241004T082202Z
DESCRIPTION:4. Liga O40 Gruppe 2\nBegegnungs-Nr: 0\nHeim: Buchs Zürich III\nGast: Uster II\n\nAdresse: Schulstrasse 73\, 8105 Regensdorf\n
LOCATION:Schulstrasse 73\, 8105 Regensdorf
CATEGORIES:Saison 2024/25
END:VEVENT
BEGIN:VEVENT
DTSTAMP:20260425T021421Z
DTSTART;TZID=Europe/Berlin:20250417T200000
DTEND;TZID=Europe/Berlin:20250417T230000
SUMMARY:O40 4. Liga Gr. 2 Pinguin Zürich II vs Uster II (0)
UID:e05c553d-9448-4f1b-a0e6-9b49eabaea82
STATUS:CONFIRMED
LAST-MODIFIED:20250423T070824Z
DESCRIPTION:4. Liga O40 Gruppe 2\nBegegnungs-Nr: 0\nHeim: Pinguin Zürich II\nGast: Uster II\n\nAdresse: Grindelstrasse 20\, 8303 Bassersdorf\n
LOCATION:Grindelstrasse 20\, 8303 Bassersdorf
CATEGORIES:Saison 2024/25
END:VEVENT
BEGIN:VEVENT
DTSTAMP:20260425T021421Z
DTSTART;TZID=Europe/Berlin:20250404T193000
DTEND;TZID=Europe/Berlin:20250404T223000
SUMMARY:O40 4. Liga Gr. 2 Bülach II vs Uster II (0)
UID:1c983155-10ab-457d-abb9-f25eb4f02aaa
STATUS:CONFIRMED
LAST-MODIFIED:20250407T123144Z
DESCRIPTION:4. Liga O40 Gruppe 2\nBegegnungs-Nr: 0\nHeim: Bülach II\nGast: Uster II\n\nAdresse: Schwerzgruebstrasse 28\, 8180 Bülach\n
LOCATION:Schwerzgruebstrasse 28\, 8180 Bülach
CATEGORIES:Saison 2024/25
END:VEVENT
BEGIN:VEVENT
DTSTAMP:20260425T021421Z
DTSTART;TZID=Europe/Berlin:20250317T200000
DTEND;TZID=Europe/Berlin:20250317T230000
SUMMARY:O40 4. Liga Gr. 2 Wolfhausen II vs Uster II (0)
UID:aa95db1a-321c-4f7d-a96d-8530f6a99ae7
STATUS:CONFIRMED
LAST-MODIFIED:20250319T095428Z
DESCRIPTION:4. Liga O40 Gruppe 2\nBegegnungs-Nr: 0\nHeim: Wolfhausen II\nGast: Uster II\n\nAdresse: Schulstrasse 9\, 8633 Wolfhausen\n
LOCATION:Schulstrasse 9\, 8633 Wolfhausen
CATEGORIES:Saison 2024/25
END:VEVENT
BEGIN:VEVENT
DTSTAMP:20260425T021421Z
DTSTART;TZID=Europe/Berlin:20250217T200000
DTEND;TZID=Europe/Berlin:20250217T230000
SUMMARY:O40 4. Liga Gr. 2 Imperial Winterthur vs Uster II (0)
UID:8d5f4ebc-a127-4a33-8c7b-fe2d7a8f8d9d
STATUS:CONFIRMED
LAST-MODIFIED:20250219T133528Z
DESCRIPTION:4. Liga O40 Gruppe 2\nBegegnungs-Nr: 0\nHeim: Imperial Winterthur\nGast: Uster II\n\nAdresse: Büelhofstrasse 25a\, 8405 Winterthur\n
LOCATION:Büelhofstrasse 25a\, 8405 Winterthur
CATEGORIES:Saison 2024/25
END:VEVENT
END:VCALENDAR
