BEGIN:VCALENDAR
PRODID:-//nuDatenautomaten//framework iCal4j //DE
VERSION:2.0
CALSCALE:GREGORIAN
BEGIN:VTIMEZONE
TZID:Europe/Berlin
LAST-MODIFIED:20260306T231828Z
TZURL:https://www.tzurl.org/zoneinfo/Europe/Berlin
X-LIC-LOCATION:Europe/Berlin
X-PROLEPTIC-TZNAME:LMT
BEGIN:STANDARD
TZNAME:CET
TZOFFSETFROM:+005328
TZOFFSETTO:+0100
DTSTART:18930401T000000
END:STANDARD
BEGIN:DAYLIGHT
TZNAME:CEST
TZOFFSETFROM:+0100
TZOFFSETTO:+0200
DTSTART:19160430T230000
RDATE:19400401T020000
RDATE:19430329T020000
RDATE:19460414T020000
RDATE:19470406T030000
RDATE:19480418T020000
RDATE:19490410T020000
RDATE:19800406T020000
END:DAYLIGHT
BEGIN:STANDARD
TZNAME:CET
TZOFFSETFROM:+0200
TZOFFSETTO:+0100
DTSTART:19161001T010000
RDATE:19421102T030000
RDATE:19431004T030000
RDATE:19441002T030000
RDATE:19451118T030000
RDATE:19461007T030000
END:STANDARD
BEGIN:DAYLIGHT
TZNAME:CEST
TZOFFSETFROM:+0100
TZOFFSETTO:+0200
DTSTART:19170416T020000
RRULE:FREQ=YEARLY;UNTIL=19180415T010000Z;BYMONTH=4;BYDAY=3MO
END:DAYLIGHT
BEGIN:STANDARD
TZNAME:CET
TZOFFSETFROM:+0200
TZOFFSETTO:+0100
DTSTART:19170917T030000
RRULE:FREQ=YEARLY;UNTIL=19180916T010000Z;BYMONTH=9;BYDAY=3MO
END:STANDARD
BEGIN:DAYLIGHT
TZNAME:CEST
TZOFFSETFROM:+0100
TZOFFSETTO:+0200
DTSTART:19440403T020000
RRULE:FREQ=YEARLY;UNTIL=19450402T010000Z;BYMONTH=4;BYDAY=1MO
END:DAYLIGHT
BEGIN:DAYLIGHT
TZNAME:CEMT
TZOFFSETFROM:+0200
TZOFFSETTO:+0300
DTSTART:19450524T020000
RDATE:19470511T030000
END:DAYLIGHT
BEGIN:DAYLIGHT
TZNAME:CEST
TZOFFSETFROM:+0300
TZOFFSETTO:+0200
DTSTART:19450924T030000
RDATE:19470629T030000
END:DAYLIGHT
BEGIN:STANDARD
TZNAME:CET
TZOFFSETFROM:+0100
TZOFFSETTO:+0100
DTSTART:19460101T000000
RDATE:19800101T000000
END:STANDARD
BEGIN:STANDARD
TZNAME:CET
TZOFFSETFROM:+0200
TZOFFSETTO:+0100
DTSTART:19471005T030000
RRULE:FREQ=YEARLY;UNTIL=19491002T010000Z;BYMONTH=10;BYDAY=1SU
END:STANDARD
BEGIN:STANDARD
TZNAME:CET
TZOFFSETFROM:+0200
TZOFFSETTO:+0100
DTSTART:19800928T030000
RRULE:FREQ=YEARLY;UNTIL=19950924T010000Z;BYMONTH=9;BYDAY=-1SU
END:STANDARD
BEGIN:DAYLIGHT
TZNAME:CEST
TZOFFSETFROM:+0100
TZOFFSETTO:+0200
DTSTART:19810329T020000
RRULE:FREQ=YEARLY;BYMONTH=3;BYDAY=-1SU
END:DAYLIGHT
BEGIN:STANDARD
TZNAME:CET
TZOFFSETFROM:+0200
TZOFFSETTO:+0100
DTSTART:19961027T030000
RRULE:FREQ=YEARLY;BYMONTH=10;BYDAY=-1SU
END:STANDARD
END:VTIMEZONE
BEGIN:VEVENT
DTSTAMP:20260425T004236Z
DTSTART;TZID=Europe/Berlin:20241119T200000
DTEND;TZID=Europe/Berlin:20241119T230000
SUMMARY:Ligue 2 Gr.1\, Ph.A Onex vs Bernex II (23)
UID:27672dfd-c155-46e1-8924-74358a3cd38f
STATUS:CONFIRMED
LAST-MODIFIED:20241120T081242Z
DESCRIPTION:2ème ligue Homme Gr.1 Phase A\nBegegnungs-Nr: 23\nHeim: Onex\nGast: Bernex II\n
LOCATION:
CATEGORIES:Saison 2024/25
END:VEVENT
BEGIN:VEVENT
DTSTAMP:20260425T004236Z
DTSTART;TZID=Europe/Berlin:20241112T200000
DTEND;TZID=Europe/Berlin:20241112T230000
SUMMARY:Ligue 2 Gr.1\, Ph.A Onex vs Châtelaine IV (19)
UID:e97a4835-d539-4e3c-9f21-6cd513d91e58
STATUS:CONFIRMED
LAST-MODIFIED:20241112T222047Z
DESCRIPTION:2ème ligue Homme Gr.1 Phase A\nBegegnungs-Nr: 19\nHeim: Onex\nGast: Châtelaine IV\n
LOCATION:
CATEGORIES:Saison 2024/25
END:VEVENT
BEGIN:VEVENT
DTSTAMP:20260425T004236Z
DTSTART;TZID=Europe/Berlin:20241015T200000
DTEND;TZID=Europe/Berlin:20241015T230000
SUMMARY:Ligue 2 Gr.1\, Ph.A Onex vs ZZ-Lancy V (14)
UID:10e38637-7b55-4e20-a230-e7d79750fd9f
STATUS:CONFIRMED
LAST-MODIFIED:20241016T065514Z
DESCRIPTION:2ème ligue Homme Gr.1 Phase A\nBegegnungs-Nr: 14\nHeim: Onex\nGast: ZZ-Lancy V\n
LOCATION:
CATEGORIES:Saison 2024/25
END:VEVENT
BEGIN:VEVENT
DTSTAMP:20260425T004236Z
DTSTART;TZID=Europe/Berlin:20241008T200000
DTEND;TZID=Europe/Berlin:20241008T230000
SUMMARY:Ligue 2 Gr.1\, Ph.A Onex vs Vernier II (10)
UID:900d3a48-0287-4f67-ac2c-e1997ea2ef84
STATUS:CONFIRMED
LAST-MODIFIED:20241009T073835Z
DESCRIPTION:2ème ligue Homme Gr.1 Phase A\nBegegnungs-Nr: 10\nHeim: Onex\nGast: Vernier II\n
LOCATION:
CATEGORIES:Saison 2024/25
END:VEVENT
BEGIN:VEVENT
DTSTAMP:20260425T004236Z
DTSTART;TZID=Europe/Berlin:20240910T200000
DTEND;TZID=Europe/Berlin:20240910T230000
SUMMARY:Ligue 2 Gr.1\, Ph.A Onex vs Silver Star III (3)
UID:e7306a5b-05b1-4bdd-bf1f-9d7731d4e262
STATUS:CONFIRMED
LAST-MODIFIED:20240911T104049Z
DESCRIPTION:2ème ligue Homme Gr.1 Phase A\nBegegnungs-Nr: 3\nHeim: Onex\nGast: Silver Star III\n
LOCATION:
CATEGORIES:Saison 2024/25
END:VEVENT
BEGIN:VEVENT
DTSTAMP:20260425T004236Z
DTSTART;TZID=Europe/Berlin:20250401T200000
DTEND;TZID=Europe/Berlin:20250401T230000
SUMMARY:Ligue 2 Gr.2\, Ph.B Onex vs Mandement IV (23)
UID:fa04893b-987f-4a78-87c4-893906c9765c
STATUS:CONFIRMED
LAST-MODIFIED:20250402T071221Z
DESCRIPTION:2ème ligue Homme Gr.2 Phase B\nBegegnungs-Nr: 23\nHeim: Onex\nGast: Mandement IV\n
LOCATION:
CATEGORIES:Saison 2024/25
END:VEVENT
BEGIN:VEVENT
DTSTAMP:20260425T004236Z
DTSTART;TZID=Europe/Berlin:20250318T200000
DTEND;TZID=Europe/Berlin:20250318T230000
SUMMARY:Ligue 2 Gr.2\, Ph.B Onex vs UGS-Chênois V (19)
UID:6f321773-65c4-404c-a934-adeaec05ddd5
STATUS:CONFIRMED
LAST-MODIFIED:20250319T085016Z
DESCRIPTION:2ème ligue Homme Gr.2 Phase B\nBegegnungs-Nr: 19\nHeim: Onex\nGast: UGS-Chênois V\n
LOCATION:
CATEGORIES:Saison 2024/25
END:VEVENT
BEGIN:VEVENT
DTSTAMP:20260425T004236Z
DTSTART;TZID=Europe/Berlin:20250218T200000
DTEND;TZID=Europe/Berlin:20250218T230000
SUMMARY:Ligue 2 Gr.2\, Ph.B Onex vs ZZ-Lancy VI (14)
UID:969e3a97-9f3e-4a90-b1f9-7fc5c59e9412
STATUS:CONFIRMED
LAST-MODIFIED:20250219T091521Z
DESCRIPTION:2ème ligue Homme Gr.2 Phase B\nBegegnungs-Nr: 14\nHeim: Onex\nGast: ZZ-Lancy VI\n
LOCATION:
CATEGORIES:Saison 2024/25
END:VEVENT
BEGIN:VEVENT
DTSTAMP:20260425T004236Z
DTSTART;TZID=Europe/Berlin:20250211T200000
DTEND;TZID=Europe/Berlin:20250211T230000
SUMMARY:Ligue 2 Gr.2\, Ph.B Onex vs Châtelaine III (10)
UID:6e2b8552-dfe7-44e6-ab7a-e18226b9207e
STATUS:CONFIRMED
LAST-MODIFIED:20250212T101744Z
DESCRIPTION:2ème ligue Homme Gr.2 Phase B\nBegegnungs-Nr: 10\nHeim: Onex\nGast: Châtelaine III\n
LOCATION:
CATEGORIES:Saison 2024/25
END:VEVENT
BEGIN:VEVENT
DTSTAMP:20260425T004236Z
DTSTART;TZID=Europe/Berlin:20250114T200000
DTEND;TZID=Europe/Berlin:20250114T230000
SUMMARY:Ligue 2 Gr.2\, Ph.B Onex vs Silver Star III (3)
UID:7cf06b46-e412-45fa-9488-79e94bd9482d
STATUS:CONFIRMED
LAST-MODIFIED:20250115T085126Z
DESCRIPTION:2ème ligue Homme Gr.2 Phase B\nBegegnungs-Nr: 3\nHeim: Onex\nGast: Silver Star III\n
LOCATION:
CATEGORIES:Saison 2024/25
END:VEVENT
BEGIN:VEVENT
DTSTAMP:20260425T004236Z
DTSTART;TZID=Europe/Berlin:20241203T200000
DTEND;TZID=Europe/Berlin:20241203T230000
SUMMARY:Ligue 2 Gr.1\, Ph.A ZZ-Lancy V vs Onex (29)
UID:6048b734-236a-4b37-8a72-4f4c1aea27f7
STATUS:CONFIRMED
LAST-MODIFIED:20241204T084351Z
DESCRIPTION:2ème ligue Homme Gr.1 Phase A\nBegegnungs-Nr: 29\nHeim: ZZ-Lancy V\nGast: Onex\n
LOCATION:
CATEGORIES:Saison 2024/25
END:VEVENT
BEGIN:VEVENT
DTSTAMP:20260425T004236Z
DTSTART;TZID=Europe/Berlin:20241126T194500
DTEND;TZID=Europe/Berlin:20241126T224500
SUMMARY:Ligue 2 Gr.1\, Ph.A Vernier II vs Onex (25)
UID:0fca1a63-b0cf-4984-bcbf-a2448ddb297f
STATUS:CONFIRMED
LAST-MODIFIED:20241127T081614Z
DESCRIPTION:2ème ligue Homme Gr.1 Phase A\nBegegnungs-Nr: 25\nHeim: Vernier II\nGast: Onex\n
LOCATION:
CATEGORIES:Saison 2024/25
END:VEVENT
BEGIN:VEVENT
DTSTAMP:20260425T004236Z
DTSTART;TZID=Europe/Berlin:20241029T194500
DTEND;TZID=Europe/Berlin:20241029T224500
SUMMARY:Ligue 2 Gr.1\, Ph.A Silver Star III vs Onex (18)
UID:21d210be-ba2c-41f8-bd3b-c79fd4c42139
STATUS:CONFIRMED
LAST-MODIFIED:20241030T112259Z
DESCRIPTION:2ème ligue Homme Gr.1 Phase A\nBegegnungs-Nr: 18\nHeim: Silver Star III\nGast: Onex\n
LOCATION:
CATEGORIES:Saison 2024/25
END:VEVENT
BEGIN:VEVENT
DTSTAMP:20260425T004236Z
DTSTART;TZID=Europe/Berlin:20240924T194500
DTEND;TZID=Europe/Berlin:20240924T224500
SUMMARY:Ligue 2 Gr.1\, Ph.A Bernex II vs Onex (8)
UID:999e570f-0548-4e32-92b3-3698facd6603
STATUS:CONFIRMED
LAST-MODIFIED:20240925T060555Z
DESCRIPTION:2ème ligue Homme Gr.1 Phase A\nBegegnungs-Nr: 8\nHeim: Bernex II\nGast: Onex\n
LOCATION:
CATEGORIES:Saison 2024/25
END:VEVENT
BEGIN:VEVENT
DTSTAMP:20260425T004236Z
DTSTART;TZID=Europe/Berlin:20240917T194500
DTEND;TZID=Europe/Berlin:20240917T224500
SUMMARY:Ligue 2 Gr.1\, Ph.A Châtelaine IV vs Onex (4)
UID:86dfeecd-696f-4e75-8fad-9efe321b4292
STATUS:CONFIRMED
LAST-MODIFIED:20240918T131242Z
DESCRIPTION:2ème ligue Homme Gr.1 Phase A\nBegegnungs-Nr: 4\nHeim: Châtelaine IV\nGast: Onex\n
LOCATION:
CATEGORIES:Saison 2024/25
END:VEVENT
BEGIN:VEVENT
DTSTAMP:20260425T004236Z
DTSTART;TZID=Europe/Berlin:20250415T200000
DTEND;TZID=Europe/Berlin:20250415T230000
SUMMARY:Ligue 2 Gr.2\, Ph.B ZZ-Lancy VI vs Onex (29)
UID:af6378dd-6a00-4990-af03-4cecf72e74bd
STATUS:CONFIRMED
LAST-MODIFIED:20250416T081829Z
DESCRIPTION:2ème ligue Homme Gr.2 Phase B\nBegegnungs-Nr: 29\nHeim: ZZ-Lancy VI\nGast: Onex\n
LOCATION:
CATEGORIES:Saison 2024/25
END:VEVENT
BEGIN:VEVENT
DTSTAMP:20260425T004236Z
DTSTART;TZID=Europe/Berlin:20250408T200000
DTEND;TZID=Europe/Berlin:20250408T230000
SUMMARY:Ligue 2 Gr.2\, Ph.B Châtelaine III vs Onex (25)
UID:df694a8d-0f74-40d3-b615-d4b6678066cb
STATUS:CONFIRMED
LAST-MODIFIED:20250409T071634Z
DESCRIPTION:2ème ligue Homme Gr.2 Phase B\nBegegnungs-Nr: 25\nHeim: Châtelaine III\nGast: Onex\n
LOCATION:
CATEGORIES:Saison 2024/25
END:VEVENT
BEGIN:VEVENT
DTSTAMP:20260425T004236Z
DTSTART;TZID=Europe/Berlin:20250311T194500
DTEND;TZID=Europe/Berlin:20250311T224500
SUMMARY:Ligue 2 Gr.2\, Ph.B Silver Star III vs Onex (18)
UID:514180d6-7d61-41ca-9390-bd09613d6448
STATUS:CONFIRMED
LAST-MODIFIED:20250312T083547Z
DESCRIPTION:2ème ligue Homme Gr.2 Phase B\nBegegnungs-Nr: 18\nHeim: Silver Star III\nGast: Onex\n
LOCATION:
CATEGORIES:Saison 2024/25
END:VEVENT
BEGIN:VEVENT
DTSTAMP:20260425T004236Z
DTSTART;TZID=Europe/Berlin:20250128T194500
DTEND;TZID=Europe/Berlin:20250128T224500
SUMMARY:Ligue 2 Gr.2\, Ph.B Mandement IV vs Onex (8)
UID:06acc13f-ae95-40a2-9d75-8930e08d0479
STATUS:CONFIRMED
LAST-MODIFIED:20250129T084301Z
DESCRIPTION:2ème ligue Homme Gr.2 Phase B\nBegegnungs-Nr: 8\nHeim: Mandement IV\nGast: Onex\n\nAdresse: Route de la Gare de Satigny 27A\, 1242 Satigny\n
LOCATION:Route de la Gare de Satigny 27A\, 1242 Satigny
CATEGORIES:Saison 2024/25
END:VEVENT
BEGIN:VEVENT
DTSTAMP:20260425T004236Z
DTSTART;TZID=Europe/Berlin:20250121T193000
DTEND;TZID=Europe/Berlin:20250121T223000
SUMMARY:Ligue 2 Gr.2\, Ph.B UGS-Chênois V vs Onex (4)
UID:d8fcc536-37b7-4364-b00a-d0dcebdd1fa0
STATUS:CONFIRMED
LAST-MODIFIED:20250122T175421Z
DESCRIPTION:2ème ligue Homme Gr.2 Phase B\nBegegnungs-Nr: 4\nHeim: UGS-Chênois V\nGast: Onex\n
LOCATION:
CATEGORIES:Saison 2024/25
END:VEVENT
END:VCALENDAR
