BEGIN:VCALENDAR
PRODID:-//nuDatenautomaten//framework iCal4j //DE
VERSION:2.0
CALSCALE:GREGORIAN
BEGIN:VTIMEZONE
TZID:Europe/Berlin
LAST-MODIFIED:20260306T231828Z
TZURL:https://www.tzurl.org/zoneinfo/Europe/Berlin
X-LIC-LOCATION:Europe/Berlin
X-PROLEPTIC-TZNAME:LMT
BEGIN:STANDARD
TZNAME:CET
TZOFFSETFROM:+005328
TZOFFSETTO:+0100
DTSTART:18930401T000000
END:STANDARD
BEGIN:DAYLIGHT
TZNAME:CEST
TZOFFSETFROM:+0100
TZOFFSETTO:+0200
DTSTART:19160430T230000
RDATE:19400401T020000
RDATE:19430329T020000
RDATE:19460414T020000
RDATE:19470406T030000
RDATE:19480418T020000
RDATE:19490410T020000
RDATE:19800406T020000
END:DAYLIGHT
BEGIN:STANDARD
TZNAME:CET
TZOFFSETFROM:+0200
TZOFFSETTO:+0100
DTSTART:19161001T010000
RDATE:19421102T030000
RDATE:19431004T030000
RDATE:19441002T030000
RDATE:19451118T030000
RDATE:19461007T030000
END:STANDARD
BEGIN:DAYLIGHT
TZNAME:CEST
TZOFFSETFROM:+0100
TZOFFSETTO:+0200
DTSTART:19170416T020000
RRULE:FREQ=YEARLY;UNTIL=19180415T010000Z;BYMONTH=4;BYDAY=3MO
END:DAYLIGHT
BEGIN:STANDARD
TZNAME:CET
TZOFFSETFROM:+0200
TZOFFSETTO:+0100
DTSTART:19170917T030000
RRULE:FREQ=YEARLY;UNTIL=19180916T010000Z;BYMONTH=9;BYDAY=3MO
END:STANDARD
BEGIN:DAYLIGHT
TZNAME:CEST
TZOFFSETFROM:+0100
TZOFFSETTO:+0200
DTSTART:19440403T020000
RRULE:FREQ=YEARLY;UNTIL=19450402T010000Z;BYMONTH=4;BYDAY=1MO
END:DAYLIGHT
BEGIN:DAYLIGHT
TZNAME:CEMT
TZOFFSETFROM:+0200
TZOFFSETTO:+0300
DTSTART:19450524T020000
RDATE:19470511T030000
END:DAYLIGHT
BEGIN:DAYLIGHT
TZNAME:CEST
TZOFFSETFROM:+0300
TZOFFSETTO:+0200
DTSTART:19450924T030000
RDATE:19470629T030000
END:DAYLIGHT
BEGIN:STANDARD
TZNAME:CET
TZOFFSETFROM:+0100
TZOFFSETTO:+0100
DTSTART:19460101T000000
RDATE:19800101T000000
END:STANDARD
BEGIN:STANDARD
TZNAME:CET
TZOFFSETFROM:+0200
TZOFFSETTO:+0100
DTSTART:19471005T030000
RRULE:FREQ=YEARLY;UNTIL=19491002T010000Z;BYMONTH=10;BYDAY=1SU
END:STANDARD
BEGIN:STANDARD
TZNAME:CET
TZOFFSETFROM:+0200
TZOFFSETTO:+0100
DTSTART:19800928T030000
RRULE:FREQ=YEARLY;UNTIL=19950924T010000Z;BYMONTH=9;BYDAY=-1SU
END:STANDARD
BEGIN:DAYLIGHT
TZNAME:CEST
TZOFFSETFROM:+0100
TZOFFSETTO:+0200
DTSTART:19810329T020000
RRULE:FREQ=YEARLY;BYMONTH=3;BYDAY=-1SU
END:DAYLIGHT
BEGIN:STANDARD
TZNAME:CET
TZOFFSETFROM:+0200
TZOFFSETTO:+0100
DTSTART:19961027T030000
RRULE:FREQ=YEARLY;BYMONTH=10;BYDAY=-1SU
END:STANDARD
END:VTIMEZONE
BEGIN:VEVENT
DTSTAMP:20260424T220531Z
DTSTART;TZID=Europe/Berlin:20241007T194500
DTEND;TZID=Europe/Berlin:20241007T224500
SUMMARY:ME L6 Gr 9\, Tours 1&2 Sainte-Croix II vs Yverdon VII (14)
UID:239ce389-d2e8-4be3-9f45-a66fdf2b0d2f
STATUS:CONFIRMED
LAST-MODIFIED:20241008T105054Z
DESCRIPTION:6ème ligue Hommes Groupe 9\,Tours 1&2\nBegegnungs-Nr: 14\nHeim: Sainte-Croix II\nGast: Yverdon VII\n\nAdresse: Av. de la Gare 23\, 1450 Sainte-Croix\n
LOCATION:Av. de la Gare 23\, 1450 Sainte-Croix
CATEGORIES:Saison 2024/25
END:VEVENT
BEGIN:VEVENT
DTSTAMP:20260424T220531Z
DTSTART;TZID=Europe/Berlin:20240930T194500
DTEND;TZID=Europe/Berlin:20240930T224500
SUMMARY:ME L6 Gr 9\, Tours 1&2 Sainte-Croix II vs Yverdon VIII (11)
UID:8d6032d2-10b7-4ac0-acd2-a16a927764f1
STATUS:CONFIRMED
LAST-MODIFIED:20241001T220336Z
DESCRIPTION:6ème ligue Hommes Groupe 9\,Tours 1&2\nBegegnungs-Nr: 11\nHeim: Sainte-Croix II\nGast: Yverdon VIII\n\nAdresse: Av. de la Gare 23\, 1450 Sainte-Croix\n
LOCATION:Av. de la Gare 23\, 1450 Sainte-Croix
CATEGORIES:Saison 2024/25
END:VEVENT
BEGIN:VEVENT
DTSTAMP:20260424T220531Z
DTSTART;TZID=Europe/Berlin:20240902T194500
DTEND;TZID=Europe/Berlin:20240902T224500
SUMMARY:ME L6 Gr 9\, Tours 1&2 Sainte-Croix II vs Penthalaz (3)
UID:fd65884c-c476-470f-baa7-e0804ab59253
STATUS:CONFIRMED
LAST-MODIFIED:20240905T101809Z
DESCRIPTION:6ème ligue Hommes Groupe 9\,Tours 1&2\nBegegnungs-Nr: 3\nHeim: Sainte-Croix II\nGast: Penthalaz\n\nAdresse: Av. de la Gare 23\, 1450 Sainte-Croix\n
LOCATION:Av. de la Gare 23\, 1450 Sainte-Croix
CATEGORIES:Saison 2024/25
END:VEVENT
BEGIN:VEVENT
DTSTAMP:20260424T220531Z
DTSTART;TZID=Europe/Berlin:20241118T194500
DTEND;TZID=Europe/Berlin:20241118T224500
SUMMARY:ME L6 Gr 9\, Tours 1&2 Sainte-Croix II vs Cheyres II (22)
UID:6bf12cbc-cb79-4148-9c07-6f7e8a83bba8
STATUS:CONFIRMED
LAST-MODIFIED:20241119T184118Z
DESCRIPTION:6ème ligue Hommes Groupe 9\,Tours 1&2\nBegegnungs-Nr: 22\nHeim: Sainte-Croix II\nGast: Cheyres II\n\nAdresse: Av. de la Gare 23\, 1450 Sainte-Croix\n
LOCATION:Av. de la Gare 23\, 1450 Sainte-Croix
CATEGORIES:Saison 2024/25
END:VEVENT
BEGIN:VEVENT
DTSTAMP:20260424T220531Z
DTSTART;TZID=Europe/Berlin:20241104T194500
DTEND;TZID=Europe/Berlin:20241104T224500
SUMMARY:ME L6 Gr 9\, Tours 1&2 Sainte-Croix II vs Yvonand (21)
UID:f13aca53-c749-47f4-8edc-fa22fa976299
STATUS:CONFIRMED
LAST-MODIFIED:20241105T100448Z
DESCRIPTION:6ème ligue Hommes Groupe 9\,Tours 1&2\nBegegnungs-Nr: 21\nHeim: Sainte-Croix II\nGast: Yvonand\n\nAdresse: Av. de la Gare 23\, 1450 Sainte-Croix\n
LOCATION:Av. de la Gare 23\, 1450 Sainte-Croix
CATEGORIES:Saison 2024/25
END:VEVENT
BEGIN:VEVENT
DTSTAMP:20260424T220531Z
DTSTART;TZID=Europe/Berlin:20250224T194500
DTEND;TZID=Europe/Berlin:20250224T224500
SUMMARY:ME L6 Gr 9\, Tours 3&4 Sainte-Croix II vs Yverdon VIII (0)
UID:5d077cb3-626c-4275-9c4b-db6f53eaaf65
STATUS:CONFIRMED
LAST-MODIFIED:20250225T182546Z
DESCRIPTION:6ème ligue Hommes Groupe 9\,Tours 3&4\nBegegnungs-Nr: 0\nHeim: Sainte-Croix II\nGast: Yverdon VIII\n\nAdresse: Av. de la Gare 23\, 1450 Sainte-Croix\n
LOCATION:Av. de la Gare 23\, 1450 Sainte-Croix
CATEGORIES:Saison 2024/25
END:VEVENT
BEGIN:VEVENT
DTSTAMP:20260424T220531Z
DTSTART;TZID=Europe/Berlin:20250203T194500
DTEND;TZID=Europe/Berlin:20250203T224500
SUMMARY:ME L6 Gr 9\, Tours 3&4 Sainte-Croix II vs Penthalaz (0)
UID:cb3ee96f-66a6-4643-92a5-fa7a9dd67870
STATUS:CONFIRMED
LAST-MODIFIED:20250205T102858Z
DESCRIPTION:6ème ligue Hommes Groupe 9\,Tours 3&4\nBegegnungs-Nr: 0\nHeim: Sainte-Croix II\nGast: Penthalaz\n\nAdresse: Av. de la Gare 23\, 1450 Sainte-Croix\n
LOCATION:Av. de la Gare 23\, 1450 Sainte-Croix
CATEGORIES:Saison 2024/25
END:VEVENT
BEGIN:VEVENT
DTSTAMP:20260424T220531Z
DTSTART;TZID=Europe/Berlin:20250120T194500
DTEND;TZID=Europe/Berlin:20250120T224500
SUMMARY:ME L6 Gr 9\, Tours 3&4 Sainte-Croix II vs Yvonand (0)
UID:8468490f-86ab-48bf-9d78-0237fd04bb2b
STATUS:CONFIRMED
LAST-MODIFIED:20250121T224836Z
DESCRIPTION:6ème ligue Hommes Groupe 9\,Tours 3&4\nBegegnungs-Nr: 0\nHeim: Sainte-Croix II\nGast: Yvonand\n\nAdresse: Av. de la Gare 23\, 1450 Sainte-Croix\n
LOCATION:Av. de la Gare 23\, 1450 Sainte-Croix
CATEGORIES:Saison 2024/25
END:VEVENT
BEGIN:VEVENT
DTSTAMP:20260424T220531Z
DTSTART;TZID=Europe/Berlin:20250324T194500
DTEND;TZID=Europe/Berlin:20250324T224500
SUMMARY:ME L6 Gr 9\, Tours 3&4 Sainte-Croix II vs Yverdon VI (0)
UID:430f0470-63fe-45c2-81bd-da3f97d17140
STATUS:CONFIRMED
LAST-MODIFIED:20250325T125227Z
DESCRIPTION:6ème ligue Hommes Groupe 9\,Tours 3&4\nBegegnungs-Nr: 0\nHeim: Sainte-Croix II\nGast: Yverdon VI\n\nAdresse: Av. de la Gare 23\, 1450 Sainte-Croix\n
LOCATION:Av. de la Gare 23\, 1450 Sainte-Croix
CATEGORIES:Saison 2024/25
END:VEVENT
BEGIN:VEVENT
DTSTAMP:20260424T220531Z
DTSTART;TZID=Europe/Berlin:20240919T194500
DTEND;TZID=Europe/Berlin:20240919T224500
SUMMARY:ME L6 Gr 9\, Tours 1&2 Cheyres II vs Sainte-Croix II (7)
UID:1902d421-ecd9-4a1e-a840-ccf966239c00
STATUS:CONFIRMED
LAST-MODIFIED:20240922T140235Z
DESCRIPTION:6ème ligue Hommes Groupe 9\,Tours 1&2\nBegegnungs-Nr: 7\nHeim: Cheyres II\nGast: Sainte-Croix II\n\nAdresse: Rue de la Gare 10\, 1468 Cheyres\n
LOCATION:Rue de la Gare 10\, 1468 Cheyres
CATEGORIES:Saison 2024/25
END:VEVENT
BEGIN:VEVENT
DTSTAMP:20260424T220531Z
DTSTART;TZID=Europe/Berlin:20240911T191500
DTEND;TZID=Europe/Berlin:20240911T221500
SUMMARY:ME L6 Gr 9\, Tours 1&2 Yvonand vs Sainte-Croix II (6)
UID:c32b843e-1bb6-4718-9f2b-6c4dbb88db71
STATUS:CONFIRMED
LAST-MODIFIED:20240912T184222Z
DESCRIPTION:6ème ligue Hommes Groupe 9\,Tours 1&2\nBegegnungs-Nr: 6\nHeim: Yvonand\nGast: Sainte-Croix II\n\nAdresse: Salle de rythmique\, 1462 Yvonand\n
LOCATION:Salle de rythmique\, 1462 Yvonand
CATEGORIES:Saison 2024/25
END:VEVENT
BEGIN:VEVENT
DTSTAMP:20260424T220531Z
DTSTART;TZID=Europe/Berlin:20241213T201500
DTEND;TZID=Europe/Berlin:20241213T231500
SUMMARY:ME L6 Gr 9\, Tours 1&2 Yverdon VII vs Sainte-Croix II (29)
UID:9e5e45be-2fba-4bd3-bfc2-5688702958b0
STATUS:CONFIRMED
LAST-MODIFIED:20241215T010514Z
DESCRIPTION:6ème ligue Hommes Groupe 9\,Tours 1&2\nBegegnungs-Nr: 29\nHeim: Yverdon VII\nGast: Sainte-Croix II\n\nAdresse: Avenue des Quatre Marroniers 1\, 1400 Yverdon-les-Bains\n
LOCATION:Avenue des Quatre Marroniers 1\, 1400 Yverdon-les-Bains
CATEGORIES:Saison 2024/25
END:VEVENT
BEGIN:VEVENT
DTSTAMP:20260424T220531Z
DTSTART;TZID=Europe/Berlin:20241129T201500
DTEND;TZID=Europe/Berlin:20241129T231500
SUMMARY:ME L6 Gr 9\, Tours 1&2 Yverdon VIII vs Sainte-Croix II (26)
UID:54eb3780-0c88-488b-9f11-36383f713d04
STATUS:CONFIRMED
LAST-MODIFIED:20241130T173302Z
DESCRIPTION:6ème ligue Hommes Groupe 9\,Tours 1&2\nBegegnungs-Nr: 26\nHeim: Yverdon VIII\nGast: Sainte-Croix II\n\nAdresse: Avenue des Quatre Marroniers 1\, 1400 Yverdon-les-Bains\n
LOCATION:Avenue des Quatre Marroniers 1\, 1400 Yverdon-les-Bains
CATEGORIES:Saison 2024/25
END:VEVENT
BEGIN:VEVENT
DTSTAMP:20260424T220531Z
DTSTART;TZID=Europe/Berlin:20241101T200000
DTEND;TZID=Europe/Berlin:20241101T230000
SUMMARY:ME L6 Gr 9\, Tours 1&2 Penthalaz vs Sainte-Croix II (18)
UID:12cd5ff1-3dde-4b8f-bcd0-6ac833eed877
STATUS:CONFIRMED
LAST-MODIFIED:20241102T213613Z
DESCRIPTION:6ème ligue Hommes Groupe 9\,Tours 1&2\nBegegnungs-Nr: 18\nHeim: Penthalaz\nGast: Sainte-Croix II\n\nAdresse: Chemin du Collège 1\, 1305 Penthalaz\n
LOCATION:Chemin du Collège 1\, 1305 Penthalaz
CATEGORIES:Saison 2024/25
END:VEVENT
BEGIN:VEVENT
DTSTAMP:20260424T220531Z
DTSTART;TZID=Europe/Berlin:20250312T191500
DTEND;TZID=Europe/Berlin:20250312T221500
SUMMARY:ME L6 Gr 9\, Tours 3&4 Yvonand vs Sainte-Croix II (0)
UID:b6d56496-e24a-476c-99bf-14c5dd2eb4e7
STATUS:CONFIRMED
LAST-MODIFIED:20250313T174619Z
DESCRIPTION:6ème ligue Hommes Groupe 9\,Tours 3&4\nBegegnungs-Nr: 0\nHeim: Yvonand\nGast: Sainte-Croix II\n\nAdresse: Salle de rythmique\, 1462 Yvonand\n
LOCATION:Salle de rythmique\, 1462 Yvonand
CATEGORIES:Saison 2024/25
END:VEVENT
BEGIN:VEVENT
DTSTAMP:20260424T220531Z
DTSTART;TZID=Europe/Berlin:20250305T201500
DTEND;TZID=Europe/Berlin:20250305T231500
SUMMARY:ME L6 Gr 9\, Tours 3&4 Yverdon VI vs Sainte-Croix II (0)
UID:b269566b-bc23-4dd4-aa81-84109e0f5e35
STATUS:CONFIRMED
LAST-MODIFIED:20250306T230551Z
DESCRIPTION:6ème ligue Hommes Groupe 9\,Tours 3&4\nBegegnungs-Nr: 0\nHeim: Yverdon VI\nGast: Sainte-Croix II\n\nAdresse: Avenue des Quatre Marroniers 1\, 1400 Yverdon-les-Bains\n
LOCATION:Avenue des Quatre Marroniers 1\, 1400 Yverdon-les-Bains
CATEGORIES:Saison 2024/25
END:VEVENT
BEGIN:VEVENT
DTSTAMP:20260424T220531Z
DTSTART;TZID=Europe/Berlin:20250509T201500
DTEND;TZID=Europe/Berlin:20250509T231500
SUMMARY:ME L6 Gr 9\, Tours 3&4 Yverdon VIII vs Sainte-Croix II (0)
UID:4f3eead8-33a6-433d-a27f-87fa5a0ea33a
STATUS:CONFIRMED
LAST-MODIFIED:20250511T173110Z
DESCRIPTION:6ème ligue Hommes Groupe 9\,Tours 3&4\nBegegnungs-Nr: 0\nHeim: Yverdon VIII\nGast: Sainte-Croix II\n\nAdresse: Avenue des Quatre Marroniers 1\, 1400 Yverdon-les-Bains\n
LOCATION:Avenue des Quatre Marroniers 1\, 1400 Yverdon-les-Bains
CATEGORIES:Saison 2024/25
END:VEVENT
BEGIN:VEVENT
DTSTAMP:20260424T220531Z
DTSTART;TZID=Europe/Berlin:20250502T200000
DTEND;TZID=Europe/Berlin:20250502T230000
SUMMARY:ME L6 Gr 9\, Tours 3&4 Penthalaz vs Sainte-Croix II (0)
UID:9d4a6a30-6af9-4999-959f-794494749e31
STATUS:CONFIRMED
LAST-MODIFIED:20250505T193925Z
DESCRIPTION:6ème ligue Hommes Groupe 9\,Tours 3&4\nBegegnungs-Nr: 0\nHeim: Penthalaz\nGast: Sainte-Croix II\n\nAdresse: Chemin du Collège 1\, 1305 Penthalaz\n
LOCATION:Chemin du Collège 1\, 1305 Penthalaz
CATEGORIES:Saison 2024/25
END:VEVENT
END:VCALENDAR
