BEGIN:VCALENDAR
PRODID:-//nuDatenautomaten//framework iCal4j //DE
VERSION:2.0
CALSCALE:GREGORIAN
BEGIN:VTIMEZONE
TZID:Europe/Berlin
LAST-MODIFIED:20260306T231828Z
TZURL:https://www.tzurl.org/zoneinfo/Europe/Berlin
X-LIC-LOCATION:Europe/Berlin
X-PROLEPTIC-TZNAME:LMT
BEGIN:STANDARD
TZNAME:CET
TZOFFSETFROM:+005328
TZOFFSETTO:+0100
DTSTART:18930401T000000
END:STANDARD
BEGIN:DAYLIGHT
TZNAME:CEST
TZOFFSETFROM:+0100
TZOFFSETTO:+0200
DTSTART:19160430T230000
RDATE:19400401T020000
RDATE:19430329T020000
RDATE:19460414T020000
RDATE:19470406T030000
RDATE:19480418T020000
RDATE:19490410T020000
RDATE:19800406T020000
END:DAYLIGHT
BEGIN:STANDARD
TZNAME:CET
TZOFFSETFROM:+0200
TZOFFSETTO:+0100
DTSTART:19161001T010000
RDATE:19421102T030000
RDATE:19431004T030000
RDATE:19441002T030000
RDATE:19451118T030000
RDATE:19461007T030000
END:STANDARD
BEGIN:DAYLIGHT
TZNAME:CEST
TZOFFSETFROM:+0100
TZOFFSETTO:+0200
DTSTART:19170416T020000
RRULE:FREQ=YEARLY;UNTIL=19180415T010000Z;BYMONTH=4;BYDAY=3MO
END:DAYLIGHT
BEGIN:STANDARD
TZNAME:CET
TZOFFSETFROM:+0200
TZOFFSETTO:+0100
DTSTART:19170917T030000
RRULE:FREQ=YEARLY;UNTIL=19180916T010000Z;BYMONTH=9;BYDAY=3MO
END:STANDARD
BEGIN:DAYLIGHT
TZNAME:CEST
TZOFFSETFROM:+0100
TZOFFSETTO:+0200
DTSTART:19440403T020000
RRULE:FREQ=YEARLY;UNTIL=19450402T010000Z;BYMONTH=4;BYDAY=1MO
END:DAYLIGHT
BEGIN:DAYLIGHT
TZNAME:CEMT
TZOFFSETFROM:+0200
TZOFFSETTO:+0300
DTSTART:19450524T020000
RDATE:19470511T030000
END:DAYLIGHT
BEGIN:DAYLIGHT
TZNAME:CEST
TZOFFSETFROM:+0300
TZOFFSETTO:+0200
DTSTART:19450924T030000
RDATE:19470629T030000
END:DAYLIGHT
BEGIN:STANDARD
TZNAME:CET
TZOFFSETFROM:+0100
TZOFFSETTO:+0100
DTSTART:19460101T000000
RDATE:19800101T000000
END:STANDARD
BEGIN:STANDARD
TZNAME:CET
TZOFFSETFROM:+0200
TZOFFSETTO:+0100
DTSTART:19471005T030000
RRULE:FREQ=YEARLY;UNTIL=19491002T010000Z;BYMONTH=10;BYDAY=1SU
END:STANDARD
BEGIN:STANDARD
TZNAME:CET
TZOFFSETFROM:+0200
TZOFFSETTO:+0100
DTSTART:19800928T030000
RRULE:FREQ=YEARLY;UNTIL=19950924T010000Z;BYMONTH=9;BYDAY=-1SU
END:STANDARD
BEGIN:DAYLIGHT
TZNAME:CEST
TZOFFSETFROM:+0100
TZOFFSETTO:+0200
DTSTART:19810329T020000
RRULE:FREQ=YEARLY;BYMONTH=3;BYDAY=-1SU
END:DAYLIGHT
BEGIN:STANDARD
TZNAME:CET
TZOFFSETFROM:+0200
TZOFFSETTO:+0100
DTSTART:19961027T030000
RRULE:FREQ=YEARLY;BYMONTH=10;BYDAY=-1SU
END:STANDARD
END:VTIMEZONE
BEGIN:VEVENT
DTSTAMP:20260425T022337Z
DTSTART;TZID=Europe/Berlin:20240831T160000
DTEND;TZID=Europe/Berlin:20240831T190000
SUMMARY:JUG\, 2.Liga\, Gr.3\, Vorrunde Uster II vs Niederhasli (6)
UID:281db6f1-d3e1-4dfa-bc7d-dea338a39816
STATUS:CONFIRMED
LAST-MODIFIED:20240904T122257Z
DESCRIPTION:Jugend\, 2. Liga\, Gruppe 3\, Vorrunde\nBegegnungs-Nr: 6\nHeim: Uster II\nGast: Niederhasli\n\nAdresse: Wilstrasse 30 / Zürcherstrasse\, 8610 Uster\n
LOCATION:Wilstrasse 30 / Zürcherstrasse\, 8610 Uster
CATEGORIES:Saison 2024/25
END:VEVENT
BEGIN:VEVENT
DTSTAMP:20260425T022337Z
DTSTART;TZID=Europe/Berlin:20241116T130000
DTEND;TZID=Europe/Berlin:20241116T160000
SUMMARY:JUG. 2.Liga\, Gr.6\, Zw-Runde Uster II vs Wädenswil II (1)
UID:17e8cf5d-d825-47b0-8606-a406bfa3c88d
STATUS:CONFIRMED
LAST-MODIFIED:20241027T200319Z
DESCRIPTION:Jugend\, 2. Liga\, Gruppe 6\, Zw-Runde\nBegegnungs-Nr: 1\nHeim: Uster II\nGast: Wädenswil II\n
LOCATION:
CATEGORIES:Saison 2024/25
END:VEVENT
BEGIN:VEVENT
DTSTAMP:20260425T022337Z
DTSTART;TZID=Europe/Berlin:20241116T143000
DTEND;TZID=Europe/Berlin:20241116T173000
SUMMARY:JUG. 2.Liga\, Gr.6\, Zw-Runde Uster II vs Höngg (4)
UID:96a62f24-fe09-42cd-adb5-396d661ba603
STATUS:CONFIRMED
LAST-MODIFIED:20241126T095041Z
DESCRIPTION:Jugend\, 2. Liga\, Gruppe 6\, Zw-Runde\nBegegnungs-Nr: 4\nHeim: Uster II\nGast: Höngg\n
LOCATION:
CATEGORIES:Saison 2024/25
END:VEVENT
BEGIN:VEVENT
DTSTAMP:20260425T022337Z
DTSTART;TZID=Europe/Berlin:20250329T130000
DTEND;TZID=Europe/Berlin:20250329T160000
SUMMARY:JUG\, 2.Liga\, Gr.4\, Final Uster II vs Höngg (1)
UID:244c5aca-763c-4602-8f3c-435a3fc41b47
STATUS:CONFIRMED
LAST-MODIFIED:20250407T131729Z
DESCRIPTION:Jugend\, 2. Liga\, Gruppe 4\, Final\nBegegnungs-Nr: 1\nHeim: Uster II\nGast: Höngg\nHalle: Poule in Uster\, Schulhaus Pünt\nAdresse: Wilstrasse 30 / Zürcherstrasse\, 8610 Uster\n
LOCATION:Poule in Uster\, Schulhaus Pünt Wilstrasse 30 / Zürcherstrasse\, 8610 Uster
CATEGORIES:Saison 2024/25
END:VEVENT
BEGIN:VEVENT
DTSTAMP:20260425T022337Z
DTSTART;TZID=Europe/Berlin:20250329T143000
DTEND;TZID=Europe/Berlin:20250329T173000
SUMMARY:JUG\, 2.Liga\, Gr.4\, Final Uster II vs Steckborn-Homburg (4)
UID:14470655-eb34-44a4-a615-241e7922540e
STATUS:CONFIRMED
LAST-MODIFIED:20250407T132214Z
DESCRIPTION:Jugend\, 2. Liga\, Gruppe 4\, Final\nBegegnungs-Nr: 4\nHeim: Uster II\nGast: Steckborn-Homburg\n\nAdresse: Wilstrasse 30 / Zürcherstrasse\, 8610 Uster\n
LOCATION:Wilstrasse 30 / Zürcherstrasse\, 8610 Uster
CATEGORIES:Saison 2024/25
END:VEVENT
BEGIN:VEVENT
DTSTAMP:20260425T022337Z
DTSTART;TZID=Europe/Berlin:20240831T143000
DTEND;TZID=Europe/Berlin:20240831T173000
SUMMARY:JUG\, 2.Liga\, Gr.3\, Vorrunde Kloten vs Uster II (3)
UID:961894a8-0b4d-40c3-9240-0c0ae46b79cd
STATUS:CONFIRMED
LAST-MODIFIED:20240904T122243Z
DESCRIPTION:Jugend\, 2. Liga\, Gruppe 3\, Vorrunde\nBegegnungs-Nr: 3\nHeim: Kloten\nGast: Uster II\n\nAdresse: Schluefweg 10\, 8302 Kloten\n
LOCATION:Schluefweg 10\, 8302 Kloten
CATEGORIES:Saison 2024/25
END:VEVENT
BEGIN:VEVENT
DTSTAMP:20260425T022337Z
DTSTART;TZID=Europe/Berlin:20240831T130000
DTEND;TZID=Europe/Berlin:20240831T160000
SUMMARY:JUG\, 2.Liga\, Gr.3\, Vorrunde Neuhausen II vs Uster II (2)
UID:21e0862a-5171-4502-b236-5ea3fe17ddc4
STATUS:CONFIRMED
LAST-MODIFIED:20240831T082408Z
DESCRIPTION:Jugend\, 2. Liga\, Gruppe 3\, Vorrunde\nBegegnungs-Nr: 2\nHeim: Neuhausen II\nGast: Uster II\n\nAdresse: Ebnatstrasse 35\, 8200 Schaffhausen\n
LOCATION:Ebnatstrasse 35\, 8200 Schaffhausen
CATEGORIES:Saison 2024/25
END:VEVENT
BEGIN:VEVENT
DTSTAMP:20260425T022337Z
DTSTART;TZID=Europe/Berlin:20241116T160000
DTEND;TZID=Europe/Berlin:20241116T190000
SUMMARY:JUG. 2.Liga\, Gr.6\, Zw-Runde Herisau vs Uster II (6)
UID:afce20cb-176b-47b2-82f6-3e658c55eb36
STATUS:CONFIRMED
LAST-MODIFIED:20241126T095110Z
DESCRIPTION:Jugend\, 2. Liga\, Gruppe 6\, Zw-Runde\nBegegnungs-Nr: 6\nHeim: Herisau\nGast: Uster II\n
LOCATION:
CATEGORIES:Saison 2024/25
END:VEVENT
BEGIN:VEVENT
DTSTAMP:20260425T022337Z
DTSTART;TZID=Europe/Berlin:20250329T160000
DTEND;TZID=Europe/Berlin:20250329T190000
SUMMARY:JUG\, 2.Liga\, Gr.4\, Final Neuhausen II vs Uster II (6)
UID:c4c41d7e-c43d-4d1b-95f8-e560a405cba4
STATUS:CONFIRMED
LAST-MODIFIED:20250407T131935Z
DESCRIPTION:Jugend\, 2. Liga\, Gruppe 4\, Final\nBegegnungs-Nr: 6\nHeim: Neuhausen II\nGast: Uster II\n\nAdresse: Ebnatstrasse 35\, 8200 Schaffhausen\n
LOCATION:Ebnatstrasse 35\, 8200 Schaffhausen
CATEGORIES:Saison 2024/25
END:VEVENT
END:VCALENDAR
