BEGIN:VCALENDAR
PRODID:-//nuDatenautomaten//framework iCal4j //DE
VERSION:2.0
CALSCALE:GREGORIAN
BEGIN:VTIMEZONE
TZID:Europe/Berlin
LAST-MODIFIED:20260306T231828Z
TZURL:https://www.tzurl.org/zoneinfo/Europe/Berlin
X-LIC-LOCATION:Europe/Berlin
X-PROLEPTIC-TZNAME:LMT
BEGIN:STANDARD
TZNAME:CET
TZOFFSETFROM:+005328
TZOFFSETTO:+0100
DTSTART:18930401T000000
END:STANDARD
BEGIN:DAYLIGHT
TZNAME:CEST
TZOFFSETFROM:+0100
TZOFFSETTO:+0200
DTSTART:19160430T230000
RDATE:19400401T020000
RDATE:19430329T020000
RDATE:19460414T020000
RDATE:19470406T030000
RDATE:19480418T020000
RDATE:19490410T020000
RDATE:19800406T020000
END:DAYLIGHT
BEGIN:STANDARD
TZNAME:CET
TZOFFSETFROM:+0200
TZOFFSETTO:+0100
DTSTART:19161001T010000
RDATE:19421102T030000
RDATE:19431004T030000
RDATE:19441002T030000
RDATE:19451118T030000
RDATE:19461007T030000
END:STANDARD
BEGIN:DAYLIGHT
TZNAME:CEST
TZOFFSETFROM:+0100
TZOFFSETTO:+0200
DTSTART:19170416T020000
RRULE:FREQ=YEARLY;UNTIL=19180415T010000Z;BYMONTH=4;BYDAY=3MO
END:DAYLIGHT
BEGIN:STANDARD
TZNAME:CET
TZOFFSETFROM:+0200
TZOFFSETTO:+0100
DTSTART:19170917T030000
RRULE:FREQ=YEARLY;UNTIL=19180916T010000Z;BYMONTH=9;BYDAY=3MO
END:STANDARD
BEGIN:DAYLIGHT
TZNAME:CEST
TZOFFSETFROM:+0100
TZOFFSETTO:+0200
DTSTART:19440403T020000
RRULE:FREQ=YEARLY;UNTIL=19450402T010000Z;BYMONTH=4;BYDAY=1MO
END:DAYLIGHT
BEGIN:DAYLIGHT
TZNAME:CEMT
TZOFFSETFROM:+0200
TZOFFSETTO:+0300
DTSTART:19450524T020000
RDATE:19470511T030000
END:DAYLIGHT
BEGIN:DAYLIGHT
TZNAME:CEST
TZOFFSETFROM:+0300
TZOFFSETTO:+0200
DTSTART:19450924T030000
RDATE:19470629T030000
END:DAYLIGHT
BEGIN:STANDARD
TZNAME:CET
TZOFFSETFROM:+0100
TZOFFSETTO:+0100
DTSTART:19460101T000000
RDATE:19800101T000000
END:STANDARD
BEGIN:STANDARD
TZNAME:CET
TZOFFSETFROM:+0200
TZOFFSETTO:+0100
DTSTART:19471005T030000
RRULE:FREQ=YEARLY;UNTIL=19491002T010000Z;BYMONTH=10;BYDAY=1SU
END:STANDARD
BEGIN:STANDARD
TZNAME:CET
TZOFFSETFROM:+0200
TZOFFSETTO:+0100
DTSTART:19800928T030000
RRULE:FREQ=YEARLY;UNTIL=19950924T010000Z;BYMONTH=9;BYDAY=-1SU
END:STANDARD
BEGIN:DAYLIGHT
TZNAME:CEST
TZOFFSETFROM:+0100
TZOFFSETTO:+0200
DTSTART:19810329T020000
RRULE:FREQ=YEARLY;BYMONTH=3;BYDAY=-1SU
END:DAYLIGHT
BEGIN:STANDARD
TZNAME:CET
TZOFFSETFROM:+0200
TZOFFSETTO:+0100
DTSTART:19961027T030000
RRULE:FREQ=YEARLY;BYMONTH=10;BYDAY=-1SU
END:STANDARD
END:VTIMEZONE
BEGIN:VEVENT
DTSTAMP:20260424T220634Z
DTSTART;TZID=Europe/Berlin:20240930T200000
DTEND;TZID=Europe/Berlin:20240930T230000
SUMMARY:S L3 Gr 4 Domdidier vs Lausanne IV (0)
UID:98a826cb-99f9-4c19-8106-b07c62cacbc5
STATUS:CONFIRMED
LAST-MODIFIED:20241001T221121Z
DESCRIPTION:3ème ligue Seniors Groupe 4\nBegegnungs-Nr: 0\nHeim: Domdidier\nGast: Lausanne IV\n\nAdresse: Pré-de-la-Cour\, 1564 Domdidier\n
LOCATION:Pré-de-la-Cour\, 1564 Domdidier
CATEGORIES:Saison 2024/25
END:VEVENT
BEGIN:VEVENT
DTSTAMP:20260424T220634Z
DTSTART;TZID=Europe/Berlin:20250402T200000
DTEND;TZID=Europe/Berlin:20250402T230000
SUMMARY:S L3 Gr 4 Domdidier vs Rossens II (0)
UID:c6dc2bfb-e0af-48e8-b766-d250d771c527
STATUS:CONFIRMED
LAST-MODIFIED:20250404T133934Z
DESCRIPTION:3ème ligue Seniors Groupe 4\nBegegnungs-Nr: 0\nHeim: Domdidier\nGast: Rossens II\n\nAdresse: Pré-de-la-Cour\, 1564 Domdidier\n
LOCATION:Pré-de-la-Cour\, 1564 Domdidier
CATEGORIES:Saison 2024/25
END:VEVENT
BEGIN:VEVENT
DTSTAMP:20260424T220634Z
DTSTART;TZID=Europe/Berlin:20250319T200000
DTEND;TZID=Europe/Berlin:20250319T230000
SUMMARY:S L3 Gr 4 Domdidier vs Avry-Rosé (0)
UID:4a9cfafd-5325-433d-b2a3-ffdbab763268
STATUS:CONFIRMED
LAST-MODIFIED:20250320T191311Z
DESCRIPTION:3ème ligue Seniors Groupe 4\nBegegnungs-Nr: 0\nHeim: Domdidier\nGast: Avry-Rosé\n\nAdresse: Pré-de-la-Cour\, 1564 Domdidier\n
LOCATION:Pré-de-la-Cour\, 1564 Domdidier
CATEGORIES:Saison 2024/25
END:VEVENT
BEGIN:VEVENT
DTSTAMP:20260424T220634Z
DTSTART;TZID=Europe/Berlin:20250205T200000
DTEND;TZID=Europe/Berlin:20250205T230000
SUMMARY:S L3 Gr 4 Domdidier vs Chexbres II (0)
UID:8eb48b22-cbce-43be-8925-9f98125f9d36
STATUS:CONFIRMED
LAST-MODIFIED:20250207T172255Z
DESCRIPTION:3ème ligue Seniors Groupe 4\nBegegnungs-Nr: 0\nHeim: Domdidier\nGast: Chexbres II\n\nAdresse: Pré-de-la-Cour\, 1564 Domdidier\n
LOCATION:Pré-de-la-Cour\, 1564 Domdidier
CATEGORIES:Saison 2024/25
END:VEVENT
BEGIN:VEVENT
DTSTAMP:20260424T220634Z
DTSTART;TZID=Europe/Berlin:20241113T200000
DTEND;TZID=Europe/Berlin:20241113T230000
SUMMARY:S L3 Gr 4 Domdidier vs Romanel IV (0)
UID:4ed75f00-90ec-4ce6-a8ca-98953fe62b89
STATUS:CONFIRMED
LAST-MODIFIED:20241114T121842Z
DESCRIPTION:3ème ligue Seniors Groupe 4\nBegegnungs-Nr: 0\nHeim: Domdidier\nGast: Romanel IV\n\nAdresse: Pré-de-la-Cour\, 1564 Domdidier\n
LOCATION:Pré-de-la-Cour\, 1564 Domdidier
CATEGORIES:Saison 2024/25
END:VEVENT
BEGIN:VEVENT
DTSTAMP:20260424T220634Z
DTSTART;TZID=Europe/Berlin:20241017T194500
DTEND;TZID=Europe/Berlin:20241017T224500
SUMMARY:S L3 Gr 4 Chexbres II vs Domdidier (0)
UID:00eec5b3-e1ce-4166-bb75-679bbb8cc504
STATUS:CONFIRMED
LAST-MODIFIED:20241018T002140Z
DESCRIPTION:3ème ligue Seniors Groupe 4\nBegegnungs-Nr: 0\nHeim: Chexbres II\nGast: Domdidier\n\nAdresse: Collège de Praz Routoz\, 1071 Chexbres\n
LOCATION:Collège de Praz Routoz\, 1071 Chexbres
CATEGORIES:Saison 2024/25
END:VEVENT
BEGIN:VEVENT
DTSTAMP:20260424T220634Z
DTSTART;TZID=Europe/Berlin:20250304T200000
DTEND;TZID=Europe/Berlin:20250304T230000
SUMMARY:S L3 Gr 4 Romanel IV vs Domdidier (0)
UID:4027ebf5-a525-4fa7-978b-4f053f49cbee
STATUS:CONFIRMED
LAST-MODIFIED:20250305T180336Z
DESCRIPTION:3ème ligue Seniors Groupe 4\nBegegnungs-Nr: 0\nHeim: Romanel IV\nGast: Domdidier\n\nAdresse: Ch des Epinettes 1\, 1032 Romanel-sur-Lausanne\n
LOCATION:Ch des Epinettes 1\, 1032 Romanel-sur-Lausanne
CATEGORIES:Saison 2024/25
END:VEVENT
BEGIN:VEVENT
DTSTAMP:20260424T220634Z
DTSTART;TZID=Europe/Berlin:20250114T200000
DTEND;TZID=Europe/Berlin:20250114T230000
SUMMARY:S L3 Gr 4 Lausanne IV vs Domdidier (0)
UID:2e53477a-fe35-4131-94e7-06524c2b1ea2
STATUS:CONFIRMED
LAST-MODIFIED:20250116T120643Z
DESCRIPTION:3ème ligue Seniors Groupe 4\nBegegnungs-Nr: 0\nHeim: Lausanne IV\nGast: Domdidier\n\nAdresse: Vaudoise Aréna\, Ch. du Viaduc 14\, 1008 Prilly\n
LOCATION:Vaudoise Aréna\, Ch. du Viaduc 14\, 1008 Prilly
CATEGORIES:Saison 2024/25
END:VEVENT
BEGIN:VEVENT
DTSTAMP:20260424T220634Z
DTSTART;TZID=Europe/Berlin:20241217T200000
DTEND;TZID=Europe/Berlin:20241217T230000
SUMMARY:S L3 Gr 4 Rossens II vs Domdidier (0)
UID:820c72e0-8b90-4560-8a9c-9466637cbf17
STATUS:CONFIRMED
LAST-MODIFIED:20241218T213354Z
DESCRIPTION:3ème ligue Seniors Groupe 4\nBegegnungs-Nr: 0\nHeim: Rossens II\nGast: Domdidier\n\nAdresse: Route du Jordil 14\, 1728 Rossens\n
LOCATION:Route du Jordil 14\, 1728 Rossens
CATEGORIES:Saison 2024/25
END:VEVENT
BEGIN:VEVENT
DTSTAMP:20260424T220634Z
DTSTART;TZID=Europe/Berlin:20241203T200000
DTEND;TZID=Europe/Berlin:20241203T230000
SUMMARY:S L3 Gr 4 Avry-Rosé vs Domdidier (0)
UID:04aeae9d-df75-4e1c-ae05-afb3af76d92d
STATUS:CONFIRMED
LAST-MODIFIED:20241204T112139Z
DESCRIPTION:3ème ligue Seniors Groupe 4\nBegegnungs-Nr: 0\nHeim: Avry-Rosé\nGast: Domdidier\n\nAdresse: Route du Château 15\, 1754 Avry-sur-Matran\n
LOCATION:Route du Château 15\, 1754 Avry-sur-Matran
CATEGORIES:Saison 2024/25
END:VEVENT
END:VCALENDAR
