BEGIN:VCALENDAR
PRODID:-//nuDatenautomaten//framework iCal4j //DE
VERSION:2.0
CALSCALE:GREGORIAN
BEGIN:VTIMEZONE
TZID:Europe/Berlin
LAST-MODIFIED:20260306T231828Z
TZURL:https://www.tzurl.org/zoneinfo/Europe/Berlin
X-LIC-LOCATION:Europe/Berlin
X-PROLEPTIC-TZNAME:LMT
BEGIN:STANDARD
TZNAME:CET
TZOFFSETFROM:+005328
TZOFFSETTO:+0100
DTSTART:18930401T000000
END:STANDARD
BEGIN:DAYLIGHT
TZNAME:CEST
TZOFFSETFROM:+0100
TZOFFSETTO:+0200
DTSTART:19160430T230000
RDATE:19400401T020000
RDATE:19430329T020000
RDATE:19460414T020000
RDATE:19470406T030000
RDATE:19480418T020000
RDATE:19490410T020000
RDATE:19800406T020000
END:DAYLIGHT
BEGIN:STANDARD
TZNAME:CET
TZOFFSETFROM:+0200
TZOFFSETTO:+0100
DTSTART:19161001T010000
RDATE:19421102T030000
RDATE:19431004T030000
RDATE:19441002T030000
RDATE:19451118T030000
RDATE:19461007T030000
END:STANDARD
BEGIN:DAYLIGHT
TZNAME:CEST
TZOFFSETFROM:+0100
TZOFFSETTO:+0200
DTSTART:19170416T020000
RRULE:FREQ=YEARLY;UNTIL=19180415T010000Z;BYMONTH=4;BYDAY=3MO
END:DAYLIGHT
BEGIN:STANDARD
TZNAME:CET
TZOFFSETFROM:+0200
TZOFFSETTO:+0100
DTSTART:19170917T030000
RRULE:FREQ=YEARLY;UNTIL=19180916T010000Z;BYMONTH=9;BYDAY=3MO
END:STANDARD
BEGIN:DAYLIGHT
TZNAME:CEST
TZOFFSETFROM:+0100
TZOFFSETTO:+0200
DTSTART:19440403T020000
RRULE:FREQ=YEARLY;UNTIL=19450402T010000Z;BYMONTH=4;BYDAY=1MO
END:DAYLIGHT
BEGIN:DAYLIGHT
TZNAME:CEMT
TZOFFSETFROM:+0200
TZOFFSETTO:+0300
DTSTART:19450524T020000
RDATE:19470511T030000
END:DAYLIGHT
BEGIN:DAYLIGHT
TZNAME:CEST
TZOFFSETFROM:+0300
TZOFFSETTO:+0200
DTSTART:19450924T030000
RDATE:19470629T030000
END:DAYLIGHT
BEGIN:STANDARD
TZNAME:CET
TZOFFSETFROM:+0100
TZOFFSETTO:+0100
DTSTART:19460101T000000
RDATE:19800101T000000
END:STANDARD
BEGIN:STANDARD
TZNAME:CET
TZOFFSETFROM:+0200
TZOFFSETTO:+0100
DTSTART:19471005T030000
RRULE:FREQ=YEARLY;UNTIL=19491002T010000Z;BYMONTH=10;BYDAY=1SU
END:STANDARD
BEGIN:STANDARD
TZNAME:CET
TZOFFSETFROM:+0200
TZOFFSETTO:+0100
DTSTART:19800928T030000
RRULE:FREQ=YEARLY;UNTIL=19950924T010000Z;BYMONTH=9;BYDAY=-1SU
END:STANDARD
BEGIN:DAYLIGHT
TZNAME:CEST
TZOFFSETFROM:+0100
TZOFFSETTO:+0200
DTSTART:19810329T020000
RRULE:FREQ=YEARLY;BYMONTH=3;BYDAY=-1SU
END:DAYLIGHT
BEGIN:STANDARD
TZNAME:CET
TZOFFSETFROM:+0200
TZOFFSETTO:+0100
DTSTART:19961027T030000
RRULE:FREQ=YEARLY;BYMONTH=10;BYDAY=-1SU
END:STANDARD
END:VTIMEZONE
BEGIN:VEVENT
DTSTAMP:20260425T021422Z
DTSTART;TZID=Europe/Berlin:20250109T200000
DTEND;TZID=Europe/Berlin:20250109T230000
SUMMARY:HE 5. Liga Gr. 6 Wädenswil IX vs Greifensee (0)
UID:6ab52cf1-1548-4c81-8da6-05fc892edc12
STATUS:CONFIRMED
LAST-MODIFIED:20250110T151506Z
DESCRIPTION:5. Liga Herren Gruppe 6\nBegegnungs-Nr: 0\nHeim: Wädenswil IX\nGast: Greifensee\n\nAdresse: Speerstrasse 95\, 8820 Wädenswil\n
LOCATION:Speerstrasse 95\, 8820 Wädenswil
CATEGORIES:Saison 2024/25
END:VEVENT
BEGIN:VEVENT
DTSTAMP:20260425T021422Z
DTSTART;TZID=Europe/Berlin:20240905T200000
DTEND;TZID=Europe/Berlin:20240905T230000
SUMMARY:HE 5. Liga Gr. 6 Wädenswil IX vs Wetzikon VIII (0)
UID:b7362c2f-96ce-4a48-a618-59b85fc7704b
STATUS:CONFIRMED
LAST-MODIFIED:20240906T100013Z
DESCRIPTION:5. Liga Herren Gruppe 6\nBegegnungs-Nr: 0\nHeim: Wädenswil IX\nGast: Wetzikon VIII\n\nAdresse: Speerstrasse 95\, 8820 Wädenswil\n
LOCATION:Speerstrasse 95\, 8820 Wädenswil
CATEGORIES:Saison 2024/25
END:VEVENT
BEGIN:VEVENT
DTSTAMP:20260425T021422Z
DTSTART;TZID=Europe/Berlin:20241031T200000
DTEND;TZID=Europe/Berlin:20241031T230000
SUMMARY:HE 5. Liga Gr. 6 Wädenswil IX vs Eschenbach (0)
UID:af304205-8375-497f-a8b0-54e685cce443
STATUS:CONFIRMED
LAST-MODIFIED:20241108T143118Z
DESCRIPTION:5. Liga Herren Gruppe 6\nBegegnungs-Nr: 0\nHeim: Wädenswil IX\nGast: Eschenbach\n\nAdresse: Speerstrasse 95\, 8820 Wädenswil\n
LOCATION:Speerstrasse 95\, 8820 Wädenswil
CATEGORIES:Saison 2024/25
END:VEVENT
BEGIN:VEVENT
DTSTAMP:20260425T021422Z
DTSTART;TZID=Europe/Berlin:20241003T200000
DTEND;TZID=Europe/Berlin:20241003T230000
SUMMARY:HE 5. Liga Gr. 6 Wädenswil IX vs Gossau Zuerich II (0)
UID:2e56299c-4cee-42c0-a882-4f3aa6100903
STATUS:CONFIRMED
LAST-MODIFIED:20241004T080806Z
DESCRIPTION:5. Liga Herren Gruppe 6\nBegegnungs-Nr: 0\nHeim: Wädenswil IX\nGast: Gossau Zuerich II\n\nAdresse: Speerstrasse 95\, 8820 Wädenswil\n
LOCATION:Speerstrasse 95\, 8820 Wädenswil
CATEGORIES:Saison 2024/25
END:VEVENT
BEGIN:VEVENT
DTSTAMP:20260425T021422Z
DTSTART;TZID=Europe/Berlin:20250327T200000
DTEND;TZID=Europe/Berlin:20250327T230000
SUMMARY:HE 5. Liga Gr. 6 Wädenswil IX vs Young Stars ZH X (0)
UID:97b536d6-7e27-4002-abb7-2a909c8cd65d
STATUS:CONFIRMED
LAST-MODIFIED:20250404T083402Z
DESCRIPTION:5. Liga Herren Gruppe 6\nBegegnungs-Nr: 0\nHeim: Wädenswil IX\nGast: Young Stars ZH X\n\nAdresse: Speerstrasse 95\, 8820 Wädenswil\n
LOCATION:Speerstrasse 95\, 8820 Wädenswil
CATEGORIES:Saison 2024/25
END:VEVENT
BEGIN:VEVENT
DTSTAMP:20260425T021422Z
DTSTART;TZID=Europe/Berlin:20250313T200000
DTEND;TZID=Europe/Berlin:20250313T230000
SUMMARY:HE 5. Liga Gr. 6 Wädenswil IX vs Meilen-Männedorf IV (0)
UID:5cd5715f-514c-40fa-b8e6-bf587ccfb315
STATUS:CONFIRMED
LAST-MODIFIED:20250314T124954Z
DESCRIPTION:5. Liga Herren Gruppe 6\nBegegnungs-Nr: 0\nHeim: Wädenswil IX\nGast: Meilen-Männedorf IV\n\nAdresse: Speerstrasse 95\, 8820 Wädenswil\n
LOCATION:Speerstrasse 95\, 8820 Wädenswil
CATEGORIES:Saison 2024/25
END:VEVENT
BEGIN:VEVENT
DTSTAMP:20260425T021422Z
DTSTART;TZID=Europe/Berlin:20250130T200000
DTEND;TZID=Europe/Berlin:20250130T230000
SUMMARY:HE 5. Liga Gr. 6 Wädenswil IX vs Dübendorf-Volketswil IV (0)
UID:56b09fea-5f9a-4815-8457-137057409d29
STATUS:CONFIRMED
LAST-MODIFIED:20250131T144016Z
DESCRIPTION:5. Liga Herren Gruppe 6\nBegegnungs-Nr: 0\nHeim: Wädenswil IX\nGast: Dübendorf-Volketswil IV\n\nAdresse: Speerstrasse 95\, 8820 Wädenswil\n
LOCATION:Speerstrasse 95\, 8820 Wädenswil
CATEGORIES:Saison 2024/25
END:VEVENT
BEGIN:VEVENT
DTSTAMP:20260425T021422Z
DTSTART;TZID=Europe/Berlin:20241206T200000
DTEND;TZID=Europe/Berlin:20241206T230000
SUMMARY:HE 5. Liga Gr. 6 Young Stars ZH X vs Wädenswil IX (0)
UID:b73bfe9e-521f-4ecb-89b4-fb304dfcf058
STATUS:CONFIRMED
LAST-MODIFIED:20241211T094711Z
DESCRIPTION:5. Liga Herren Gruppe 6\nBegegnungs-Nr: 0\nHeim: Young Stars ZH X\nGast: Wädenswil IX\n\nAdresse: Balgriststrasse 55\, 8008 Zürich\n
LOCATION:Balgriststrasse 55\, 8008 Zürich
CATEGORIES:Saison 2024/25
END:VEVENT
BEGIN:VEVENT
DTSTAMP:20260425T021422Z
DTSTART;TZID=Europe/Berlin:20241107T194500
DTEND;TZID=Europe/Berlin:20241107T224500
SUMMARY:HE 5. Liga Gr. 6 Meilen-Männedorf IV vs Wädenswil IX (0)
UID:d2ad21a9-4b96-4a8c-a586-2fec30cbe64c
STATUS:CONFIRMED
LAST-MODIFIED:20241108T145830Z
DESCRIPTION:5. Liga Herren Gruppe 6\nBegegnungs-Nr: 0\nHeim: Meilen-Männedorf IV\nGast: Wädenswil IX\n\nAdresse: Schulhausstr. 27\, 8706 Meilen\n
LOCATION:Schulhausstr. 27\, 8706 Meilen
CATEGORIES:Saison 2024/25
END:VEVENT
BEGIN:VEVENT
DTSTAMP:20260425T021422Z
DTSTART;TZID=Europe/Berlin:20240919T194500
DTEND;TZID=Europe/Berlin:20240919T224500
SUMMARY:HE 5. Liga Gr. 6 Dübendorf-Volketswil IV vs Wädenswil IX (0)
UID:8c4f8005-a6b0-4816-9d3f-6b8ac5f057a3
STATUS:CONFIRMED
LAST-MODIFIED:20240920T135912Z
DESCRIPTION:5. Liga Herren Gruppe 6\nBegegnungs-Nr: 0\nHeim: Dübendorf-Volketswil IV\nGast: Wädenswil IX\n\nAdresse: Wasserfurrenstrasse 7\, 8600 Dübendorf\n
LOCATION:Wasserfurrenstrasse 7\, 8600 Dübendorf
CATEGORIES:Saison 2024/25
END:VEVENT
BEGIN:VEVENT
DTSTAMP:20260425T021422Z
DTSTART;TZID=Europe/Berlin:20240827T200000
DTEND;TZID=Europe/Berlin:20240827T230000
SUMMARY:HE 5. Liga Gr. 6 Greifensee vs Wädenswil IX (0)
UID:6facdbb5-3f10-4d0d-b8b3-3a0ec95aaa06
STATUS:CONFIRMED
LAST-MODIFIED:20240828T084045Z
DESCRIPTION:5. Liga Herren Gruppe 6\nBegegnungs-Nr: 0\nHeim: Greifensee\nGast: Wädenswil IX\n\nAdresse: Stationsstrasse\, 8606 Nänikon\n
LOCATION:Stationsstrasse\, 8606 Nänikon
CATEGORIES:Saison 2024/25
END:VEVENT
BEGIN:VEVENT
DTSTAMP:20260425T021422Z
DTSTART;TZID=Europe/Berlin:20250307T200000
DTEND;TZID=Europe/Berlin:20250307T230000
SUMMARY:HE 5. Liga Gr. 6 Eschenbach vs Wädenswil IX (0)
UID:9a004d24-4a32-4381-a2d4-c8f6ca5cbe99
STATUS:CONFIRMED
LAST-MODIFIED:20250312T145651Z
DESCRIPTION:5. Liga Herren Gruppe 6\nBegegnungs-Nr: 0\nHeim: Eschenbach\nGast: Wädenswil IX\n\nAdresse: Bildstöcklistrasse 2\, 8733 Eschenbach\n
LOCATION:Bildstöcklistrasse 2\, 8733 Eschenbach
CATEGORIES:Saison 2024/25
END:VEVENT
BEGIN:VEVENT
DTSTAMP:20260425T021422Z
DTSTART;TZID=Europe/Berlin:20250210T201500
DTEND;TZID=Europe/Berlin:20250210T231500
SUMMARY:HE 5. Liga Gr. 6 Gossau Zuerich II vs Wädenswil IX (0)
UID:719ad120-0175-48d4-90e9-0adc44b12225
STATUS:CONFIRMED
LAST-MODIFIED:20250213T132638Z
DESCRIPTION:5. Liga Herren Gruppe 6\nBegegnungs-Nr: 0\nHeim: Gossau Zuerich II\nGast: Wädenswil IX\n\nAdresse: Schulstrasse\, 8624 Grüt-Gossau\n
LOCATION:Schulstrasse\, 8624 Grüt-Gossau
CATEGORIES:Saison 2024/25
END:VEVENT
BEGIN:VEVENT
DTSTAMP:20260425T021422Z
DTSTART;TZID=Europe/Berlin:20250124T194500
DTEND;TZID=Europe/Berlin:20250124T224500
SUMMARY:HE 5. Liga Gr. 6 Wetzikon VIII vs Wädenswil IX (0)
UID:15ccb243-5c4b-4617-bfd5-2f9ffb76d58a
STATUS:CONFIRMED
LAST-MODIFIED:20250129T124143Z
DESCRIPTION:5. Liga Herren Gruppe 6\nBegegnungs-Nr: 0\nHeim: Wetzikon VIII\nGast: Wädenswil IX\n\nAdresse: Usterstrasse 37\, 8620 Wetzikon\n
LOCATION:Usterstrasse 37\, 8620 Wetzikon
CATEGORIES:Saison 2024/25
END:VEVENT
END:VCALENDAR
