BEGIN:VCALENDAR
PRODID:-//nuDatenautomaten//framework iCal4j //DE
VERSION:2.0
CALSCALE:GREGORIAN
BEGIN:VTIMEZONE
TZID:Europe/Berlin
LAST-MODIFIED:20260306T231828Z
TZURL:https://www.tzurl.org/zoneinfo/Europe/Berlin
X-LIC-LOCATION:Europe/Berlin
X-PROLEPTIC-TZNAME:LMT
BEGIN:STANDARD
TZNAME:CET
TZOFFSETFROM:+005328
TZOFFSETTO:+0100
DTSTART:18930401T000000
END:STANDARD
BEGIN:DAYLIGHT
TZNAME:CEST
TZOFFSETFROM:+0100
TZOFFSETTO:+0200
DTSTART:19160430T230000
RDATE:19400401T020000
RDATE:19430329T020000
RDATE:19460414T020000
RDATE:19470406T030000
RDATE:19480418T020000
RDATE:19490410T020000
RDATE:19800406T020000
END:DAYLIGHT
BEGIN:STANDARD
TZNAME:CET
TZOFFSETFROM:+0200
TZOFFSETTO:+0100
DTSTART:19161001T010000
RDATE:19421102T030000
RDATE:19431004T030000
RDATE:19441002T030000
RDATE:19451118T030000
RDATE:19461007T030000
END:STANDARD
BEGIN:DAYLIGHT
TZNAME:CEST
TZOFFSETFROM:+0100
TZOFFSETTO:+0200
DTSTART:19170416T020000
RRULE:FREQ=YEARLY;UNTIL=19180415T010000Z;BYMONTH=4;BYDAY=3MO
END:DAYLIGHT
BEGIN:STANDARD
TZNAME:CET
TZOFFSETFROM:+0200
TZOFFSETTO:+0100
DTSTART:19170917T030000
RRULE:FREQ=YEARLY;UNTIL=19180916T010000Z;BYMONTH=9;BYDAY=3MO
END:STANDARD
BEGIN:DAYLIGHT
TZNAME:CEST
TZOFFSETFROM:+0100
TZOFFSETTO:+0200
DTSTART:19440403T020000
RRULE:FREQ=YEARLY;UNTIL=19450402T010000Z;BYMONTH=4;BYDAY=1MO
END:DAYLIGHT
BEGIN:DAYLIGHT
TZNAME:CEMT
TZOFFSETFROM:+0200
TZOFFSETTO:+0300
DTSTART:19450524T020000
RDATE:19470511T030000
END:DAYLIGHT
BEGIN:DAYLIGHT
TZNAME:CEST
TZOFFSETFROM:+0300
TZOFFSETTO:+0200
DTSTART:19450924T030000
RDATE:19470629T030000
END:DAYLIGHT
BEGIN:STANDARD
TZNAME:CET
TZOFFSETFROM:+0100
TZOFFSETTO:+0100
DTSTART:19460101T000000
RDATE:19800101T000000
END:STANDARD
BEGIN:STANDARD
TZNAME:CET
TZOFFSETFROM:+0200
TZOFFSETTO:+0100
DTSTART:19471005T030000
RRULE:FREQ=YEARLY;UNTIL=19491002T010000Z;BYMONTH=10;BYDAY=1SU
END:STANDARD
BEGIN:STANDARD
TZNAME:CET
TZOFFSETFROM:+0200
TZOFFSETTO:+0100
DTSTART:19800928T030000
RRULE:FREQ=YEARLY;UNTIL=19950924T010000Z;BYMONTH=9;BYDAY=-1SU
END:STANDARD
BEGIN:DAYLIGHT
TZNAME:CEST
TZOFFSETFROM:+0100
TZOFFSETTO:+0200
DTSTART:19810329T020000
RRULE:FREQ=YEARLY;BYMONTH=3;BYDAY=-1SU
END:DAYLIGHT
BEGIN:STANDARD
TZNAME:CET
TZOFFSETFROM:+0200
TZOFFSETTO:+0100
DTSTART:19961027T030000
RRULE:FREQ=YEARLY;BYMONTH=10;BYDAY=-1SU
END:STANDARD
END:VTIMEZONE
BEGIN:VEVENT
DTSTAMP:20260424T220511Z
DTSTART;TZID=Europe/Berlin:20240919T194500
DTEND;TZID=Europe/Berlin:20240919T224500
SUMMARY:ME L1 Gr 1\, Tours 1&2 Forward-Morges vs Yvorne (0)
UID:271a3e95-5bd8-4a22-939f-fe08952e78c2
STATUS:CONFIRMED
LAST-MODIFIED:20240920T063218Z
DESCRIPTION:1ère ligue Hommes Groupe 1\, Tours 1&2\nBegegnungs-Nr: 0\nHeim: Forward-Morges\nGast: Yvorne\n\nAdresse: Chemin de Tolochenaz\, 1110 Morges\n
LOCATION:Chemin de Tolochenaz\, 1110 Morges
CATEGORIES:Saison 2024/25
END:VEVENT
BEGIN:VEVENT
DTSTAMP:20260424T220511Z
DTSTART;TZID=Europe/Berlin:20240905T194500
DTEND;TZID=Europe/Berlin:20240905T224500
SUMMARY:ME L1 Gr 1\, Tours 1&2 Forward-Morges vs Rossens II (0)
UID:7ef47812-24f6-4a35-8a77-28442e1ba305
STATUS:CONFIRMED
LAST-MODIFIED:20240907T122459Z
DESCRIPTION:1ère ligue Hommes Groupe 1\, Tours 1&2\nBegegnungs-Nr: 0\nHeim: Forward-Morges\nGast: Rossens II\n\nAdresse: Chemin de Tolochenaz\, 1110 Morges\n
LOCATION:Chemin de Tolochenaz\, 1110 Morges
CATEGORIES:Saison 2024/25
END:VEVENT
BEGIN:VEVENT
DTSTAMP:20260424T220511Z
DTSTART;TZID=Europe/Berlin:20241128T194500
DTEND;TZID=Europe/Berlin:20241128T224500
SUMMARY:ME L1 Gr 1\, Tours 1&2 Forward-Morges vs Collombey/Muraz (0)
UID:cb70c6c1-250d-4590-bf92-6d31ac6121a7
STATUS:CONFIRMED
LAST-MODIFIED:20241129T153914Z
DESCRIPTION:1ère ligue Hommes Groupe 1\, Tours 1&2\nBegegnungs-Nr: 0\nHeim: Forward-Morges\nGast: Collombey/Muraz\n\nAdresse: Chemin de Tolochenaz\, 1110 Morges\n
LOCATION:Chemin de Tolochenaz\, 1110 Morges
CATEGORIES:Saison 2024/25
END:VEVENT
BEGIN:VEVENT
DTSTAMP:20260424T220511Z
DTSTART;TZID=Europe/Berlin:20241107T194500
DTEND;TZID=Europe/Berlin:20241107T224500
SUMMARY:ME L1 Gr 1\, Tours 1&2 Forward-Morges vs Avry-Rosé (0)
UID:46244e2b-6123-46c1-b216-7ce3137b2921
STATUS:CONFIRMED
LAST-MODIFIED:20241108T200448Z
DESCRIPTION:1ère ligue Hommes Groupe 1\, Tours 1&2\nBegegnungs-Nr: 0\nHeim: Forward-Morges\nGast: Avry-Rosé\n\nAdresse: Chemin de Tolochenaz\, 1110 Morges\n
LOCATION:Chemin de Tolochenaz\, 1110 Morges
CATEGORIES:Saison 2024/25
END:VEVENT
BEGIN:VEVENT
DTSTAMP:20260424T220511Z
DTSTART;TZID=Europe/Berlin:20240926T194500
DTEND;TZID=Europe/Berlin:20240926T224500
SUMMARY:ME L1 Gr 1\, Tours 1&2 Forward-Morges vs Bulle III (0)
UID:2c8dd1d8-1e07-49c5-baf9-816d3ebdf98f
STATUS:CONFIRMED
LAST-MODIFIED:20240928T190937Z
DESCRIPTION:1ère ligue Hommes Groupe 1\, Tours 1&2\nBegegnungs-Nr: 0\nHeim: Forward-Morges\nGast: Bulle III\n\nAdresse: Chemin de Tolochenaz\, 1110 Morges\n
LOCATION:Chemin de Tolochenaz\, 1110 Morges
CATEGORIES:Saison 2024/25
END:VEVENT
BEGIN:VEVENT
DTSTAMP:20260424T220511Z
DTSTART;TZID=Europe/Berlin:20250501T194500
DTEND;TZID=Europe/Berlin:20250501T224500
SUMMARY:ME L1 Finale Forward-Morges vs Sierre II (1)
UID:925f614c-da02-45b4-8184-d0950c12602e
STATUS:CONFIRMED
LAST-MODIFIED:20250503T000227Z
DESCRIPTION:1ère ligue Hommes Groupe 2\, Finale\nBegegnungs-Nr: 1\nHeim: Forward-Morges\nGast: Sierre II\n\nAdresse: Chemin de Tolochenaz\, 1110 Morges\n
LOCATION:Chemin de Tolochenaz\, 1110 Morges
CATEGORIES:Saison 2024/25
END:VEVENT
BEGIN:VEVENT
DTSTAMP:20260424T220511Z
DTSTART;TZID=Europe/Berlin:20250109T194500
DTEND;TZID=Europe/Berlin:20250109T224500
SUMMARY:ME L1 Gr 1\, Tours 3&4 Forward-Morges vs Montriond-Ouchy  (0)
UID:911ef670-5225-4add-98fe-8c15f99d0e86
STATUS:CONFIRMED
LAST-MODIFIED:20250110T211122Z
DESCRIPTION:1ère ligue Hommes Groupe 1\, Tours 3&4\nBegegnungs-Nr: 0\nHeim: Forward-Morges\nGast: Montriond-Ouchy \n\nAdresse: Chemin de Tolochenaz\, 1110 Morges\n
LOCATION:Chemin de Tolochenaz\, 1110 Morges
CATEGORIES:Saison 2024/25
END:VEVENT
BEGIN:VEVENT
DTSTAMP:20260424T220511Z
DTSTART;TZID=Europe/Berlin:20250123T194500
DTEND;TZID=Europe/Berlin:20250123T224500
SUMMARY:ME L1 Gr 1\, Tours 3&4 Forward-Morges vs Lausanne II (0)
UID:a04a1012-945f-46ad-a743-67fa39ea3057
STATUS:CONFIRMED
LAST-MODIFIED:20250125T161446Z
DESCRIPTION:1ère ligue Hommes Groupe 1\, Tours 3&4\nBegegnungs-Nr: 0\nHeim: Forward-Morges\nGast: Lausanne II\n\nAdresse: Chemin de Tolochenaz\, 1110 Morges\n
LOCATION:Chemin de Tolochenaz\, 1110 Morges
CATEGORIES:Saison 2024/25
END:VEVENT
BEGIN:VEVENT
DTSTAMP:20260424T220511Z
DTSTART;TZID=Europe/Berlin:20250403T194500
DTEND;TZID=Europe/Berlin:20250403T224500
SUMMARY:ME L1 Gr 1\, Tours 3&4 Forward-Morges vs Rossens II (0)
UID:08b8b9e0-bad6-4069-9d86-8ea7379c15aa
STATUS:CONFIRMED
LAST-MODIFIED:20250404T133835Z
DESCRIPTION:1ère ligue Hommes Groupe 1\, Tours 3&4\nBegegnungs-Nr: 0\nHeim: Forward-Morges\nGast: Rossens II\n\nAdresse: Chemin de Tolochenaz\, 1110 Morges\n
LOCATION:Chemin de Tolochenaz\, 1110 Morges
CATEGORIES:Saison 2024/25
END:VEVENT
BEGIN:VEVENT
DTSTAMP:20260424T220511Z
DTSTART;TZID=Europe/Berlin:20250320T194500
DTEND;TZID=Europe/Berlin:20250320T224500
SUMMARY:ME L1 Gr 1\, Tours 3&4 Forward-Morges vs Crissier (0)
UID:d6c13340-e951-4cfd-bf67-f20521a77374
STATUS:CONFIRMED
LAST-MODIFIED:20250321T115424Z
DESCRIPTION:1ère ligue Hommes Groupe 1\, Tours 3&4\nBegegnungs-Nr: 0\nHeim: Forward-Morges\nGast: Crissier\n\nAdresse: Chemin de Tolochenaz\, 1110 Morges\n
LOCATION:Chemin de Tolochenaz\, 1110 Morges
CATEGORIES:Saison 2024/25
END:VEVENT
BEGIN:VEVENT
DTSTAMP:20260424T220511Z
DTSTART;TZID=Europe/Berlin:20250227T194500
DTEND;TZID=Europe/Berlin:20250227T224500
SUMMARY:ME L1 Gr 1\, Tours 3&4 Forward-Morges vs Bulle IV (0)
UID:ff07e207-3d48-4fbe-8f59-268235bf4b39
STATUS:CONFIRMED
LAST-MODIFIED:20250228T165531Z
DESCRIPTION:1ère ligue Hommes Groupe 1\, Tours 3&4\nBegegnungs-Nr: 0\nHeim: Forward-Morges\nGast: Bulle IV\n\nAdresse: Chemin de Tolochenaz\, 1110 Morges\n
LOCATION:Chemin de Tolochenaz\, 1110 Morges
CATEGORIES:Saison 2024/25
END:VEVENT
BEGIN:VEVENT
DTSTAMP:20260424T220511Z
DTSTART;TZID=Europe/Berlin:20250510T100000
DTEND;TZID=Europe/Berlin:20250510T130000
SUMMARY:Aufstieg 1. Liga/NLC Gr. A Forward-Morges vs Ostermundigen II (1)
UID:26868872-1b7f-4ee5-a90f-4c8c36c61e39
STATUS:CONFIRMED
LAST-MODIFIED:20250510T104735Z
DESCRIPTION:Aufstieg 1. Liga/NLC Gruppe A\nBegegnungs-Nr: 1\nHeim: Forward-Morges\nGast: Ostermundigen II\n
LOCATION:
CATEGORIES:Saison 2024/25
END:VEVENT
BEGIN:VEVENT
DTSTAMP:20260424T220511Z
DTSTART;TZID=Europe/Berlin:20250510T160000
DTEND;TZID=Europe/Berlin:20250510T190000
SUMMARY:Aufstieg 1. Liga/NLC Gr. A Forward-Morges vs Tenero (5)
UID:bf2f0b12-52ea-4bcd-96cb-38c4086aa154
STATUS:CONFIRMED
LAST-MODIFIED:20250510T163410Z
DESCRIPTION:Aufstieg 1. Liga/NLC Gruppe A\nBegegnungs-Nr: 5\nHeim: Forward-Morges\nGast: Tenero\n
LOCATION:
CATEGORIES:Saison 2024/25
END:VEVENT
BEGIN:VEVENT
DTSTAMP:20260424T220511Z
DTSTART;TZID=Europe/Berlin:20250510T130000
DTEND;TZID=Europe/Berlin:20250510T160000
SUMMARY:Aufstieg 1. Liga/NLC Gr. A Forward-Morges vs Chur (3)
UID:eb6a9bb7-b378-45eb-8bd4-580662a1324b
STATUS:CONFIRMED
LAST-MODIFIED:20250510T181353Z
DESCRIPTION:Aufstieg 1. Liga/NLC Gruppe A\nBegegnungs-Nr: 3\nHeim: Forward-Morges\nGast: Chur\n
LOCATION:
CATEGORIES:Saison 2024/25
END:VEVENT
BEGIN:VEVENT
DTSTAMP:20260424T220511Z
DTSTART;TZID=Europe/Berlin:20240910T193000
DTEND;TZID=Europe/Berlin:20240910T223000
SUMMARY:ME L1 Gr 1\, Tours 1&2 Avry-Rosé vs Forward-Morges (0)
UID:1d19d0a3-f2c6-4f70-96a1-63fb71eb5445
STATUS:CONFIRMED
LAST-MODIFIED:20240911T225713Z
DESCRIPTION:1ère ligue Hommes Groupe 1\, Tours 1&2\nBegegnungs-Nr: 0\nHeim: Avry-Rosé\nGast: Forward-Morges\n\nAdresse: Route du Château 15\, 1754 Avry-sur-Matran\n
LOCATION:Route du Château 15\, 1754 Avry-sur-Matran
CATEGORIES:Saison 2024/25
END:VEVENT
BEGIN:VEVENT
DTSTAMP:20260424T220511Z
DTSTART;TZID=Europe/Berlin:20241211T194500
DTEND;TZID=Europe/Berlin:20241211T224500
SUMMARY:ME L1 Gr 1\, Tours 1&2 Bulle III vs Forward-Morges (0)
UID:19b3deaf-65a3-4d63-ab59-cdcff6b1d205
STATUS:CONFIRMED
LAST-MODIFIED:20241215T005642Z
DESCRIPTION:1ère ligue Hommes Groupe 1\, Tours 1&2\nBegegnungs-Nr: 0\nHeim: Bulle III\nGast: Forward-Morges\n\nAdresse: Rue du Stade 50\, 1630 Bulle\n
LOCATION:Rue du Stade 50\, 1630 Bulle
CATEGORIES:Saison 2024/25
END:VEVENT
BEGIN:VEVENT
DTSTAMP:20260424T220511Z
DTSTART;TZID=Europe/Berlin:20241120T200000
DTEND;TZID=Europe/Berlin:20241120T230000
SUMMARY:ME L1 Gr 1\, Tours 1&2 Yvorne vs Forward-Morges (0)
UID:d0187eec-ace4-48ad-aafb-afb3f4f859ce
STATUS:CONFIRMED
LAST-MODIFIED:20241121T104529Z
DESCRIPTION:1ère ligue Hommes Groupe 1\, Tours 1&2\nBegegnungs-Nr: 0\nHeim: Yvorne\nGast: Forward-Morges\n\nAdresse: Les Maisons Neuves 38\, 1853 Yvorne\n
LOCATION:Les Maisons Neuves 38\, 1853 Yvorne
CATEGORIES:Saison 2024/25
END:VEVENT
BEGIN:VEVENT
DTSTAMP:20260424T220511Z
DTSTART;TZID=Europe/Berlin:20241028T200000
DTEND;TZID=Europe/Berlin:20241028T230000
SUMMARY:ME L1 Gr 1\, Tours 1&2 Rossens II vs Forward-Morges (0)
UID:3a545bbc-1e2c-4423-be6f-bdd8f824a105
STATUS:CONFIRMED
LAST-MODIFIED:20241030T214529Z
DESCRIPTION:1ère ligue Hommes Groupe 1\, Tours 1&2\nBegegnungs-Nr: 0\nHeim: Rossens II\nGast: Forward-Morges\n\nAdresse: Route du Jordil 14\, 1728 Rossens\n
LOCATION:Route du Jordil 14\, 1728 Rossens
CATEGORIES:Saison 2024/25
END:VEVENT
BEGIN:VEVENT
DTSTAMP:20260424T220511Z
DTSTART;TZID=Europe/Berlin:20241006T170000
DTEND;TZID=Europe/Berlin:20241006T200000
SUMMARY:ME L1 Gr 1\, Tours 1&2 Collombey/Muraz vs Forward-Morges (0)
UID:75dc9c92-1e37-4e24-bb4b-35d107815c3b
STATUS:CONFIRMED
LAST-MODIFIED:20241007T062918Z
DESCRIPTION:1ère ligue Hommes Groupe 1\, Tours 1&2\nBegegnungs-Nr: 0\nHeim: Collombey/Muraz\nGast: Forward-Morges\n\nAdresse: Route du Montagnier 81\, 1868 Collombey\n
LOCATION:Route du Montagnier 81\, 1868 Collombey
CATEGORIES:Saison 2024/25
END:VEVENT
BEGIN:VEVENT
DTSTAMP:20260424T220511Z
DTSTART;TZID=Europe/Berlin:20250224T200000
DTEND;TZID=Europe/Berlin:20250224T230000
SUMMARY:ME L1 Gr 1\, Tours 3&4 Rossens II vs Forward-Morges (0)
UID:1f5d9a2f-70a3-466c-a641-b2651c87fb21
STATUS:CONFIRMED
LAST-MODIFIED:20250225T182349Z
DESCRIPTION:1ère ligue Hommes Groupe 1\, Tours 3&4\nBegegnungs-Nr: 0\nHeim: Rossens II\nGast: Forward-Morges\n\nAdresse: Route du Jordil 14\, 1728 Rossens\n
LOCATION:Route du Jordil 14\, 1728 Rossens
CATEGORIES:Saison 2024/25
END:VEVENT
BEGIN:VEVENT
DTSTAMP:20260424T220511Z
DTSTART;TZID=Europe/Berlin:20250110T193000
DTEND;TZID=Europe/Berlin:20250110T223000
SUMMARY:ME L1 Gr 1\, Tours 3&4 Crissier vs Forward-Morges (0)
UID:6e0f5079-d989-41bd-aa0b-f9514123e139
STATUS:CONFIRMED
LAST-MODIFIED:20250111T014052Z
DESCRIPTION:1ère ligue Hommes Groupe 1\, Tours 3&4\nBegegnungs-Nr: 0\nHeim: Crissier\nGast: Forward-Morges\n\nAdresse: ch. des Oches du Mur\, 1023 Crissier\n
LOCATION:ch. des Oches du Mur\, 1023 Crissier
CATEGORIES:Saison 2024/25
END:VEVENT
BEGIN:VEVENT
DTSTAMP:20260424T220511Z
DTSTART;TZID=Europe/Berlin:20250115T193000
DTEND;TZID=Europe/Berlin:20250115T223000
SUMMARY:ME L1 Gr 1\, Tours 3&4 Bulle IV vs Forward-Morges (0)
UID:8fd7f283-7caa-4527-bf2f-45c0bac3ec2a
STATUS:CONFIRMED
LAST-MODIFIED:20250116T113623Z
DESCRIPTION:1ère ligue Hommes Groupe 1\, Tours 3&4\nBegegnungs-Nr: 0\nHeim: Bulle IV\nGast: Forward-Morges\n\nAdresse: Rue du Stade 50\, 1630 Bulle\n
LOCATION:Rue du Stade 50\, 1630 Bulle
CATEGORIES:Saison 2024/25
END:VEVENT
BEGIN:VEVENT
DTSTAMP:20260424T220511Z
DTSTART;TZID=Europe/Berlin:20250328T193000
DTEND;TZID=Europe/Berlin:20250328T223000
SUMMARY:ME L1 Gr 1\, Tours 3&4 Montriond-Ouchy  vs Forward-Morges (0)
UID:6ca37864-8fa6-4bdd-afca-68aa1118d2cd
STATUS:CONFIRMED
LAST-MODIFIED:20250329T153237Z
DESCRIPTION:1ère ligue Hommes Groupe 1\, Tours 3&4\nBegegnungs-Nr: 0\nHeim: Montriond-Ouchy \nGast: Forward-Morges\n\nAdresse: Avenue d'Ouchy 45\, 1006 Lausanne\n
LOCATION:Avenue d'Ouchy 45\, 1006 Lausanne
CATEGORIES:Saison 2024/25
END:VEVENT
BEGIN:VEVENT
DTSTAMP:20260424T220511Z
DTSTART;TZID=Europe/Berlin:20250314T193000
DTEND;TZID=Europe/Berlin:20250314T223000
SUMMARY:ME L1 Gr 1\, Tours 3&4 Lausanne II vs Forward-Morges (0)
UID:f9fe4309-dd15-418d-bdda-c7751f7dbb19
STATUS:CONFIRMED
LAST-MODIFIED:20250316T010635Z
DESCRIPTION:1ère ligue Hommes Groupe 1\, Tours 3&4\nBegegnungs-Nr: 0\nHeim: Lausanne II\nGast: Forward-Morges\n\nAdresse: Vaudoise Aréna\, Ch. du Viaduc 14\, 1008 Prilly\n
LOCATION:Vaudoise Aréna\, Ch. du Viaduc 14\, 1008 Prilly
CATEGORIES:Saison 2024/25
END:VEVENT
END:VCALENDAR
