BEGIN:VCALENDAR
PRODID:-//nuDatenautomaten//framework iCal4j //DE
VERSION:2.0
CALSCALE:GREGORIAN
BEGIN:VTIMEZONE
TZID:Europe/Berlin
LAST-MODIFIED:20260306T231828Z
TZURL:https://www.tzurl.org/zoneinfo/Europe/Berlin
X-LIC-LOCATION:Europe/Berlin
X-PROLEPTIC-TZNAME:LMT
BEGIN:STANDARD
TZNAME:CET
TZOFFSETFROM:+005328
TZOFFSETTO:+0100
DTSTART:18930401T000000
END:STANDARD
BEGIN:DAYLIGHT
TZNAME:CEST
TZOFFSETFROM:+0100
TZOFFSETTO:+0200
DTSTART:19160430T230000
RDATE:19400401T020000
RDATE:19430329T020000
RDATE:19460414T020000
RDATE:19470406T030000
RDATE:19480418T020000
RDATE:19490410T020000
RDATE:19800406T020000
END:DAYLIGHT
BEGIN:STANDARD
TZNAME:CET
TZOFFSETFROM:+0200
TZOFFSETTO:+0100
DTSTART:19161001T010000
RDATE:19421102T030000
RDATE:19431004T030000
RDATE:19441002T030000
RDATE:19451118T030000
RDATE:19461007T030000
END:STANDARD
BEGIN:DAYLIGHT
TZNAME:CEST
TZOFFSETFROM:+0100
TZOFFSETTO:+0200
DTSTART:19170416T020000
RRULE:FREQ=YEARLY;UNTIL=19180415T010000Z;BYMONTH=4;BYDAY=3MO
END:DAYLIGHT
BEGIN:STANDARD
TZNAME:CET
TZOFFSETFROM:+0200
TZOFFSETTO:+0100
DTSTART:19170917T030000
RRULE:FREQ=YEARLY;UNTIL=19180916T010000Z;BYMONTH=9;BYDAY=3MO
END:STANDARD
BEGIN:DAYLIGHT
TZNAME:CEST
TZOFFSETFROM:+0100
TZOFFSETTO:+0200
DTSTART:19440403T020000
RRULE:FREQ=YEARLY;UNTIL=19450402T010000Z;BYMONTH=4;BYDAY=1MO
END:DAYLIGHT
BEGIN:DAYLIGHT
TZNAME:CEMT
TZOFFSETFROM:+0200
TZOFFSETTO:+0300
DTSTART:19450524T020000
RDATE:19470511T030000
END:DAYLIGHT
BEGIN:DAYLIGHT
TZNAME:CEST
TZOFFSETFROM:+0300
TZOFFSETTO:+0200
DTSTART:19450924T030000
RDATE:19470629T030000
END:DAYLIGHT
BEGIN:STANDARD
TZNAME:CET
TZOFFSETFROM:+0100
TZOFFSETTO:+0100
DTSTART:19460101T000000
RDATE:19800101T000000
END:STANDARD
BEGIN:STANDARD
TZNAME:CET
TZOFFSETFROM:+0200
TZOFFSETTO:+0100
DTSTART:19471005T030000
RRULE:FREQ=YEARLY;UNTIL=19491002T010000Z;BYMONTH=10;BYDAY=1SU
END:STANDARD
BEGIN:STANDARD
TZNAME:CET
TZOFFSETFROM:+0200
TZOFFSETTO:+0100
DTSTART:19800928T030000
RRULE:FREQ=YEARLY;UNTIL=19950924T010000Z;BYMONTH=9;BYDAY=-1SU
END:STANDARD
BEGIN:DAYLIGHT
TZNAME:CEST
TZOFFSETFROM:+0100
TZOFFSETTO:+0200
DTSTART:19810329T020000
RRULE:FREQ=YEARLY;BYMONTH=3;BYDAY=-1SU
END:DAYLIGHT
BEGIN:STANDARD
TZNAME:CET
TZOFFSETFROM:+0200
TZOFFSETTO:+0100
DTSTART:19961027T030000
RRULE:FREQ=YEARLY;BYMONTH=10;BYDAY=-1SU
END:STANDARD
END:VTIMEZONE
BEGIN:VEVENT
DTSTAMP:20260425T004243Z
DTSTART;TZID=Europe/Berlin:20250124T193000
DTEND;TZID=Europe/Berlin:20250124T223000
SUMMARY:HE 4. Liga Gr. 5 Pinguin Zürich III vs Uster IV (0)
UID:2d0f8d4d-676d-4156-a810-fcd33bafc86c
STATUS:CONFIRMED
LAST-MODIFIED:20250129T123647Z
DESCRIPTION:4. Liga Herren Gruppe 5\nBegegnungs-Nr: 0\nHeim: Pinguin Zürich III\nGast: Uster IV\n\nAdresse: Basteiplatz\, 8001 Zürich\n
LOCATION:Basteiplatz\, 8001 Zürich
CATEGORIES:Saison 2024/25
END:VEVENT
BEGIN:VEVENT
DTSTAMP:20260425T004243Z
DTSTART;TZID=Europe/Berlin:20241111T193000
DTEND;TZID=Europe/Berlin:20241111T223000
SUMMARY:HE 4. Liga Gr. 5 Pinguin Zürich III vs Zürich-Affoltern VI (0)
UID:44e04198-172e-4412-932a-c91b1765517b
STATUS:CONFIRMED
LAST-MODIFIED:20241114T073747Z
DESCRIPTION:4. Liga Herren Gruppe 5\nBegegnungs-Nr: 0\nHeim: Pinguin Zürich III\nGast: Zürich-Affoltern VI\n\nAdresse: Basteiplatz\, 8001 Zürich\n
LOCATION:Basteiplatz\, 8001 Zürich
CATEGORIES:Saison 2024/25
END:VEVENT
BEGIN:VEVENT
DTSTAMP:20260425T004243Z
DTSTART;TZID=Europe/Berlin:20240927T193000
DTEND;TZID=Europe/Berlin:20240927T223000
SUMMARY:HE 4. Liga Gr. 5 Pinguin Zürich III vs Kloten (0)
UID:601c080a-00a5-4d92-8042-9ff84120d642
STATUS:CONFIRMED
LAST-MODIFIED:20240930T124555Z
DESCRIPTION:4. Liga Herren Gruppe 5\nBegegnungs-Nr: 0\nHeim: Pinguin Zürich III\nGast: Kloten\n\nAdresse: Basteiplatz\, 8001 Zürich\n
LOCATION:Basteiplatz\, 8001 Zürich
CATEGORIES:Saison 2024/25
END:VEVENT
BEGIN:VEVENT
DTSTAMP:20260425T004243Z
DTSTART;TZID=Europe/Berlin:20250331T193000
DTEND;TZID=Europe/Berlin:20250331T223000
SUMMARY:HE 4. Liga Gr. 5 Pinguin Zürich III vs BW-Wollishofen III (0)
UID:7a2012c0-a180-42c1-a896-3e89cdedaf81
STATUS:CONFIRMED
LAST-MODIFIED:20250404T083019Z
DESCRIPTION:4. Liga Herren Gruppe 5\nBegegnungs-Nr: 0\nHeim: Pinguin Zürich III\nGast: BW-Wollishofen III\n\nAdresse: Basteiplatz\, 8001 Zürich\n
LOCATION:Basteiplatz\, 8001 Zürich
CATEGORIES:Saison 2024/25
END:VEVENT
BEGIN:VEVENT
DTSTAMP:20260425T004243Z
DTSTART;TZID=Europe/Berlin:20250307T193000
DTEND;TZID=Europe/Berlin:20250307T223000
SUMMARY:HE 4. Liga Gr. 5 Pinguin Zürich III vs Meilen-Männedorf II (0)
UID:cf4126a5-13cf-40bc-bd8b-9620883c766c
STATUS:CONFIRMED
LAST-MODIFIED:20250311T154643Z
DESCRIPTION:4. Liga Herren Gruppe 5\nBegegnungs-Nr: 0\nHeim: Pinguin Zürich III\nGast: Meilen-Männedorf II\n\nAdresse: Basteiplatz\, 8001 Zürich\n
LOCATION:Basteiplatz\, 8001 Zürich
CATEGORIES:Saison 2024/25
END:VEVENT
BEGIN:VEVENT
DTSTAMP:20260425T004243Z
DTSTART;TZID=Europe/Berlin:20250207T193000
DTEND;TZID=Europe/Berlin:20250207T223000
SUMMARY:HE 4. Liga Gr. 5 Pinguin Zürich III vs Bülach III (0)
UID:a6c08b62-8de1-4b26-9216-922167763549
STATUS:CONFIRMED
LAST-MODIFIED:20250213T131953Z
DESCRIPTION:4. Liga Herren Gruppe 5\nBegegnungs-Nr: 0\nHeim: Pinguin Zürich III\nGast: Bülach III\n\nAdresse: Basteiplatz\, 8001 Zürich\n
LOCATION:Basteiplatz\, 8001 Zürich
CATEGORIES:Saison 2024/25
END:VEVENT
BEGIN:VEVENT
DTSTAMP:20260425T004243Z
DTSTART;TZID=Europe/Berlin:20250108T200000
DTEND;TZID=Europe/Berlin:20250108T230000
SUMMARY:HE 4. Liga Gr. 5 Buchs Zürich III vs Pinguin Zürich III (0)
UID:03fd2570-dbcf-4003-8a27-3900d74b92ff
STATUS:CONFIRMED
LAST-MODIFIED:20250110T151108Z
DESCRIPTION:4. Liga Herren Gruppe 5\nBegegnungs-Nr: 0\nHeim: Buchs Zürich III\nGast: Pinguin Zürich III\n\nAdresse: Schulstrasse 73\, 8105 Regensdorf\n
LOCATION:Schulstrasse 73\, 8105 Regensdorf
CATEGORIES:Saison 2024/25
END:VEVENT
BEGIN:VEVENT
DTSTAMP:20260425T004243Z
DTSTART;TZID=Europe/Berlin:20241204T200000
DTEND;TZID=Europe/Berlin:20241204T230000
SUMMARY:HE 4. Liga Gr. 5 BW-Wollishofen III vs Pinguin Zürich III (0)
UID:3636974f-b410-41d8-98be-3693424a59f1
STATUS:CONFIRMED
LAST-MODIFIED:20241205T124606Z
DESCRIPTION:4. Liga Herren Gruppe 5\nBegegnungs-Nr: 0\nHeim: BW-Wollishofen III\nGast: Pinguin Zürich III\n\nAdresse: Kilchbergstr. 28\, 8038 Zürich\n
LOCATION:Kilchbergstr. 28\, 8038 Zürich
CATEGORIES:Saison 2024/25
END:VEVENT
BEGIN:VEVENT
DTSTAMP:20260425T004243Z
DTSTART;TZID=Europe/Berlin:20241028T194500
DTEND;TZID=Europe/Berlin:20241028T224500
SUMMARY:HE 4. Liga Gr. 5 Meilen-Männedorf II vs Pinguin Zürich III (0)
UID:71d82fd5-8414-4043-bf09-94b548704c08
STATUS:CONFIRMED
LAST-MODIFIED:20241107T163033Z
DESCRIPTION:4. Liga Herren Gruppe 5\nBegegnungs-Nr: 0\nHeim: Meilen-Männedorf II\nGast: Pinguin Zürich III\n\nAdresse: Schulstrasse 10\, 8708 Männedorf\n
LOCATION:Schulstrasse 10\, 8708 Männedorf
CATEGORIES:Saison 2024/25
END:VEVENT
BEGIN:VEVENT
DTSTAMP:20260425T004243Z
DTSTART;TZID=Europe/Berlin:20241003T201500
DTEND;TZID=Europe/Berlin:20241003T231500
SUMMARY:HE 4. Liga Gr. 5 Bülach III vs Pinguin Zürich III (0)
UID:3f59e25a-4906-4baa-ba94-1585ea09f8d8
STATUS:CONFIRMED
LAST-MODIFIED:20241010T105739Z
DESCRIPTION:4. Liga Herren Gruppe 5\nBegegnungs-Nr: 0\nHeim: Bülach III\nGast: Pinguin Zürich III\n\nAdresse: Unterweg 51\, 8180 Bülach\n
LOCATION:Unterweg 51\, 8180 Bülach
CATEGORIES:Saison 2024/25
END:VEVENT
BEGIN:VEVENT
DTSTAMP:20260425T004243Z
DTSTART;TZID=Europe/Berlin:20240902T194500
DTEND;TZID=Europe/Berlin:20240902T224500
SUMMARY:HE 4. Liga Gr. 5 Uster IV vs Pinguin Zürich III (0)
UID:e2a48bb7-b640-4816-ba3d-706fbacb6cef
STATUS:CONFIRMED
LAST-MODIFIED:20240904T102936Z
DESCRIPTION:4. Liga Herren Gruppe 5\nBegegnungs-Nr: 0\nHeim: Uster IV\nGast: Pinguin Zürich III\n\nAdresse: Wilstrasse 30 / Zürcherstrasse\, 8610 Uster\n
LOCATION:Wilstrasse 30 / Zürcherstrasse\, 8610 Uster
CATEGORIES:Saison 2024/25
END:VEVENT
BEGIN:VEVENT
DTSTAMP:20260425T004243Z
DTSTART;TZID=Europe/Berlin:20240904T201500
DTEND;TZID=Europe/Berlin:20240904T231500
SUMMARY:HE 4. Liga Gr. 5 Buchs Zürich III vs Pinguin Zürich III (0)
UID:6500263a-6751-48e3-b7d3-10899d351dea
STATUS:CONFIRMED
LAST-MODIFIED:20240906T095805Z
DESCRIPTION:4. Liga Herren Gruppe 5\nBegegnungs-Nr: 0\nHeim: Buchs Zürich III\nGast: Pinguin Zürich III\n\nAdresse: Schulstrasse 73\, 8105 Regensdorf\n
LOCATION:Schulstrasse 73\, 8105 Regensdorf
CATEGORIES:Saison 2024/25
END:VEVENT
BEGIN:VEVENT
DTSTAMP:20260425T004243Z
DTSTART;TZID=Europe/Berlin:20250310T201500
DTEND;TZID=Europe/Berlin:20250310T231500
SUMMARY:HE 4. Liga Gr. 5 Zürich-Affoltern VI vs Pinguin Zürich III (0)
UID:757a81bb-80f4-4ebd-b683-99c7bc95db4a
STATUS:CONFIRMED
LAST-MODIFIED:20250311T154927Z
DESCRIPTION:4. Liga Herren Gruppe 5\nBegegnungs-Nr: 0\nHeim: Zürich-Affoltern VI\nGast: Pinguin Zürich III\n
LOCATION:
CATEGORIES:Saison 2024/25
END:VEVENT
BEGIN:VEVENT
DTSTAMP:20260425T004243Z
DTSTART;TZID=Europe/Berlin:20250129T193000
DTEND;TZID=Europe/Berlin:20250129T223000
SUMMARY:HE 4. Liga Gr. 5 Kloten vs Pinguin Zürich III (0)
UID:d663ad30-6534-4cd9-9b7f-5288fc99ee9b
STATUS:CONFIRMED
LAST-MODIFIED:20250131T143709Z
DESCRIPTION:4. Liga Herren Gruppe 5\nBegegnungs-Nr: 0\nHeim: Kloten\nGast: Pinguin Zürich III\n\nAdresse: Schluefweg 10\, 8302 Kloten\n
LOCATION:Schluefweg 10\, 8302 Kloten
CATEGORIES:Saison 2024/25
END:VEVENT
END:VCALENDAR
