BEGIN:VCALENDAR
PRODID:-//nuDatenautomaten//framework iCal4j //DE
VERSION:2.0
CALSCALE:GREGORIAN
BEGIN:VTIMEZONE
TZID:Europe/Berlin
LAST-MODIFIED:20260306T231828Z
TZURL:https://www.tzurl.org/zoneinfo/Europe/Berlin
X-LIC-LOCATION:Europe/Berlin
X-PROLEPTIC-TZNAME:LMT
BEGIN:STANDARD
TZNAME:CET
TZOFFSETFROM:+005328
TZOFFSETTO:+0100
DTSTART:18930401T000000
END:STANDARD
BEGIN:DAYLIGHT
TZNAME:CEST
TZOFFSETFROM:+0100
TZOFFSETTO:+0200
DTSTART:19160430T230000
RDATE:19400401T020000
RDATE:19430329T020000
RDATE:19460414T020000
RDATE:19470406T030000
RDATE:19480418T020000
RDATE:19490410T020000
RDATE:19800406T020000
END:DAYLIGHT
BEGIN:STANDARD
TZNAME:CET
TZOFFSETFROM:+0200
TZOFFSETTO:+0100
DTSTART:19161001T010000
RDATE:19421102T030000
RDATE:19431004T030000
RDATE:19441002T030000
RDATE:19451118T030000
RDATE:19461007T030000
END:STANDARD
BEGIN:DAYLIGHT
TZNAME:CEST
TZOFFSETFROM:+0100
TZOFFSETTO:+0200
DTSTART:19170416T020000
RRULE:FREQ=YEARLY;UNTIL=19180415T010000Z;BYMONTH=4;BYDAY=3MO
END:DAYLIGHT
BEGIN:STANDARD
TZNAME:CET
TZOFFSETFROM:+0200
TZOFFSETTO:+0100
DTSTART:19170917T030000
RRULE:FREQ=YEARLY;UNTIL=19180916T010000Z;BYMONTH=9;BYDAY=3MO
END:STANDARD
BEGIN:DAYLIGHT
TZNAME:CEST
TZOFFSETFROM:+0100
TZOFFSETTO:+0200
DTSTART:19440403T020000
RRULE:FREQ=YEARLY;UNTIL=19450402T010000Z;BYMONTH=4;BYDAY=1MO
END:DAYLIGHT
BEGIN:DAYLIGHT
TZNAME:CEMT
TZOFFSETFROM:+0200
TZOFFSETTO:+0300
DTSTART:19450524T020000
RDATE:19470511T030000
END:DAYLIGHT
BEGIN:DAYLIGHT
TZNAME:CEST
TZOFFSETFROM:+0300
TZOFFSETTO:+0200
DTSTART:19450924T030000
RDATE:19470629T030000
END:DAYLIGHT
BEGIN:STANDARD
TZNAME:CET
TZOFFSETFROM:+0100
TZOFFSETTO:+0100
DTSTART:19460101T000000
RDATE:19800101T000000
END:STANDARD
BEGIN:STANDARD
TZNAME:CET
TZOFFSETFROM:+0200
TZOFFSETTO:+0100
DTSTART:19471005T030000
RRULE:FREQ=YEARLY;UNTIL=19491002T010000Z;BYMONTH=10;BYDAY=1SU
END:STANDARD
BEGIN:STANDARD
TZNAME:CET
TZOFFSETFROM:+0200
TZOFFSETTO:+0100
DTSTART:19800928T030000
RRULE:FREQ=YEARLY;UNTIL=19950924T010000Z;BYMONTH=9;BYDAY=-1SU
END:STANDARD
BEGIN:DAYLIGHT
TZNAME:CEST
TZOFFSETFROM:+0100
TZOFFSETTO:+0200
DTSTART:19810329T020000
RRULE:FREQ=YEARLY;BYMONTH=3;BYDAY=-1SU
END:DAYLIGHT
BEGIN:STANDARD
TZNAME:CET
TZOFFSETFROM:+0200
TZOFFSETTO:+0100
DTSTART:19961027T030000
RRULE:FREQ=YEARLY;BYMONTH=10;BYDAY=-1SU
END:STANDARD
END:VTIMEZONE
BEGIN:VEVENT
DTSTAMP:20260425T004945Z
DTSTART;TZID=Europe/Berlin:20240831T150000
DTEND;TZID=Europe/Berlin:20240831T180000
SUMMARY:JUG\, 3.Liga\, Gr.6\, Vorrunde Weinfelden vs Bronschhofen (5)
UID:112df9b6-0d57-4d30-8bd6-ca50ad795335
STATUS:CONFIRMED
LAST-MODIFIED:20240904T133422Z
DESCRIPTION:Jugend\, 3. Liga\,Gruppe 6\, Vorrunde\nBegegnungs-Nr: 5\nHeim: Weinfelden\nGast: Bronschhofen\n\nAdresse: Bleichestrasse 3 (neben Hallenbad)\, 8570 Weinfelden\n
LOCATION:Bleichestrasse 3 (neben Hallenbad)\, 8570 Weinfelden
CATEGORIES:Saison 2024/25
END:VEVENT
BEGIN:VEVENT
DTSTAMP:20260425T004945Z
DTSTART;TZID=Europe/Berlin:20240831T120000
DTEND;TZID=Europe/Berlin:20240831T150000
SUMMARY:JUG\, 3.Liga\, Gr.6\, Vorrunde Weinfelden vs Wil SG (2)
UID:ff18a899-9d97-4164-a3d3-c9cf34c7f3d3
STATUS:CONFIRMED
LAST-MODIFIED:20240904T133330Z
DESCRIPTION:Jugend\, 3. Liga\,Gruppe 6\, Vorrunde\nBegegnungs-Nr: 2\nHeim: Weinfelden\nGast: Wil SG\n\nAdresse: Bleichestrasse 3 (neben Hallenbad)\, 8570 Weinfelden\n
LOCATION:Bleichestrasse 3 (neben Hallenbad)\, 8570 Weinfelden
CATEGORIES:Saison 2024/25
END:VEVENT
BEGIN:VEVENT
DTSTAMP:20260425T004945Z
DTSTART;TZID=Europe/Berlin:20241116T143000
DTEND;TZID=Europe/Berlin:20241116T173000
SUMMARY:JUG\, 3.Liga\, Gr.4\, Zw-Runde Weinfelden vs Rapperswil-Jona III (3)
UID:82d8a7e2-19e4-4cfc-9c15-6ef323edc1fe
STATUS:CONFIRMED
LAST-MODIFIED:20241122T153145Z
DESCRIPTION:Jugend\, 3. Liga\, Gruppe 4\, Zw-Runde\nBegegnungs-Nr: 3\nHeim: Weinfelden\nGast: Rapperswil-Jona III\n
LOCATION:
CATEGORIES:Saison 2024/25
END:VEVENT
BEGIN:VEVENT
DTSTAMP:20260425T004945Z
DTSTART;TZID=Europe/Berlin:20250329T143000
DTEND;TZID=Europe/Berlin:20250329T173000
SUMMARY:JUG\, 3.Liga\, Gr.1\, Final Weinfelden vs Urdorf (3)
UID:305c509f-89d9-4b08-982a-143b596cd696
STATUS:CONFIRMED
LAST-MODIFIED:20250404T085037Z
DESCRIPTION:Jugend\, 3. Liga\, Gruppe 1\, Final\nBegegnungs-Nr: 3\nHeim: Weinfelden\nGast: Urdorf\n\nAdresse: Bleichestrasse 3 (neben Hallenbad)\, 8570 Weinfelden\n
LOCATION:Bleichestrasse 3 (neben Hallenbad)\, 8570 Weinfelden
CATEGORIES:Saison 2024/25
END:VEVENT
BEGIN:VEVENT
DTSTAMP:20260425T004945Z
DTSTART;TZID=Europe/Berlin:20240831T133000
DTEND;TZID=Europe/Berlin:20240831T163000
SUMMARY:JUG\, 3.Liga\, Gr.6\, Vorrunde Ettenhausen vs Weinfelden (4)
UID:17ad7b84-223f-4404-887b-dc3bd58ece63
STATUS:CONFIRMED
LAST-MODIFIED:20240904T133410Z
DESCRIPTION:Jugend\, 3. Liga\,Gruppe 6\, Vorrunde\nBegegnungs-Nr: 4\nHeim: Ettenhausen\nGast: Weinfelden\n\nAdresse: Weidlistrasse 12\, 8356 Ettenhausen\n
LOCATION:Weidlistrasse 12\, 8356 Ettenhausen
CATEGORIES:Saison 2024/25
END:VEVENT
BEGIN:VEVENT
DTSTAMP:20260425T004945Z
DTSTART;TZID=Europe/Berlin:20241116T130000
DTEND;TZID=Europe/Berlin:20241116T160000
SUMMARY:JUG\, 3.Liga\, Gr.4\, Zw-Runde Horn vs Weinfelden (1)
UID:eed972d9-c135-4ba2-b98b-0abb48718f23
STATUS:CONFIRMED
LAST-MODIFIED:20241122T153126Z
DESCRIPTION:Jugend\, 3. Liga\, Gruppe 4\, Zw-Runde\nBegegnungs-Nr: 1\nHeim: Horn\nGast: Weinfelden\n
LOCATION:
CATEGORIES:Saison 2024/25
END:VEVENT
BEGIN:VEVENT
DTSTAMP:20260425T004945Z
DTSTART;TZID=Europe/Berlin:20241116T160000
DTEND;TZID=Europe/Berlin:20241116T190000
SUMMARY:JUG\, 3.Liga\, Gr.4\, Zw-Runde Wädenswil III vs Weinfelden (5)
UID:7fda00ea-3f00-41c7-8e4f-d7817ef1d3ae
STATUS:CONFIRMED
LAST-MODIFIED:20241122T153202Z
DESCRIPTION:Jugend\, 3. Liga\, Gruppe 4\, Zw-Runde\nBegegnungs-Nr: 5\nHeim: Wädenswil III\nGast: Weinfelden\n
LOCATION:
CATEGORIES:Saison 2024/25
END:VEVENT
BEGIN:VEVENT
DTSTAMP:20260425T004945Z
DTSTART;TZID=Europe/Berlin:20250329T130000
DTEND;TZID=Europe/Berlin:20250329T160000
SUMMARY:JUG\, 3.Liga\, Gr.1\, Final Wil SG vs Weinfelden (1)
UID:ef365236-dc9f-4443-bc8c-94ed34b48b38
STATUS:CONFIRMED
LAST-MODIFIED:20250404T085019Z
DESCRIPTION:Jugend\, 3. Liga\, Gruppe 1\, Final\nBegegnungs-Nr: 1\nHeim: Wil SG\nGast: Weinfelden\nHalle: Poule in Wil SG\, TH Lindenhof\nAdresse: Lindenhofstr. 23\, 9500 Wil\n
LOCATION:Poule in Wil SG\, TH Lindenhof Lindenhofstr. 23\, 9500 Wil
CATEGORIES:Saison 2024/25
END:VEVENT
BEGIN:VEVENT
DTSTAMP:20260425T004945Z
DTSTART;TZID=Europe/Berlin:20250329T160000
DTEND;TZID=Europe/Berlin:20250329T190000
SUMMARY:JUG\, 3.Liga\, Gr.1\, Final Affoltern A/A III vs Weinfelden (5)
UID:cc352609-5ba0-4359-ad56-3f9a5b6f8dd2
STATUS:CONFIRMED
LAST-MODIFIED:20250404T085057Z
DESCRIPTION:Jugend\, 3. Liga\, Gruppe 1\, Final\nBegegnungs-Nr: 5\nHeim: Affoltern A/A III\nGast: Weinfelden\n\nAdresse: Butzenstrasse 8\, 8910 Affoltern am Albis\n
LOCATION:Butzenstrasse 8\, 8910 Affoltern am Albis
CATEGORIES:Saison 2024/25
END:VEVENT
END:VCALENDAR
