BEGIN:VCALENDAR
PRODID:-//nuDatenautomaten//framework iCal4j //DE
VERSION:2.0
CALSCALE:GREGORIAN
BEGIN:VTIMEZONE
TZID:Europe/Berlin
LAST-MODIFIED:20260306T231828Z
TZURL:https://www.tzurl.org/zoneinfo/Europe/Berlin
X-LIC-LOCATION:Europe/Berlin
X-PROLEPTIC-TZNAME:LMT
BEGIN:STANDARD
TZNAME:CET
TZOFFSETFROM:+005328
TZOFFSETTO:+0100
DTSTART:18930401T000000
END:STANDARD
BEGIN:DAYLIGHT
TZNAME:CEST
TZOFFSETFROM:+0100
TZOFFSETTO:+0200
DTSTART:19160430T230000
RDATE:19400401T020000
RDATE:19430329T020000
RDATE:19460414T020000
RDATE:19470406T030000
RDATE:19480418T020000
RDATE:19490410T020000
RDATE:19800406T020000
END:DAYLIGHT
BEGIN:STANDARD
TZNAME:CET
TZOFFSETFROM:+0200
TZOFFSETTO:+0100
DTSTART:19161001T010000
RDATE:19421102T030000
RDATE:19431004T030000
RDATE:19441002T030000
RDATE:19451118T030000
RDATE:19461007T030000
END:STANDARD
BEGIN:DAYLIGHT
TZNAME:CEST
TZOFFSETFROM:+0100
TZOFFSETTO:+0200
DTSTART:19170416T020000
RRULE:FREQ=YEARLY;UNTIL=19180415T010000Z;BYMONTH=4;BYDAY=3MO
END:DAYLIGHT
BEGIN:STANDARD
TZNAME:CET
TZOFFSETFROM:+0200
TZOFFSETTO:+0100
DTSTART:19170917T030000
RRULE:FREQ=YEARLY;UNTIL=19180916T010000Z;BYMONTH=9;BYDAY=3MO
END:STANDARD
BEGIN:DAYLIGHT
TZNAME:CEST
TZOFFSETFROM:+0100
TZOFFSETTO:+0200
DTSTART:19440403T020000
RRULE:FREQ=YEARLY;UNTIL=19450402T010000Z;BYMONTH=4;BYDAY=1MO
END:DAYLIGHT
BEGIN:DAYLIGHT
TZNAME:CEMT
TZOFFSETFROM:+0200
TZOFFSETTO:+0300
DTSTART:19450524T020000
RDATE:19470511T030000
END:DAYLIGHT
BEGIN:DAYLIGHT
TZNAME:CEST
TZOFFSETFROM:+0300
TZOFFSETTO:+0200
DTSTART:19450924T030000
RDATE:19470629T030000
END:DAYLIGHT
BEGIN:STANDARD
TZNAME:CET
TZOFFSETFROM:+0100
TZOFFSETTO:+0100
DTSTART:19460101T000000
RDATE:19800101T000000
END:STANDARD
BEGIN:STANDARD
TZNAME:CET
TZOFFSETFROM:+0200
TZOFFSETTO:+0100
DTSTART:19471005T030000
RRULE:FREQ=YEARLY;UNTIL=19491002T010000Z;BYMONTH=10;BYDAY=1SU
END:STANDARD
BEGIN:STANDARD
TZNAME:CET
TZOFFSETFROM:+0200
TZOFFSETTO:+0100
DTSTART:19800928T030000
RRULE:FREQ=YEARLY;UNTIL=19950924T010000Z;BYMONTH=9;BYDAY=-1SU
END:STANDARD
BEGIN:DAYLIGHT
TZNAME:CEST
TZOFFSETFROM:+0100
TZOFFSETTO:+0200
DTSTART:19810329T020000
RRULE:FREQ=YEARLY;BYMONTH=3;BYDAY=-1SU
END:DAYLIGHT
BEGIN:STANDARD
TZNAME:CET
TZOFFSETFROM:+0200
TZOFFSETTO:+0100
DTSTART:19961027T030000
RRULE:FREQ=YEARLY;BYMONTH=10;BYDAY=-1SU
END:STANDARD
END:VTIMEZONE
BEGIN:VEVENT
DTSTAMP:20260425T021420Z
DTSTART;TZID=Europe/Berlin:20241029T201500
DTEND;TZID=Europe/Berlin:20241029T231500
SUMMARY:HE 3. Liga Gr. 3 Dübendorf-Volketswil vs Young Stars ZH VI (0)
UID:e06b3d55-1100-46f3-8422-13ace4ed51e1
STATUS:CONFIRMED
LAST-MODIFIED:20241107T154043Z
DESCRIPTION:3. Liga Herren Gruppe 3\nBegegnungs-Nr: 0\nHeim: Dübendorf-Volketswil\nGast: Young Stars ZH VI\n\nAdresse: Dübendorfstrasse 46\, 8602 Wangen ZH\n
LOCATION:Dübendorfstrasse 46\, 8602 Wangen ZH
CATEGORIES:Saison 2024/25
END:VEVENT
BEGIN:VEVENT
DTSTAMP:20260425T021420Z
DTSTART;TZID=Europe/Berlin:20240924T201500
DTEND;TZID=Europe/Berlin:20240924T231500
SUMMARY:HE 3. Liga Gr. 3 Dübendorf-Volketswil vs Wetzikon VI (0)
UID:5bd74c2f-5f37-4d87-82ba-f371d1236728
STATUS:CONFIRMED
LAST-MODIFIED:20240926T113603Z
DESCRIPTION:3. Liga Herren Gruppe 3\nBegegnungs-Nr: 0\nHeim: Dübendorf-Volketswil\nGast: Wetzikon VI\n\nAdresse: Dübendorfstrasse 46\, 8602 Wangen ZH\n
LOCATION:Dübendorfstrasse 46\, 8602 Wangen ZH
CATEGORIES:Saison 2024/25
END:VEVENT
BEGIN:VEVENT
DTSTAMP:20260425T021420Z
DTSTART;TZID=Europe/Berlin:20240903T201500
DTEND;TZID=Europe/Berlin:20240903T231500
SUMMARY:HE 3. Liga Gr. 3 Dübendorf-Volketswil vs Winterthur II (0)
UID:4f04e878-1fa2-4c87-8ed7-1ab0dda52fe6
STATUS:CONFIRMED
LAST-MODIFIED:20240904T094055Z
DESCRIPTION:3. Liga Herren Gruppe 3\nBegegnungs-Nr: 0\nHeim: Dübendorf-Volketswil\nGast: Winterthur II\n\nAdresse: Dübendorfstrasse 46\, 8602 Wangen ZH\n
LOCATION:Dübendorfstrasse 46\, 8602 Wangen ZH
CATEGORIES:Saison 2024/25
END:VEVENT
BEGIN:VEVENT
DTSTAMP:20260425T021420Z
DTSTART;TZID=Europe/Berlin:20250325T201500
DTEND;TZID=Europe/Berlin:20250325T231500
SUMMARY:HE 3. Liga Gr. 3 Dübendorf-Volketswil vs Wallenwil (0)
UID:a0e7ace6-763f-4b44-8120-6504ff1d55e6
STATUS:CONFIRMED
LAST-MODIFIED:20250327T080932Z
DESCRIPTION:3. Liga Herren Gruppe 3\nBegegnungs-Nr: 0\nHeim: Dübendorf-Volketswil\nGast: Wallenwil\n\nAdresse: Dübendorfstrasse 46\, 8602 Wangen ZH\n
LOCATION:Dübendorfstrasse 46\, 8602 Wangen ZH
CATEGORIES:Saison 2024/25
END:VEVENT
BEGIN:VEVENT
DTSTAMP:20260425T021420Z
DTSTART;TZID=Europe/Berlin:20250324T200000
DTEND;TZID=Europe/Berlin:20250324T230000
SUMMARY:HE 3. Liga Gr. 3 Dübendorf-Volketswil vs Embrachertal (0)
UID:f87af666-69c9-446c-8de1-9dd3d1e3830f
STATUS:CONFIRMED
LAST-MODIFIED:20250327T080921Z
DESCRIPTION:3. Liga Herren Gruppe 3\nBegegnungs-Nr: 0\nHeim: Dübendorf-Volketswil\nGast: Embrachertal\n\nAdresse: Usterstrasse 35\, 8604 Volketswil\n
LOCATION:Usterstrasse 35\, 8604 Volketswil
CATEGORIES:Saison 2024/25
END:VEVENT
BEGIN:VEVENT
DTSTAMP:20260425T021420Z
DTSTART;TZID=Europe/Berlin:20250128T201500
DTEND;TZID=Europe/Berlin:20250128T231500
SUMMARY:HE 3. Liga Gr. 3 Dübendorf-Volketswil vs Uster II (0)
UID:8dd09cd8-ce5a-448b-ae58-dae836835466
STATUS:CONFIRMED
LAST-MODIFIED:20250129T111544Z
DESCRIPTION:3. Liga Herren Gruppe 3\nBegegnungs-Nr: 0\nHeim: Dübendorf-Volketswil\nGast: Uster II\n\nAdresse: Dübendorfstrasse 46\, 8602 Wangen ZH\n
LOCATION:Dübendorfstrasse 46\, 8602 Wangen ZH
CATEGORIES:Saison 2024/25
END:VEVENT
BEGIN:VEVENT
DTSTAMP:20260425T021420Z
DTSTART;TZID=Europe/Berlin:20250107T201500
DTEND;TZID=Europe/Berlin:20250107T231500
SUMMARY:HE 3. Liga Gr. 3 Dübendorf-Volketswil vs Rapperswil-Jona V (0)
UID:7523b980-6d35-47ec-b2ca-df159b772cce
STATUS:CONFIRMED
LAST-MODIFIED:20250110T150657Z
DESCRIPTION:3. Liga Herren Gruppe 3\nBegegnungs-Nr: 0\nHeim: Dübendorf-Volketswil\nGast: Rapperswil-Jona V\n\nAdresse: Dübendorfstrasse 46\, 8602 Wangen ZH\n
LOCATION:Dübendorfstrasse 46\, 8602 Wangen ZH
CATEGORIES:Saison 2024/25
END:VEVENT
BEGIN:VEVENT
DTSTAMP:20260425T021420Z
DTSTART;TZID=Europe/Berlin:20241205T201500
DTEND;TZID=Europe/Berlin:20241205T231500
SUMMARY:HE 3. Liga Gr. 3 Wallenwil vs Dübendorf-Volketswil (0)
UID:aac8ecae-e6ad-41ea-bb09-82e05e203883
STATUS:CONFIRMED
LAST-MODIFIED:20241211T090313Z
DESCRIPTION:3. Liga Herren Gruppe 3\nBegegnungs-Nr: 0\nHeim: Wallenwil\nGast: Dübendorf-Volketswil\n\nAdresse: Stationsstrasse 29\, 8360 Wallenwil\n
LOCATION:Stationsstrasse 29\, 8360 Wallenwil
CATEGORIES:Saison 2024/25
END:VEVENT
BEGIN:VEVENT
DTSTAMP:20260425T021420Z
DTSTART;TZID=Europe/Berlin:20241107T200000
DTEND;TZID=Europe/Berlin:20241107T230000
SUMMARY:HE 3. Liga Gr. 3 Embrachertal vs Dübendorf-Volketswil (0)
UID:2312b58c-f195-4940-8ca7-408e4e3592de
STATUS:CONFIRMED
LAST-MODIFIED:20241108T133744Z
DESCRIPTION:3. Liga Herren Gruppe 3\nBegegnungs-Nr: 0\nHeim: Embrachertal\nGast: Dübendorf-Volketswil\n\nAdresse: Schützenhausstrasse 20\, 8424 Embrach\n
LOCATION:Schützenhausstrasse 20\, 8424 Embrach
CATEGORIES:Saison 2024/25
END:VEVENT
BEGIN:VEVENT
DTSTAMP:20260425T021420Z
DTSTART;TZID=Europe/Berlin:20240917T201500
DTEND;TZID=Europe/Berlin:20240917T231500
SUMMARY:HE 3. Liga Gr. 3 Uster II vs Dübendorf-Volketswil (0)
UID:b8a208d4-9009-4c4a-bbcc-a19ed22d7b10
STATUS:CONFIRMED
LAST-MODIFIED:20240919T151034Z
DESCRIPTION:3. Liga Herren Gruppe 3\nBegegnungs-Nr: 0\nHeim: Uster II\nGast: Dübendorf-Volketswil\n\nAdresse: Wilstrasse 30 / Zürcherstrasse\, 8610 Uster\n
LOCATION:Wilstrasse 30 / Zürcherstrasse\, 8610 Uster
CATEGORIES:Saison 2024/25
END:VEVENT
BEGIN:VEVENT
DTSTAMP:20260425T021420Z
DTSTART;TZID=Europe/Berlin:20240907T153000
DTEND;TZID=Europe/Berlin:20240907T183000
SUMMARY:HE 3. Liga Gr. 3 Rapperswil-Jona V vs Dübendorf-Volketswil (0)
UID:74945a9b-e6cf-49b0-ab29-a0c66f04c1e4
STATUS:CONFIRMED
LAST-MODIFIED:20240912T074449Z
DESCRIPTION:3. Liga Herren Gruppe 3\nBegegnungs-Nr: 0\nHeim: Rapperswil-Jona V\nGast: Dübendorf-Volketswil\n\nAdresse: Kreuzstrasse 43\, 8640 Rapperswil\n
LOCATION:Kreuzstrasse 43\, 8640 Rapperswil
CATEGORIES:Saison 2024/25
END:VEVENT
BEGIN:VEVENT
DTSTAMP:20260425T021420Z
DTSTART;TZID=Europe/Berlin:20250305T201500
DTEND;TZID=Europe/Berlin:20250305T231500
SUMMARY:HE 3. Liga Gr. 3 Young Stars ZH VI vs Dübendorf-Volketswil (0)
UID:53c9cb39-47c8-499d-b972-3170c07ea871
STATUS:CONFIRMED
LAST-MODIFIED:20250306T092609Z
DESCRIPTION:3. Liga Herren Gruppe 3\nBegegnungs-Nr: 0\nHeim: Young Stars ZH VI\nGast: Dübendorf-Volketswil\n\nAdresse: Seefeldstrasse 93\, 8008 Zürich\n
LOCATION:Seefeldstrasse 93\, 8008 Zürich
CATEGORIES:Saison 2024/25
END:VEVENT
BEGIN:VEVENT
DTSTAMP:20260425T021420Z
DTSTART;TZID=Europe/Berlin:20250321T194500
DTEND;TZID=Europe/Berlin:20250321T224500
SUMMARY:HE 3. Liga Gr. 3 Wetzikon VI vs Dübendorf-Volketswil (0)
UID:9ea29a35-9f0b-48c9-9558-0183a3e59ba8
STATUS:CONFIRMED
LAST-MODIFIED:20250327T080910Z
DESCRIPTION:3. Liga Herren Gruppe 3\nBegegnungs-Nr: 0\nHeim: Wetzikon VI\nGast: Dübendorf-Volketswil\n\nAdresse: Usterstrasse 37\, 8620 Wetzikon\n
LOCATION:Usterstrasse 37\, 8620 Wetzikon
CATEGORIES:Saison 2024/25
END:VEVENT
BEGIN:VEVENT
DTSTAMP:20260425T021420Z
DTSTART;TZID=Europe/Berlin:20250131T200000
DTEND;TZID=Europe/Berlin:20250131T230000
SUMMARY:HE 3. Liga Gr. 3 Winterthur II vs Dübendorf-Volketswil (0)
UID:063659e9-69bf-49b9-ab5f-6b7d4f50f33d
STATUS:CONFIRMED
LAST-MODIFIED:20250203T104529Z
DESCRIPTION:3. Liga Herren Gruppe 3\nBegegnungs-Nr: 0\nHeim: Winterthur II\nGast: Dübendorf-Volketswil\n\nAdresse: Buchackerstrasse 54\, 8400 Winterthur\n
LOCATION:Buchackerstrasse 54\, 8400 Winterthur
CATEGORIES:Saison 2024/25
END:VEVENT
END:VCALENDAR
