BEGIN:VCALENDAR
PRODID:-//nuDatenautomaten//framework iCal4j //DE
VERSION:2.0
CALSCALE:GREGORIAN
BEGIN:VTIMEZONE
TZID:Europe/Berlin
LAST-MODIFIED:20260306T231828Z
TZURL:https://www.tzurl.org/zoneinfo/Europe/Berlin
X-LIC-LOCATION:Europe/Berlin
X-PROLEPTIC-TZNAME:LMT
BEGIN:STANDARD
TZNAME:CET
TZOFFSETFROM:+005328
TZOFFSETTO:+0100
DTSTART:18930401T000000
END:STANDARD
BEGIN:DAYLIGHT
TZNAME:CEST
TZOFFSETFROM:+0100
TZOFFSETTO:+0200
DTSTART:19160430T230000
RDATE:19400401T020000
RDATE:19430329T020000
RDATE:19460414T020000
RDATE:19470406T030000
RDATE:19480418T020000
RDATE:19490410T020000
RDATE:19800406T020000
END:DAYLIGHT
BEGIN:STANDARD
TZNAME:CET
TZOFFSETFROM:+0200
TZOFFSETTO:+0100
DTSTART:19161001T010000
RDATE:19421102T030000
RDATE:19431004T030000
RDATE:19441002T030000
RDATE:19451118T030000
RDATE:19461007T030000
END:STANDARD
BEGIN:DAYLIGHT
TZNAME:CEST
TZOFFSETFROM:+0100
TZOFFSETTO:+0200
DTSTART:19170416T020000
RRULE:FREQ=YEARLY;UNTIL=19180415T010000Z;BYMONTH=4;BYDAY=3MO
END:DAYLIGHT
BEGIN:STANDARD
TZNAME:CET
TZOFFSETFROM:+0200
TZOFFSETTO:+0100
DTSTART:19170917T030000
RRULE:FREQ=YEARLY;UNTIL=19180916T010000Z;BYMONTH=9;BYDAY=3MO
END:STANDARD
BEGIN:DAYLIGHT
TZNAME:CEST
TZOFFSETFROM:+0100
TZOFFSETTO:+0200
DTSTART:19440403T020000
RRULE:FREQ=YEARLY;UNTIL=19450402T010000Z;BYMONTH=4;BYDAY=1MO
END:DAYLIGHT
BEGIN:DAYLIGHT
TZNAME:CEMT
TZOFFSETFROM:+0200
TZOFFSETTO:+0300
DTSTART:19450524T020000
RDATE:19470511T030000
END:DAYLIGHT
BEGIN:DAYLIGHT
TZNAME:CEST
TZOFFSETFROM:+0300
TZOFFSETTO:+0200
DTSTART:19450924T030000
RDATE:19470629T030000
END:DAYLIGHT
BEGIN:STANDARD
TZNAME:CET
TZOFFSETFROM:+0100
TZOFFSETTO:+0100
DTSTART:19460101T000000
RDATE:19800101T000000
END:STANDARD
BEGIN:STANDARD
TZNAME:CET
TZOFFSETFROM:+0200
TZOFFSETTO:+0100
DTSTART:19471005T030000
RRULE:FREQ=YEARLY;UNTIL=19491002T010000Z;BYMONTH=10;BYDAY=1SU
END:STANDARD
BEGIN:STANDARD
TZNAME:CET
TZOFFSETFROM:+0200
TZOFFSETTO:+0100
DTSTART:19800928T030000
RRULE:FREQ=YEARLY;UNTIL=19950924T010000Z;BYMONTH=9;BYDAY=-1SU
END:STANDARD
BEGIN:DAYLIGHT
TZNAME:CEST
TZOFFSETFROM:+0100
TZOFFSETTO:+0200
DTSTART:19810329T020000
RRULE:FREQ=YEARLY;BYMONTH=3;BYDAY=-1SU
END:DAYLIGHT
BEGIN:STANDARD
TZNAME:CET
TZOFFSETFROM:+0200
TZOFFSETTO:+0100
DTSTART:19961027T030000
RRULE:FREQ=YEARLY;BYMONTH=10;BYDAY=-1SU
END:STANDARD
END:VTIMEZONE
BEGIN:VEVENT
DTSTAMP:20260424T220525Z
DTSTART;TZID=Europe/Berlin:20241212T193000
DTEND;TZID=Europe/Berlin:20241212T223000
SUMMARY:ME L4 Gr 1\, Tours 1&2 Sion III vs Sion II (0)
UID:b42236b4-607a-4faa-937b-b8fb722e3a3e
STATUS:CONFIRMED
LAST-MODIFIED:20241215T005843Z
DESCRIPTION:4ème ligue Hommes Groupe 1\, Tours 1&2\nBegegnungs-Nr: 0\nHeim: Sion III\nGast: Sion II\n\nAdresse: Rue du Chanoine-Berchtold 17\, 1950 Sion\n
LOCATION:Rue du Chanoine-Berchtold 17\, 1950 Sion
CATEGORIES:Saison 2024/25
END:VEVENT
BEGIN:VEVENT
DTSTAMP:20260424T220525Z
DTSTART;TZID=Europe/Berlin:20241128T193000
DTEND;TZID=Europe/Berlin:20241128T223000
SUMMARY:ME L4 Gr 1\, Tours 1&2 Sion III vs Martigny III (0)
UID:b938c680-7885-447b-a61a-eef7acecfb29
STATUS:CONFIRMED
LAST-MODIFIED:20241129T154249Z
DESCRIPTION:4ème ligue Hommes Groupe 1\, Tours 1&2\nBegegnungs-Nr: 0\nHeim: Sion III\nGast: Martigny III\n\nAdresse: Rue du Chanoine-Berchtold 17\, 1950 Sion\n
LOCATION:Rue du Chanoine-Berchtold 17\, 1950 Sion
CATEGORIES:Saison 2024/25
END:VEVENT
BEGIN:VEVENT
DTSTAMP:20260424T220525Z
DTSTART;TZID=Europe/Berlin:20241031T193000
DTEND;TZID=Europe/Berlin:20241031T223000
SUMMARY:ME L4 Gr 1\, Tours 1&2 Sion III vs Martigny IV (0)
UID:50115742-b571-44b8-9976-8266514834a2
STATUS:CONFIRMED
LAST-MODIFIED:20241102T091249Z
DESCRIPTION:4ème ligue Hommes Groupe 1\, Tours 1&2\nBegegnungs-Nr: 0\nHeim: Sion III\nGast: Martigny IV\n\nAdresse: Rue du Chanoine-Berchtold 17\, 1950 Sion\n
LOCATION:Rue du Chanoine-Berchtold 17\, 1950 Sion
CATEGORIES:Saison 2024/25
END:VEVENT
BEGIN:VEVENT
DTSTAMP:20260424T220525Z
DTSTART;TZID=Europe/Berlin:20240924T193000
DTEND;TZID=Europe/Berlin:20240924T223000
SUMMARY:ME L4 Gr 1\, Tours 1&2 Sion III vs Zermatt (0)
UID:f1ee5ef7-2eb7-4798-af8e-49d5576eaf9b
STATUS:CONFIRMED
LAST-MODIFIED:20240926T101942Z
DESCRIPTION:4ème ligue Hommes Groupe 1\, Tours 1&2\nBegegnungs-Nr: 0\nHeim: Sion III\nGast: Zermatt\n\nAdresse: Rue du Chanoine-Berchtold 17\, 1950 Sion\n
LOCATION:Rue du Chanoine-Berchtold 17\, 1950 Sion
CATEGORIES:Saison 2024/25
END:VEVENT
BEGIN:VEVENT
DTSTAMP:20260424T220525Z
DTSTART;TZID=Europe/Berlin:20240912T193000
DTEND;TZID=Europe/Berlin:20240912T223000
SUMMARY:ME L4 Gr 1\, Tours 1&2 Sion III vs Sierre IV (0)
UID:dd134925-e9d2-4a47-b12c-d4485e7848c4
STATUS:CONFIRMED
LAST-MODIFIED:20240913T172408Z
DESCRIPTION:4ème ligue Hommes Groupe 1\, Tours 1&2\nBegegnungs-Nr: 0\nHeim: Sion III\nGast: Sierre IV\n\nAdresse: Rue du Chanoine-Berchtold 17\, 1950 Sion\n
LOCATION:Rue du Chanoine-Berchtold 17\, 1950 Sion
CATEGORIES:Saison 2024/25
END:VEVENT
BEGIN:VEVENT
DTSTAMP:20260424T220525Z
DTSTART;TZID=Europe/Berlin:20250501T193000
DTEND;TZID=Europe/Berlin:20250501T223000
SUMMARY:ME L5 Gr 1\, Tours 3&4 Sion III vs Stalden II (0)
UID:8be07cc3-0795-4a7f-94ec-0bd9efd1087e
STATUS:CONFIRMED
LAST-MODIFIED:20250503T000608Z
DESCRIPTION:5ème ligue Hommes Groupe 1\, Tours 3&4\nBegegnungs-Nr: 0\nHeim: Sion III\nGast: Stalden II\n\nAdresse: Rue du Chanoine-Berchtold 17\, 1950 Sion\n
LOCATION:Rue du Chanoine-Berchtold 17\, 1950 Sion
CATEGORIES:Saison 2024/25
END:VEVENT
BEGIN:VEVENT
DTSTAMP:20260424T220525Z
DTSTART;TZID=Europe/Berlin:20250417T193000
DTEND;TZID=Europe/Berlin:20250417T223000
SUMMARY:ME L5 Gr 1\, Tours 3&4 Sion III vs Gampel-Steg III (0)
UID:b32d833f-a28e-49ed-9bc6-43fff95ebd7a
STATUS:CONFIRMED
LAST-MODIFIED:20250426T105035Z
DESCRIPTION:5ème ligue Hommes Groupe 1\, Tours 3&4\nBegegnungs-Nr: 0\nHeim: Sion III\nGast: Gampel-Steg III\n\nAdresse: Rue du Chanoine-Berchtold 17\, 1950 Sion\n
LOCATION:Rue du Chanoine-Berchtold 17\, 1950 Sion
CATEGORIES:Saison 2024/25
END:VEVENT
BEGIN:VEVENT
DTSTAMP:20260424T220525Z
DTSTART;TZID=Europe/Berlin:20250320T193000
DTEND;TZID=Europe/Berlin:20250320T223000
SUMMARY:ME L5 Gr 1\, Tours 3&4 Sion III vs Martigny V (0)
UID:35116fc6-fc20-4534-a6ff-2848556f3023
STATUS:CONFIRMED
LAST-MODIFIED:20250321T115529Z
DESCRIPTION:5ème ligue Hommes Groupe 1\, Tours 3&4\nBegegnungs-Nr: 0\nHeim: Sion III\nGast: Martigny V\n\nAdresse: Rue du Chanoine-Berchtold 17\, 1950 Sion\n
LOCATION:Rue du Chanoine-Berchtold 17\, 1950 Sion
CATEGORIES:Saison 2024/25
END:VEVENT
BEGIN:VEVENT
DTSTAMP:20260424T220525Z
DTSTART;TZID=Europe/Berlin:20250220T193000
DTEND;TZID=Europe/Berlin:20250220T223000
SUMMARY:ME L5 Gr 1\, Tours 3&4 Sion III vs Grône II (0)
UID:fa585ce0-5124-440e-bc91-0b3387f28cda
STATUS:CONFIRMED
LAST-MODIFIED:20250222T180137Z
DESCRIPTION:5ème ligue Hommes Groupe 1\, Tours 3&4\nBegegnungs-Nr: 0\nHeim: Sion III\nGast: Grône II\n\nAdresse: Rue du Chanoine-Berchtold 17\, 1950 Sion\n
LOCATION:Rue du Chanoine-Berchtold 17\, 1950 Sion
CATEGORIES:Saison 2024/25
END:VEVENT
BEGIN:VEVENT
DTSTAMP:20260424T220525Z
DTSTART;TZID=Europe/Berlin:20250130T193000
DTEND;TZID=Europe/Berlin:20250130T223000
SUMMARY:ME L5 Gr 1\, Tours 3&4 Sion III vs Sierre V (0)
UID:e5a95cc8-799d-406f-a3d5-8125223f0c54
STATUS:CONFIRMED
LAST-MODIFIED:20250201T002924Z
DESCRIPTION:5ème ligue Hommes Groupe 1\, Tours 3&4\nBegegnungs-Nr: 0\nHeim: Sion III\nGast: Sierre V\n\nAdresse: Rue du Chanoine-Berchtold 17\, 1950 Sion\n
LOCATION:Rue du Chanoine-Berchtold 17\, 1950 Sion
CATEGORIES:Saison 2024/25
END:VEVENT
BEGIN:VEVENT
DTSTAMP:20260424T220525Z
DTSTART;TZID=Europe/Berlin:20241202T200000
DTEND;TZID=Europe/Berlin:20241202T230000
SUMMARY:ME L4 Gr 1\, Tours 1&2 Zermatt vs Sion III (0)
UID:b5591178-03d9-4e78-a749-a2b36aef338d
STATUS:CONFIRMED
LAST-MODIFIED:20241204T111933Z
DESCRIPTION:4ème ligue Hommes Groupe 1\, Tours 1&2\nBegegnungs-Nr: 0\nHeim: Zermatt\nGast: Sion III\n\nAdresse: Metzggasse\, 3920 Zermatt\n
LOCATION:Metzggasse\, 3920 Zermatt
CATEGORIES:Saison 2024/25
END:VEVENT
BEGIN:VEVENT
DTSTAMP:20260424T220525Z
DTSTART;TZID=Europe/Berlin:20241107T191500
DTEND;TZID=Europe/Berlin:20241107T221500
SUMMARY:ME L4 Gr 1\, Tours 1&2 Sierre IV vs Sion III (0)
UID:182e2e97-a293-45ce-8628-c202feef28ec
STATUS:CONFIRMED
LAST-MODIFIED:20241109T225056Z
DESCRIPTION:4ème ligue Hommes Groupe 1\, Tours 1&2\nBegegnungs-Nr: 0\nHeim: Sierre IV\nGast: Sion III\n\nAdresse: Rue de Guillamo 3\, 3960 Sierre\n
LOCATION:Rue de Guillamo 3\, 3960 Sierre
CATEGORIES:Saison 2024/25
END:VEVENT
BEGIN:VEVENT
DTSTAMP:20260424T220525Z
DTSTART;TZID=Europe/Berlin:20241009T193000
DTEND;TZID=Europe/Berlin:20241009T223000
SUMMARY:ME L4 Gr 1\, Tours 1&2 Sion II vs Sion III (0)
UID:6a7b17f7-b3f4-44a3-a3a8-924643f0901c
STATUS:CONFIRMED
LAST-MODIFIED:20241012T213809Z
DESCRIPTION:4ème ligue Hommes Groupe 1\, Tours 1&2\nBegegnungs-Nr: 0\nHeim: Sion II\nGast: Sion III\n\nAdresse: Rue du Chanoine-Berchtold 17\, 1950 Sion\n
LOCATION:Rue du Chanoine-Berchtold 17\, 1950 Sion
CATEGORIES:Saison 2024/25
END:VEVENT
BEGIN:VEVENT
DTSTAMP:20260424T220525Z
DTSTART;TZID=Europe/Berlin:20241015T200000
DTEND;TZID=Europe/Berlin:20241015T230000
SUMMARY:ME L4 Gr 1\, Tours 1&2 Martigny III vs Sion III (0)
UID:2ec13e9f-740e-4657-a654-51320dc1d9a1
STATUS:CONFIRMED
LAST-MODIFIED:20241016T185105Z
DESCRIPTION:4ème ligue Hommes Groupe 1\, Tours 1&2\nBegegnungs-Nr: 0\nHeim: Martigny III\nGast: Sion III\n\nAdresse: Rue des Ecoles 9\, 1920 Martigny\n
LOCATION:Rue des Ecoles 9\, 1920 Martigny
CATEGORIES:Saison 2024/25
END:VEVENT
BEGIN:VEVENT
DTSTAMP:20260424T220525Z
DTSTART;TZID=Europe/Berlin:20240917T200000
DTEND;TZID=Europe/Berlin:20240917T230000
SUMMARY:ME L4 Gr 1\, Tours 1&2 Martigny IV vs Sion III (0)
UID:a90afa76-97d7-47b4-bce3-d113def63a00
STATUS:CONFIRMED
LAST-MODIFIED:20241008T173325Z
DESCRIPTION:4ème ligue Hommes Groupe 1\, Tours 1&2\nBegegnungs-Nr: 0\nHeim: Martigny IV\nGast: Sion III\n\nAdresse: Rue des Ecoles 9\, 1920 Martigny\n
LOCATION:Rue des Ecoles 9\, 1920 Martigny
CATEGORIES:Saison 2024/25
END:VEVENT
BEGIN:VEVENT
DTSTAMP:20260424T220525Z
DTSTART;TZID=Europe/Berlin:20250502T200000
DTEND;TZID=Europe/Berlin:20250502T230000
SUMMARY:ME L5 Gr 1\, Tours 3&4 Grône II vs Sion III (0)
UID:e1480f28-462e-4cd1-a77e-83a3dba6bfad
STATUS:CONFIRMED
LAST-MODIFIED:20250503T193146Z
DESCRIPTION:5ème ligue Hommes Groupe 1\, Tours 3&4\nBegegnungs-Nr: 0\nHeim: Grône II\nGast: Sion III\n\nAdresse:  Rue Centrale\,  \, Rue de la Piscine\, \, 3979 Grône\n
LOCATION: Rue Centrale\,  \, Rue de la Piscine\, \, 3979 Grône
CATEGORIES:Saison 2024/25
END:VEVENT
BEGIN:VEVENT
DTSTAMP:20260424T220525Z
DTSTART;TZID=Europe/Berlin:20250326T194500
DTEND;TZID=Europe/Berlin:20250326T224500
SUMMARY:ME L5 Gr 1\, Tours 3&4 Sierre V vs Sion III (0)
UID:c3c63934-a21e-49bf-a2ee-f9c1ceef2245
STATUS:CONFIRMED
LAST-MODIFIED:20250327T083431Z
DESCRIPTION:5ème ligue Hommes Groupe 1\, Tours 3&4\nBegegnungs-Nr: 0\nHeim: Sierre V\nGast: Sion III\n\nAdresse: Rte des Liddes 6\, 3960 Sierre\n
LOCATION:Rte des Liddes 6\, 3960 Sierre
CATEGORIES:Saison 2024/25
END:VEVENT
BEGIN:VEVENT
DTSTAMP:20260424T220525Z
DTSTART;TZID=Europe/Berlin:20250221T193000
DTEND;TZID=Europe/Berlin:20250221T223000
SUMMARY:ME L5 Gr 1\, Tours 3&4 Stalden II vs Sion III (0)
UID:dea00067-adb8-4ffc-85d1-6710be4f624f
STATUS:CONFIRMED
LAST-MODIFIED:20250222T180107Z
DESCRIPTION:5ème ligue Hommes Groupe 1\, Tours 3&4\nBegegnungs-Nr: 0\nHeim: Stalden II\nGast: Sion III\n\nAdresse: -\, 3922 Stalden\n
LOCATION:-\, 3922 Stalden
CATEGORIES:Saison 2024/25
END:VEVENT
BEGIN:VEVENT
DTSTAMP:20260424T220525Z
DTSTART;TZID=Europe/Berlin:20250214T193000
DTEND;TZID=Europe/Berlin:20250214T223000
SUMMARY:ME L5 Gr 1\, Tours 3&4 Gampel-Steg III vs Sion III (0)
UID:4eef2bdb-9bb5-42bb-ad31-2fd979136430
STATUS:CONFIRMED
LAST-MODIFIED:20250215T151733Z
DESCRIPTION:5ème ligue Hommes Groupe 1\, Tours 3&4\nBegegnungs-Nr: 0\nHeim: Gampel-Steg III\nGast: Sion III\n\nAdresse: Bachofen\, 3949 Hohtenn\n
LOCATION:Bachofen\, 3949 Hohtenn
CATEGORIES:Saison 2024/25
END:VEVENT
BEGIN:VEVENT
DTSTAMP:20260424T220525Z
DTSTART;TZID=Europe/Berlin:20250117T193000
DTEND;TZID=Europe/Berlin:20250117T223000
SUMMARY:ME L5 Gr 1\, Tours 3&4 Martigny V vs Sion III (0)
UID:5f92e777-b7e4-486f-acd6-9a1b993b3be6
STATUS:CONFIRMED
LAST-MODIFIED:20250119T142814Z
DESCRIPTION:5ème ligue Hommes Groupe 1\, Tours 3&4\nBegegnungs-Nr: 0\nHeim: Martigny V\nGast: Sion III\n\nAdresse: Rue des Ecoles 9\, 1920 Martigny\n
LOCATION:Rue des Ecoles 9\, 1920 Martigny
CATEGORIES:Saison 2024/25
END:VEVENT
BEGIN:VEVENT
DTSTAMP:20260424T220525Z
DTSTART;TZID=Europe/Berlin:20250530T193000
DTEND;TZID=Europe/Berlin:20250530T223000
SUMMARY:ME L5 Finales Trams-Renens III vs Sion III (2)
UID:1c703450-f999-4cd8-a8f5-7ac3d045a341
STATUS:CONFIRMED
LAST-MODIFIED:20250526T101404Z
DESCRIPTION:5ème ligue Hommes Finales\nBegegnungs-Nr: 2\nHeim: Trams-Renens III\nGast: Sion III\n\nAdresse: Av Saugiaz\, 1020 Renens\n
LOCATION:Av Saugiaz\, 1020 Renens
CATEGORIES:Saison 2024/25
END:VEVENT
END:VCALENDAR
