BEGIN:VCALENDAR
PRODID:-//nuDatenautomaten//framework iCal4j //DE
VERSION:2.0
CALSCALE:GREGORIAN
BEGIN:VTIMEZONE
TZID:Europe/Berlin
LAST-MODIFIED:20260306T231828Z
TZURL:https://www.tzurl.org/zoneinfo/Europe/Berlin
X-LIC-LOCATION:Europe/Berlin
X-PROLEPTIC-TZNAME:LMT
BEGIN:STANDARD
TZNAME:CET
TZOFFSETFROM:+005328
TZOFFSETTO:+0100
DTSTART:18930401T000000
END:STANDARD
BEGIN:DAYLIGHT
TZNAME:CEST
TZOFFSETFROM:+0100
TZOFFSETTO:+0200
DTSTART:19160430T230000
RDATE:19400401T020000
RDATE:19430329T020000
RDATE:19460414T020000
RDATE:19470406T030000
RDATE:19480418T020000
RDATE:19490410T020000
RDATE:19800406T020000
END:DAYLIGHT
BEGIN:STANDARD
TZNAME:CET
TZOFFSETFROM:+0200
TZOFFSETTO:+0100
DTSTART:19161001T010000
RDATE:19421102T030000
RDATE:19431004T030000
RDATE:19441002T030000
RDATE:19451118T030000
RDATE:19461007T030000
END:STANDARD
BEGIN:DAYLIGHT
TZNAME:CEST
TZOFFSETFROM:+0100
TZOFFSETTO:+0200
DTSTART:19170416T020000
RRULE:FREQ=YEARLY;UNTIL=19180415T010000Z;BYMONTH=4;BYDAY=3MO
END:DAYLIGHT
BEGIN:STANDARD
TZNAME:CET
TZOFFSETFROM:+0200
TZOFFSETTO:+0100
DTSTART:19170917T030000
RRULE:FREQ=YEARLY;UNTIL=19180916T010000Z;BYMONTH=9;BYDAY=3MO
END:STANDARD
BEGIN:DAYLIGHT
TZNAME:CEST
TZOFFSETFROM:+0100
TZOFFSETTO:+0200
DTSTART:19440403T020000
RRULE:FREQ=YEARLY;UNTIL=19450402T010000Z;BYMONTH=4;BYDAY=1MO
END:DAYLIGHT
BEGIN:DAYLIGHT
TZNAME:CEMT
TZOFFSETFROM:+0200
TZOFFSETTO:+0300
DTSTART:19450524T020000
RDATE:19470511T030000
END:DAYLIGHT
BEGIN:DAYLIGHT
TZNAME:CEST
TZOFFSETFROM:+0300
TZOFFSETTO:+0200
DTSTART:19450924T030000
RDATE:19470629T030000
END:DAYLIGHT
BEGIN:STANDARD
TZNAME:CET
TZOFFSETFROM:+0100
TZOFFSETTO:+0100
DTSTART:19460101T000000
RDATE:19800101T000000
END:STANDARD
BEGIN:STANDARD
TZNAME:CET
TZOFFSETFROM:+0200
TZOFFSETTO:+0100
DTSTART:19471005T030000
RRULE:FREQ=YEARLY;UNTIL=19491002T010000Z;BYMONTH=10;BYDAY=1SU
END:STANDARD
BEGIN:STANDARD
TZNAME:CET
TZOFFSETFROM:+0200
TZOFFSETTO:+0100
DTSTART:19800928T030000
RRULE:FREQ=YEARLY;UNTIL=19950924T010000Z;BYMONTH=9;BYDAY=-1SU
END:STANDARD
BEGIN:DAYLIGHT
TZNAME:CEST
TZOFFSETFROM:+0100
TZOFFSETTO:+0200
DTSTART:19810329T020000
RRULE:FREQ=YEARLY;BYMONTH=3;BYDAY=-1SU
END:DAYLIGHT
BEGIN:STANDARD
TZNAME:CET
TZOFFSETFROM:+0200
TZOFFSETTO:+0100
DTSTART:19961027T030000
RRULE:FREQ=YEARLY;BYMONTH=10;BYDAY=-1SU
END:STANDARD
END:VTIMEZONE
BEGIN:VEVENT
DTSTAMP:20260425T022334Z
DTSTART;TZID=Europe/Berlin:20240926T202000
DTEND;TZID=Europe/Berlin:20240926T232000
SUMMARY:O40 4. Liga Gr. 3 Young Stars ZH vs Seebach-Kügeliloo (0)
UID:16f02a61-0485-4f12-8fd9-74dab04cc1c2
STATUS:CONFIRMED
LAST-MODIFIED:20240930T124946Z
DESCRIPTION:4. Liga O40 Gruppe 3\nBegegnungs-Nr: 0\nHeim: Young Stars ZH\nGast: Seebach-Kügeliloo\n\nAdresse: Balgriststrasse 55\, 8008 Zürich\n
LOCATION:Balgriststrasse 55\, 8008 Zürich
CATEGORIES:Saison 2024/25
END:VEVENT
BEGIN:VEVENT
DTSTAMP:20260425T022334Z
DTSTART;TZID=Europe/Berlin:20241115T200000
DTEND;TZID=Europe/Berlin:20241115T230000
SUMMARY:O40 4. Liga Gr. 3 Young Stars ZH vs Urdorf II (0)
UID:536c94fc-b786-4748-bf83-e55e3db3fea2
STATUS:CONFIRMED
LAST-MODIFIED:20241122T152024Z
DESCRIPTION:4. Liga O40 Gruppe 3\nBegegnungs-Nr: 0\nHeim: Young Stars ZH\nGast: Urdorf II\n\nAdresse: Balgriststrasse 55\, 8008 Zürich\n
LOCATION:Balgriststrasse 55\, 8008 Zürich
CATEGORIES:Saison 2024/25
END:VEVENT
BEGIN:VEVENT
DTSTAMP:20260425T022334Z
DTSTART;TZID=Europe/Berlin:20250228T200000
DTEND;TZID=Europe/Berlin:20250228T230000
SUMMARY:O40 4. Liga Gr. 3 Young Stars ZH vs Höngg II (0)
UID:81a8ea8b-9f49-41cd-856c-d40f6e49d194
STATUS:CONFIRMED
LAST-MODIFIED:20250306T143331Z
DESCRIPTION:4. Liga O40 Gruppe 3\nBegegnungs-Nr: 0\nHeim: Young Stars ZH\nGast: Höngg II\n\nAdresse: Balgriststrasse 55\, 8008 Zürich\n
LOCATION:Balgriststrasse 55\, 8008 Zürich
CATEGORIES:Saison 2024/25
END:VEVENT
BEGIN:VEVENT
DTSTAMP:20260425T022334Z
DTSTART;TZID=Europe/Berlin:20250404T200000
DTEND;TZID=Europe/Berlin:20250404T230000
SUMMARY:O40 4. Liga Gr. 3 Young Stars ZH vs Bülach III (0)
UID:a9c7c6aa-37f9-45a2-bb98-24e9a56e4304
STATUS:CONFIRMED
LAST-MODIFIED:20250407T123207Z
DESCRIPTION:4. Liga O40 Gruppe 3\nBegegnungs-Nr: 0\nHeim: Young Stars ZH\nGast: Bülach III\n\nAdresse: Balgriststrasse 55\, 8008 Zürich\n
LOCATION:Balgriststrasse 55\, 8008 Zürich
CATEGORIES:Saison 2024/25
END:VEVENT
BEGIN:VEVENT
DTSTAMP:20260425T022334Z
DTSTART;TZID=Europe/Berlin:20250219T200000
DTEND;TZID=Europe/Berlin:20250219T230000
SUMMARY:O40 4. Liga Gr. 3 Young Stars ZH vs Pinguin Zürich (0)
UID:54288b17-5b16-4008-8659-aa300a00700f
STATUS:CONFIRMED
LAST-MODIFIED:20250227T154242Z
DESCRIPTION:4. Liga O40 Gruppe 3\nBegegnungs-Nr: 0\nHeim: Young Stars ZH\nGast: Pinguin Zürich\n\nAdresse: Seefeldstrasse 93\, 8008 Zürich\n
LOCATION:Seefeldstrasse 93\, 8008 Zürich
CATEGORIES:Saison 2024/25
END:VEVENT
BEGIN:VEVENT
DTSTAMP:20260425T022334Z
DTSTART;TZID=Europe/Berlin:20241129T200000
DTEND;TZID=Europe/Berlin:20241129T230000
SUMMARY:O40 4. Liga Gr. 3 Young Stars ZH vs Buchs Zürich II (0)
UID:2eca7c1b-0c76-4833-a871-ccdcf0ce9f9e
STATUS:CONFIRMED
LAST-MODIFIED:20241202T143324Z
DESCRIPTION:4. Liga O40 Gruppe 3\nBegegnungs-Nr: 0\nHeim: Young Stars ZH\nGast: Buchs Zürich II\n\nAdresse: Balgriststrasse 55\, 8008 Zürich\n
LOCATION:Balgriststrasse 55\, 8008 Zürich
CATEGORIES:Saison 2024/25
END:VEVENT
BEGIN:VEVENT
DTSTAMP:20260425T022334Z
DTSTART;TZID=Europe/Berlin:20241122T193000
DTEND;TZID=Europe/Berlin:20241122T223000
SUMMARY:O40 4. Liga Gr. 3 Bülach III vs Young Stars ZH (0)
UID:6098be95-48ab-4e63-833f-48db41085352
STATUS:CONFIRMED
LAST-MODIFIED:20241126T091542Z
DESCRIPTION:4. Liga O40 Gruppe 3\nBegegnungs-Nr: 0\nHeim: Bülach III\nGast: Young Stars ZH\n\nAdresse: Schwerzgruebstrasse 28\, 8180 Bülach\n
LOCATION:Schwerzgruebstrasse 28\, 8180 Bülach
CATEGORIES:Saison 2024/25
END:VEVENT
BEGIN:VEVENT
DTSTAMP:20260425T022334Z
DTSTART;TZID=Europe/Berlin:20240823T193000
DTEND;TZID=Europe/Berlin:20240823T223000
SUMMARY:O40 4. Liga Gr. 3 Pinguin Zürich vs Young Stars ZH (0)
UID:899b41d9-0dfc-438c-b448-1a61d25f9e30
STATUS:CONFIRMED
LAST-MODIFIED:20240828T091920Z
DESCRIPTION:4. Liga O40 Gruppe 3\nBegegnungs-Nr: 0\nHeim: Pinguin Zürich\nGast: Young Stars ZH\n\nAdresse: Basteiplatz\, 8001 Zürich\n
LOCATION:Basteiplatz\, 8001 Zürich
CATEGORIES:Saison 2024/25
END:VEVENT
BEGIN:VEVENT
DTSTAMP:20260425T022334Z
DTSTART;TZID=Europe/Berlin:20250407T201500
DTEND;TZID=Europe/Berlin:20250407T231500
SUMMARY:O40 4. Liga Gr. 3 Buchs Zürich II vs Young Stars ZH (0)
UID:9bf9f60c-0f8b-45ef-996a-61d89800599e
STATUS:CONFIRMED
LAST-MODIFIED:20250408T154755Z
DESCRIPTION:4. Liga O40 Gruppe 3\nBegegnungs-Nr: 0\nHeim: Buchs Zürich II\nGast: Young Stars ZH\n\nAdresse: Schulstrasse 73\, 8105 Regensdorf\n
LOCATION:Schulstrasse 73\, 8105 Regensdorf
CATEGORIES:Saison 2024/25
END:VEVENT
BEGIN:VEVENT
DTSTAMP:20260425T022334Z
DTSTART;TZID=Europe/Berlin:20250225T200000
DTEND;TZID=Europe/Berlin:20250225T230000
SUMMARY:O40 4. Liga Gr. 3 Seebach-Kügeliloo vs Young Stars ZH (0)
UID:4c89e1ec-141f-44ad-8c9e-638abc07a50f
STATUS:CONFIRMED
LAST-MODIFIED:20250227T155128Z
DESCRIPTION:4. Liga O40 Gruppe 3\nBegegnungs-Nr: 0\nHeim: Seebach-Kügeliloo\nGast: Young Stars ZH\n\nAdresse: Sperletweg 71\, 8052 Zürich\n
LOCATION:Sperletweg 71\, 8052 Zürich
CATEGORIES:Saison 2024/25
END:VEVENT
BEGIN:VEVENT
DTSTAMP:20260425T022334Z
DTSTART;TZID=Europe/Berlin:20250113T201500
DTEND;TZID=Europe/Berlin:20250113T231500
SUMMARY:O40 4. Liga Gr. 3 Urdorf II vs Young Stars ZH (0)
UID:7cd83b11-5c8a-4527-b8e8-e697ef76b76c
STATUS:CONFIRMED
LAST-MODIFIED:20250114T094746Z
DESCRIPTION:4. Liga O40 Gruppe 3\nBegegnungs-Nr: 0\nHeim: Urdorf II\nGast: Young Stars ZH\n\nAdresse: Weihermattstrasse 50\, 8902 Urdorf\n
LOCATION:Weihermattstrasse 50\, 8902 Urdorf
CATEGORIES:Saison 2024/25
END:VEVENT
BEGIN:VEVENT
DTSTAMP:20260425T022334Z
DTSTART;TZID=Europe/Berlin:20241211T200000
DTEND;TZID=Europe/Berlin:20241211T230000
SUMMARY:O40 4. Liga Gr. 3 Höngg II vs Young Stars ZH (0)
UID:1e896bbe-0fbd-467b-bbca-e48f66fb0a89
STATUS:CONFIRMED
LAST-MODIFIED:20241213T102115Z
DESCRIPTION:4. Liga O40 Gruppe 3\nBegegnungs-Nr: 0\nHeim: Höngg II\nGast: Young Stars ZH\n\nAdresse: Bläsistrasse 2\, 8049 Zürich\n
LOCATION:Bläsistrasse 2\, 8049 Zürich
CATEGORIES:Saison 2024/25
END:VEVENT
END:VCALENDAR
