BEGIN:VCALENDAR
PRODID:-//nuDatenautomaten//framework iCal4j //DE
VERSION:2.0
CALSCALE:GREGORIAN
BEGIN:VTIMEZONE
TZID:Europe/Berlin
LAST-MODIFIED:20260306T231828Z
TZURL:https://www.tzurl.org/zoneinfo/Europe/Berlin
X-LIC-LOCATION:Europe/Berlin
X-PROLEPTIC-TZNAME:LMT
BEGIN:STANDARD
TZNAME:CET
TZOFFSETFROM:+005328
TZOFFSETTO:+0100
DTSTART:18930401T000000
END:STANDARD
BEGIN:DAYLIGHT
TZNAME:CEST
TZOFFSETFROM:+0100
TZOFFSETTO:+0200
DTSTART:19160430T230000
RDATE:19400401T020000
RDATE:19430329T020000
RDATE:19460414T020000
RDATE:19470406T030000
RDATE:19480418T020000
RDATE:19490410T020000
RDATE:19800406T020000
END:DAYLIGHT
BEGIN:STANDARD
TZNAME:CET
TZOFFSETFROM:+0200
TZOFFSETTO:+0100
DTSTART:19161001T010000
RDATE:19421102T030000
RDATE:19431004T030000
RDATE:19441002T030000
RDATE:19451118T030000
RDATE:19461007T030000
END:STANDARD
BEGIN:DAYLIGHT
TZNAME:CEST
TZOFFSETFROM:+0100
TZOFFSETTO:+0200
DTSTART:19170416T020000
RRULE:FREQ=YEARLY;UNTIL=19180415T010000Z;BYMONTH=4;BYDAY=3MO
END:DAYLIGHT
BEGIN:STANDARD
TZNAME:CET
TZOFFSETFROM:+0200
TZOFFSETTO:+0100
DTSTART:19170917T030000
RRULE:FREQ=YEARLY;UNTIL=19180916T010000Z;BYMONTH=9;BYDAY=3MO
END:STANDARD
BEGIN:DAYLIGHT
TZNAME:CEST
TZOFFSETFROM:+0100
TZOFFSETTO:+0200
DTSTART:19440403T020000
RRULE:FREQ=YEARLY;UNTIL=19450402T010000Z;BYMONTH=4;BYDAY=1MO
END:DAYLIGHT
BEGIN:DAYLIGHT
TZNAME:CEMT
TZOFFSETFROM:+0200
TZOFFSETTO:+0300
DTSTART:19450524T020000
RDATE:19470511T030000
END:DAYLIGHT
BEGIN:DAYLIGHT
TZNAME:CEST
TZOFFSETFROM:+0300
TZOFFSETTO:+0200
DTSTART:19450924T030000
RDATE:19470629T030000
END:DAYLIGHT
BEGIN:STANDARD
TZNAME:CET
TZOFFSETFROM:+0100
TZOFFSETTO:+0100
DTSTART:19460101T000000
RDATE:19800101T000000
END:STANDARD
BEGIN:STANDARD
TZNAME:CET
TZOFFSETFROM:+0200
TZOFFSETTO:+0100
DTSTART:19471005T030000
RRULE:FREQ=YEARLY;UNTIL=19491002T010000Z;BYMONTH=10;BYDAY=1SU
END:STANDARD
BEGIN:STANDARD
TZNAME:CET
TZOFFSETFROM:+0200
TZOFFSETTO:+0100
DTSTART:19800928T030000
RRULE:FREQ=YEARLY;UNTIL=19950924T010000Z;BYMONTH=9;BYDAY=-1SU
END:STANDARD
BEGIN:DAYLIGHT
TZNAME:CEST
TZOFFSETFROM:+0100
TZOFFSETTO:+0200
DTSTART:19810329T020000
RRULE:FREQ=YEARLY;BYMONTH=3;BYDAY=-1SU
END:DAYLIGHT
BEGIN:STANDARD
TZNAME:CET
TZOFFSETFROM:+0200
TZOFFSETTO:+0100
DTSTART:19961027T030000
RRULE:FREQ=YEARLY;BYMONTH=10;BYDAY=-1SU
END:STANDARD
END:VTIMEZONE
BEGIN:VEVENT
DTSTAMP:20260425T034146Z
DTSTART;TZID=Europe/Berlin:20250404T200000
DTEND;TZID=Europe/Berlin:20250404T230000
SUMMARY:HE 1. Liga Gr. 1 Wetzikon II vs Chur (0)
UID:155748fd-a11b-4d7f-a466-4374303c788e
STATUS:CONFIRMED
LAST-MODIFIED:20250407T113211Z
DESCRIPTION:1. Liga Herren Gruppe 1\nBegegnungs-Nr: 0\nHeim: Wetzikon II\nGast: Chur\n\nAdresse: Usterstrasse 37\, 8620 Wetzikon\n
LOCATION:Usterstrasse 37\, 8620 Wetzikon
CATEGORIES:Saison 2024/25
END:VEVENT
BEGIN:VEVENT
DTSTAMP:20260425T034146Z
DTSTART;TZID=Europe/Berlin:20241220T200000
DTEND;TZID=Europe/Berlin:20241220T230000
SUMMARY:HE 1. Liga Gr. 1 Wetzikon II vs Zürich-Affoltern II (0)
UID:6c40f07e-82de-427e-8018-6dbfa5a919bd
STATUS:CONFIRMED
LAST-MODIFIED:20241223T080829Z
DESCRIPTION:1. Liga Herren Gruppe 1\nBegegnungs-Nr: 0\nHeim: Wetzikon II\nGast: Zürich-Affoltern II\n\nAdresse: Usterstrasse 37\, 8620 Wetzikon\n
LOCATION:Usterstrasse 37\, 8620 Wetzikon
CATEGORIES:Saison 2024/25
END:VEVENT
BEGIN:VEVENT
DTSTAMP:20260425T034146Z
DTSTART;TZID=Europe/Berlin:20240927T200000
DTEND;TZID=Europe/Berlin:20240927T230000
SUMMARY:HE 1. Liga Gr. 1 Wetzikon II vs Muolen (0)
UID:a0a10b84-eb2c-4878-afd6-8e338e5c70e8
STATUS:CONFIRMED
LAST-MODIFIED:20240930T124156Z
DESCRIPTION:1. Liga Herren Gruppe 1\nBegegnungs-Nr: 0\nHeim: Wetzikon II\nGast: Muolen\n\nAdresse: Usterstrasse 37\, 8620 Wetzikon\n
LOCATION:Usterstrasse 37\, 8620 Wetzikon
CATEGORIES:Saison 2024/25
END:VEVENT
BEGIN:VEVENT
DTSTAMP:20260425T034146Z
DTSTART;TZID=Europe/Berlin:20240906T200000
DTEND;TZID=Europe/Berlin:20240906T230000
SUMMARY:HE 1. Liga Gr. 1 Wetzikon II vs St. Gallen II (0)
UID:fc7de22c-07a3-46c7-805e-ed54d054c179
STATUS:CONFIRMED
LAST-MODIFIED:20240912T071720Z
DESCRIPTION:1. Liga Herren Gruppe 1\nBegegnungs-Nr: 0\nHeim: Wetzikon II\nGast: St. Gallen II\n\nAdresse: Usterstrasse 37\, 8620 Wetzikon\n
LOCATION:Usterstrasse 37\, 8620 Wetzikon
CATEGORIES:Saison 2024/25
END:VEVENT
BEGIN:VEVENT
DTSTAMP:20260425T034146Z
DTSTART;TZID=Europe/Berlin:20241115T200000
DTEND;TZID=Europe/Berlin:20241115T230000
SUMMARY:HE 1. Liga Gr. 1 Wetzikon II vs Rapperswil-Jona IV (0)
UID:3a69d82c-ca49-481c-9972-553da3f5f8f8
STATUS:CONFIRMED
LAST-MODIFIED:20241122T150538Z
DESCRIPTION:1. Liga Herren Gruppe 1\nBegegnungs-Nr: 0\nHeim: Wetzikon II\nGast: Rapperswil-Jona IV\n\nAdresse: Usterstrasse 37\, 8620 Wetzikon\n
LOCATION:Usterstrasse 37\, 8620 Wetzikon
CATEGORIES:Saison 2024/25
END:VEVENT
BEGIN:VEVENT
DTSTAMP:20260425T034146Z
DTSTART;TZID=Europe/Berlin:20250411T200000
DTEND;TZID=Europe/Berlin:20250411T230000
SUMMARY:HE 1. Liga Gr. 1 Wetzikon II vs Wil SG (0)
UID:3348b2c9-8408-446a-88ea-129a535c75f3
STATUS:CONFIRMED
LAST-MODIFIED:20250410T193631Z
DESCRIPTION:1. Liga Herren Gruppe 1\nBegegnungs-Nr: 0\nHeim: Wetzikon II\nGast: Wil SG\n\nAdresse: Usterstrasse 37\, 8620 Wetzikon\n
LOCATION:Usterstrasse 37\, 8620 Wetzikon
CATEGORIES:Saison 2024/25
END:VEVENT
BEGIN:VEVENT
DTSTAMP:20260425T034146Z
DTSTART;TZID=Europe/Berlin:20250307T200000
DTEND;TZID=Europe/Berlin:20250307T230000
SUMMARY:HE 1. Liga Gr. 1 Wetzikon II vs Bülach (0)
UID:97a4736d-e009-4313-8943-62f5f1294bb5
STATUS:CONFIRMED
LAST-MODIFIED:20250311T143856Z
DESCRIPTION:1. Liga Herren Gruppe 1\nBegegnungs-Nr: 0\nHeim: Wetzikon II\nGast: Bülach\n\nAdresse: Usterstrasse 37\, 8620 Wetzikon\n
LOCATION:Usterstrasse 37\, 8620 Wetzikon
CATEGORIES:Saison 2024/25
END:VEVENT
BEGIN:VEVENT
DTSTAMP:20260425T034146Z
DTSTART;TZID=Europe/Berlin:20250120T200000
DTEND;TZID=Europe/Berlin:20250120T230000
SUMMARY:HE 1. Liga Gr. 1 Wetzikon II vs Affoltern A/A II (0)
UID:c6813d59-1232-450c-a36f-e15e29eee107
STATUS:CONFIRMED
LAST-MODIFIED:20250123T070439Z
DESCRIPTION:1. Liga Herren Gruppe 1\nBegegnungs-Nr: 0\nHeim: Wetzikon II\nGast: Affoltern A/A II\n\nAdresse: Usterstrasse 37\, 8620 Wetzikon\n
LOCATION:Usterstrasse 37\, 8620 Wetzikon
CATEGORIES:Saison 2024/25
END:VEVENT
BEGIN:VEVENT
DTSTAMP:20260425T034146Z
DTSTART;TZID=Europe/Berlin:20250313T201500
DTEND;TZID=Europe/Berlin:20250313T231500
SUMMARY:HE 1. Liga Gr. 1 Zürich-Affoltern II vs Wetzikon II (0)
UID:12c76028-3f4c-4393-9e50-b5d172c4f4c7
STATUS:CONFIRMED
LAST-MODIFIED:20250314T124027Z
DESCRIPTION:1. Liga Herren Gruppe 1\nBegegnungs-Nr: 0\nHeim: Zürich-Affoltern II\nGast: Wetzikon II\n
LOCATION:
CATEGORIES:Saison 2024/25
END:VEVENT
BEGIN:VEVENT
DTSTAMP:20260425T034146Z
DTSTART;TZID=Europe/Berlin:20250322T130000
DTEND;TZID=Europe/Berlin:20250322T160000
SUMMARY:HE 1. Liga Gr. 1 Rapperswil-Jona IV vs Wetzikon II (0)
UID:b5f44163-97df-47bf-9e67-3a9396a349fc
STATUS:CONFIRMED
LAST-MODIFIED:20250326T130158Z
DESCRIPTION:1. Liga Herren Gruppe 1\nBegegnungs-Nr: 0\nHeim: Rapperswil-Jona IV\nGast: Wetzikon II\n\nAdresse: Kreuzstrasse 43\, 8640 Rapperswil\n
LOCATION:Kreuzstrasse 43\, 8640 Rapperswil
CATEGORIES:Saison 2024/25
END:VEVENT
BEGIN:VEVENT
DTSTAMP:20260425T034146Z
DTSTART;TZID=Europe/Berlin:20241129T200000
DTEND;TZID=Europe/Berlin:20241129T230000
SUMMARY:HE 1. Liga Gr. 1 Chur vs Wetzikon II (0)
UID:eb2e4157-4f1a-49a9-9428-352d6fc78e0d
STATUS:CONFIRMED
LAST-MODIFIED:20241205T084538Z
DESCRIPTION:1. Liga Herren Gruppe 1\nBegegnungs-Nr: 0\nHeim: Chur\nGast: Wetzikon II\n\nAdresse: Bodmerstrasse 10\, 7000 Chur\n
LOCATION:Bodmerstrasse 10\, 7000 Chur
CATEGORIES:Saison 2024/25
END:VEVENT
BEGIN:VEVENT
DTSTAMP:20260425T034146Z
DTSTART;TZID=Europe/Berlin:20241122T200000
DTEND;TZID=Europe/Berlin:20241122T230000
SUMMARY:HE 1. Liga Gr. 1 Wil SG vs Wetzikon II (0)
UID:60e2cb91-a150-4fa4-9bdb-766c365d47f2
STATUS:CONFIRMED
LAST-MODIFIED:20241126T081324Z
DESCRIPTION:1. Liga Herren Gruppe 1\nBegegnungs-Nr: 0\nHeim: Wil SG\nGast: Wetzikon II\n\nAdresse: Bleichestrasse 3 (Neben Hallenbad)\, 8570 Weinfelden\n
LOCATION:Bleichestrasse 3 (Neben Hallenbad)\, 8570 Weinfelden
CATEGORIES:Saison 2024/25
END:VEVENT
BEGIN:VEVENT
DTSTAMP:20260425T034146Z
DTSTART;TZID=Europe/Berlin:20241031T201500
DTEND;TZID=Europe/Berlin:20241031T231500
SUMMARY:HE 1. Liga Gr. 1 Bülach vs Wetzikon II (0)
UID:d2a7fa29-50c7-4dc8-81e5-13d662a47fb0
STATUS:CONFIRMED
LAST-MODIFIED:20241101T085134Z
DESCRIPTION:1. Liga Herren Gruppe 1\nBegegnungs-Nr: 0\nHeim: Bülach\nGast: Wetzikon II\n\nAdresse: Unterweg 51\, 8180 Bülach\n
LOCATION:Unterweg 51\, 8180 Bülach
CATEGORIES:Saison 2024/25
END:VEVENT
BEGIN:VEVENT
DTSTAMP:20260425T034146Z
DTSTART;TZID=Europe/Berlin:20241001T193000
DTEND;TZID=Europe/Berlin:20241001T223000
SUMMARY:HE 1. Liga Gr. 1 Affoltern A/A II vs Wetzikon II (0)
UID:5c9994b9-d169-4721-a807-a07ad1ba916a
STATUS:CONFIRMED
LAST-MODIFIED:20241004T080056Z
DESCRIPTION:1. Liga Herren Gruppe 1\nBegegnungs-Nr: 0\nHeim: Affoltern A/A II\nGast: Wetzikon II\n\nAdresse: Butzenstrasse 8\, 8910 Affoltern am Albis\n
LOCATION:Butzenstrasse 8\, 8910 Affoltern am Albis
CATEGORIES:Saison 2024/25
END:VEVENT
BEGIN:VEVENT
DTSTAMP:20260425T034146Z
DTSTART;TZID=Europe/Berlin:20250301T150000
DTEND;TZID=Europe/Berlin:20250301T180000
SUMMARY:HE 1. Liga Gr. 1 Muolen vs Wetzikon II (0)
UID:edea17e6-d5a2-4d01-976b-9bf7f01817b6
STATUS:CONFIRMED
LAST-MODIFIED:20250306T141950Z
DESCRIPTION:1. Liga Herren Gruppe 1\nBegegnungs-Nr: 0\nHeim: Muolen\nGast: Wetzikon II\n\nAdresse: Dorfstrasse 31\, 9313 Muolen\n
LOCATION:Dorfstrasse 31\, 9313 Muolen
CATEGORIES:Saison 2024/25
END:VEVENT
BEGIN:VEVENT
DTSTAMP:20260425T034146Z
DTSTART;TZID=Europe/Berlin:20250201T150000
DTEND;TZID=Europe/Berlin:20250201T180000
SUMMARY:HE 1. Liga Gr. 1 St. Gallen II vs Wetzikon II (0)
UID:f3385c12-a3e3-4f8e-b0e3-bcdcff331f82
STATUS:CONFIRMED
LAST-MODIFIED:20250203T104305Z
DESCRIPTION:1. Liga Herren Gruppe 1\nBegegnungs-Nr: 0\nHeim: St. Gallen II\nGast: Wetzikon II\n\nAdresse: Zilstrasse 61\, 9016 St.Gallen\n
LOCATION:Zilstrasse 61\, 9016 St.Gallen
CATEGORIES:Saison 2024/25
END:VEVENT
END:VCALENDAR
