BEGIN:VCALENDAR
PRODID:-//nuDatenautomaten//framework iCal4j //DE
VERSION:2.0
CALSCALE:GREGORIAN
BEGIN:VTIMEZONE
TZID:Europe/Berlin
LAST-MODIFIED:20260306T231828Z
TZURL:https://www.tzurl.org/zoneinfo/Europe/Berlin
X-LIC-LOCATION:Europe/Berlin
X-PROLEPTIC-TZNAME:LMT
BEGIN:STANDARD
TZNAME:CET
TZOFFSETFROM:+005328
TZOFFSETTO:+0100
DTSTART:18930401T000000
END:STANDARD
BEGIN:DAYLIGHT
TZNAME:CEST
TZOFFSETFROM:+0100
TZOFFSETTO:+0200
DTSTART:19160430T230000
RDATE:19400401T020000
RDATE:19430329T020000
RDATE:19460414T020000
RDATE:19470406T030000
RDATE:19480418T020000
RDATE:19490410T020000
RDATE:19800406T020000
END:DAYLIGHT
BEGIN:STANDARD
TZNAME:CET
TZOFFSETFROM:+0200
TZOFFSETTO:+0100
DTSTART:19161001T010000
RDATE:19421102T030000
RDATE:19431004T030000
RDATE:19441002T030000
RDATE:19451118T030000
RDATE:19461007T030000
END:STANDARD
BEGIN:DAYLIGHT
TZNAME:CEST
TZOFFSETFROM:+0100
TZOFFSETTO:+0200
DTSTART:19170416T020000
RRULE:FREQ=YEARLY;UNTIL=19180415T010000Z;BYMONTH=4;BYDAY=3MO
END:DAYLIGHT
BEGIN:STANDARD
TZNAME:CET
TZOFFSETFROM:+0200
TZOFFSETTO:+0100
DTSTART:19170917T030000
RRULE:FREQ=YEARLY;UNTIL=19180916T010000Z;BYMONTH=9;BYDAY=3MO
END:STANDARD
BEGIN:DAYLIGHT
TZNAME:CEST
TZOFFSETFROM:+0100
TZOFFSETTO:+0200
DTSTART:19440403T020000
RRULE:FREQ=YEARLY;UNTIL=19450402T010000Z;BYMONTH=4;BYDAY=1MO
END:DAYLIGHT
BEGIN:DAYLIGHT
TZNAME:CEMT
TZOFFSETFROM:+0200
TZOFFSETTO:+0300
DTSTART:19450524T020000
RDATE:19470511T030000
END:DAYLIGHT
BEGIN:DAYLIGHT
TZNAME:CEST
TZOFFSETFROM:+0300
TZOFFSETTO:+0200
DTSTART:19450924T030000
RDATE:19470629T030000
END:DAYLIGHT
BEGIN:STANDARD
TZNAME:CET
TZOFFSETFROM:+0100
TZOFFSETTO:+0100
DTSTART:19460101T000000
RDATE:19800101T000000
END:STANDARD
BEGIN:STANDARD
TZNAME:CET
TZOFFSETFROM:+0200
TZOFFSETTO:+0100
DTSTART:19471005T030000
RRULE:FREQ=YEARLY;UNTIL=19491002T010000Z;BYMONTH=10;BYDAY=1SU
END:STANDARD
BEGIN:STANDARD
TZNAME:CET
TZOFFSETFROM:+0200
TZOFFSETTO:+0100
DTSTART:19800928T030000
RRULE:FREQ=YEARLY;UNTIL=19950924T010000Z;BYMONTH=9;BYDAY=-1SU
END:STANDARD
BEGIN:DAYLIGHT
TZNAME:CEST
TZOFFSETFROM:+0100
TZOFFSETTO:+0200
DTSTART:19810329T020000
RRULE:FREQ=YEARLY;BYMONTH=3;BYDAY=-1SU
END:DAYLIGHT
BEGIN:STANDARD
TZNAME:CET
TZOFFSETFROM:+0200
TZOFFSETTO:+0100
DTSTART:19961027T030000
RRULE:FREQ=YEARLY;BYMONTH=10;BYDAY=-1SU
END:STANDARD
END:VTIMEZONE
BEGIN:VEVENT
DTSTAMP:20260425T004238Z
DTSTART;TZID=Europe/Berlin:20250312T193000
DTEND;TZID=Europe/Berlin:20250312T223000
SUMMARY:HE 5. Liga Gr. 4 Seebach-Kügeliloo IV vs Affoltern A/A V (0)
UID:35f50f70-5808-4f54-8574-415ccbf91aaf
STATUS:CONFIRMED
LAST-MODIFIED:20250313T102948Z
DESCRIPTION:5. Liga Herren Gruppe 4\nBegegnungs-Nr: 0\nHeim: Seebach-Kügeliloo IV\nGast: Affoltern A/A V\n\nAdresse: Maienstrasse 9\, 8050 Zürich\n
LOCATION:Maienstrasse 9\, 8050 Zürich
CATEGORIES:Saison 2024/25
END:VEVENT
BEGIN:VEVENT
DTSTAMP:20260425T004238Z
DTSTART;TZID=Europe/Berlin:20250129T193000
DTEND;TZID=Europe/Berlin:20250129T223000
SUMMARY:HE 5. Liga Gr. 4 Seebach-Kügeliloo IV vs Niederhasli V (0)
UID:3c2eb1da-a5e2-46b3-918d-5751521fd4f8
STATUS:CONFIRMED
LAST-MODIFIED:20250203T115949Z
DESCRIPTION:5. Liga Herren Gruppe 4\nBegegnungs-Nr: 0\nHeim: Seebach-Kügeliloo IV\nGast: Niederhasli V\n\nAdresse: Maienstrasse 9\, 8050 Zürich\n
LOCATION:Maienstrasse 9\, 8050 Zürich
CATEGORIES:Saison 2024/25
END:VEVENT
BEGIN:VEVENT
DTSTAMP:20260425T004238Z
DTSTART;TZID=Europe/Berlin:20250402T193000
DTEND;TZID=Europe/Berlin:20250402T223000
SUMMARY:HE 5. Liga Gr. 4 Seebach-Kügeliloo IV vs Urdorf III (0)
UID:0e24ef84-e35a-4b8f-85a4-1315428246e2
STATUS:CONFIRMED
LAST-MODIFIED:20250404T083327Z
DESCRIPTION:5. Liga Herren Gruppe 4\nBegegnungs-Nr: 0\nHeim: Seebach-Kügeliloo IV\nGast: Urdorf III\n\nAdresse: Maienstrasse 9\, 8050 Zürich\n
LOCATION:Maienstrasse 9\, 8050 Zürich
CATEGORIES:Saison 2024/25
END:VEVENT
BEGIN:VEVENT
DTSTAMP:20260425T004238Z
DTSTART;TZID=Europe/Berlin:20241211T193000
DTEND;TZID=Europe/Berlin:20241211T223000
SUMMARY:HE 5. Liga Gr. 4 Seebach-Kügeliloo IV vs Buchs Zürich IV (0)
UID:42e16af1-6d1b-405e-bdc9-9c44cf26203a
STATUS:CONFIRMED
LAST-MODIFIED:20241212T091758Z
DESCRIPTION:5. Liga Herren Gruppe 4\nBegegnungs-Nr: 0\nHeim: Seebach-Kügeliloo IV\nGast: Buchs Zürich IV\n\nAdresse: Maienstrasse 9\, 8050 Zürich\n
LOCATION:Maienstrasse 9\, 8050 Zürich
CATEGORIES:Saison 2024/25
END:VEVENT
BEGIN:VEVENT
DTSTAMP:20260425T004238Z
DTSTART;TZID=Europe/Berlin:20241030T193000
DTEND;TZID=Europe/Berlin:20241030T223000
SUMMARY:HE 5. Liga Gr. 4 Seebach-Kügeliloo IV vs Seebach-Kügeliloo III (0)
UID:b408337c-8f0b-4029-89fb-58f475239b39
STATUS:CONFIRMED
LAST-MODIFIED:20241108T141717Z
DESCRIPTION:5. Liga Herren Gruppe 4\nBegegnungs-Nr: 0\nHeim: Seebach-Kügeliloo IV\nGast: Seebach-Kügeliloo III\n\nAdresse: Maienstrasse 9\, 8050 Zürich\n
LOCATION:Maienstrasse 9\, 8050 Zürich
CATEGORIES:Saison 2024/25
END:VEVENT
BEGIN:VEVENT
DTSTAMP:20260425T004238Z
DTSTART;TZID=Europe/Berlin:20240925T193000
DTEND;TZID=Europe/Berlin:20240925T223000
SUMMARY:HE 5. Liga Gr. 4 Seebach-Kügeliloo IV vs Höngg III (0)
UID:4db6b8c4-3213-4e07-8470-3b3e57307514
STATUS:CONFIRMED
LAST-MODIFIED:20240926T115034Z
DESCRIPTION:5. Liga Herren Gruppe 4\nBegegnungs-Nr: 0\nHeim: Seebach-Kügeliloo IV\nGast: Höngg III\n\nAdresse: Maienstrasse 9\, 8050 Zürich\n
LOCATION:Maienstrasse 9\, 8050 Zürich
CATEGORIES:Saison 2024/25
END:VEVENT
BEGIN:VEVENT
DTSTAMP:20260425T004238Z
DTSTART;TZID=Europe/Berlin:20241002T193000
DTEND;TZID=Europe/Berlin:20241002T223000
SUMMARY:HE 5. Liga Gr. 4 Seebach-Kügeliloo IV vs Zürich-Affoltern VII (0)
UID:89e2b50f-b7d7-4942-9d8c-5112b77ead00
STATUS:CONFIRMED
LAST-MODIFIED:20241004T080723Z
DESCRIPTION:5. Liga Herren Gruppe 4\nBegegnungs-Nr: 0\nHeim: Seebach-Kügeliloo IV\nGast: Zürich-Affoltern VII\n\nAdresse: Maienstrasse 9\, 8050 Zürich\n
LOCATION:Maienstrasse 9\, 8050 Zürich
CATEGORIES:Saison 2024/25
END:VEVENT
BEGIN:VEVENT
DTSTAMP:20260425T004238Z
DTSTART;TZID=Europe/Berlin:20250328T193000
DTEND;TZID=Europe/Berlin:20250328T223000
SUMMARY:HE 5. Liga Gr. 4 Buchs Zürich IV vs Seebach-Kügeliloo IV (0)
UID:0169fb84-86ff-4534-a29d-513f1b2f56d9
STATUS:CONFIRMED
LAST-MODIFIED:20250404T083255Z
DESCRIPTION:5. Liga Herren Gruppe 4\nBegegnungs-Nr: 0\nHeim: Buchs Zürich IV\nGast: Seebach-Kügeliloo IV\n\nAdresse: Drisglerstrasse 3\, 8107 Buchs ZH\n
LOCATION:Drisglerstrasse 3\, 8107 Buchs ZH
CATEGORIES:Saison 2024/25
END:VEVENT
BEGIN:VEVENT
DTSTAMP:20260425T004238Z
DTSTART;TZID=Europe/Berlin:20250305T193000
DTEND;TZID=Europe/Berlin:20250305T223000
SUMMARY:HE 5. Liga Gr. 4 Seebach-Kügeliloo III vs Seebach-Kügeliloo IV (0)
UID:895819bc-7e03-4f0d-8329-7e2a22778a74
STATUS:CONFIRMED
LAST-MODIFIED:20250306T142701Z
DESCRIPTION:5. Liga Herren Gruppe 4\nBegegnungs-Nr: 0\nHeim: Seebach-Kügeliloo III\nGast: Seebach-Kügeliloo IV\n\nAdresse: Maienstrasse 9\, 8050 Zürich\n
LOCATION:Maienstrasse 9\, 8050 Zürich
CATEGORIES:Saison 2024/25
END:VEVENT
BEGIN:VEVENT
DTSTAMP:20260425T004238Z
DTSTART;TZID=Europe/Berlin:20250203T200000
DTEND;TZID=Europe/Berlin:20250203T230000
SUMMARY:HE 5. Liga Gr. 4 Höngg III vs Seebach-Kügeliloo IV (0)
UID:0b6ad3a1-57d3-48ad-8df0-7a3263251d5b
STATUS:CONFIRMED
LAST-MODIFIED:20250204T123809Z
DESCRIPTION:5. Liga Herren Gruppe 4\nBegegnungs-Nr: 0\nHeim: Höngg III\nGast: Seebach-Kügeliloo IV\n\nAdresse: Bläsistrasse 2\, 8049 Zürich\n
LOCATION:Bläsistrasse 2\, 8049 Zürich
CATEGORIES:Saison 2024/25
END:VEVENT
BEGIN:VEVENT
DTSTAMP:20260425T004238Z
DTSTART;TZID=Europe/Berlin:20250122T194500
DTEND;TZID=Europe/Berlin:20250122T224500
SUMMARY:HE 5. Liga Gr. 4 Zürich-Affoltern VII vs Seebach-Kügeliloo IV (0)
UID:d7f4949a-e802-42f8-80f2-1026aa58401e
STATUS:CONFIRMED
LAST-MODIFIED:20250123T083124Z
DESCRIPTION:5. Liga Herren Gruppe 4\nBegegnungs-Nr: 0\nHeim: Zürich-Affoltern VII\nGast: Seebach-Kügeliloo IV\n\nAdresse: Fronwaldstr.115\, 8046 Zürich\n
LOCATION:Fronwaldstr.115\, 8046 Zürich
CATEGORIES:Saison 2024/25
END:VEVENT
BEGIN:VEVENT
DTSTAMP:20260425T004238Z
DTSTART;TZID=Europe/Berlin:20241105T193000
DTEND;TZID=Europe/Berlin:20241105T223000
SUMMARY:HE 5. Liga Gr. 4 Affoltern A/A V vs Seebach-Kügeliloo IV (0)
UID:447a5845-ae38-466e-8edf-fb98995b7f73
STATUS:CONFIRMED
LAST-MODIFIED:20241122T151256Z
DESCRIPTION:5. Liga Herren Gruppe 4\nBegegnungs-Nr: 0\nHeim: Affoltern A/A V\nGast: Seebach-Kügeliloo IV\n\nAdresse: Butzenstrasse 8\, 8910 Affoltern am Albis\n
LOCATION:Butzenstrasse 8\, 8910 Affoltern am Albis
CATEGORIES:Saison 2024/25
END:VEVENT
BEGIN:VEVENT
DTSTAMP:20260425T004238Z
DTSTART;TZID=Europe/Berlin:20240916T193000
DTEND;TZID=Europe/Berlin:20240916T223000
SUMMARY:HE 5. Liga Gr. 4 Niederhasli V vs Seebach-Kügeliloo IV (0)
UID:6b2ad027-a6d0-44bc-aaac-4fe90966bd77
STATUS:CONFIRMED
LAST-MODIFIED:20240917T071226Z
DESCRIPTION:5. Liga Herren Gruppe 4\nBegegnungs-Nr: 0\nHeim: Niederhasli V\nGast: Seebach-Kügeliloo IV\n\nAdresse: Dorfstrasse 22\, 8155 Niederhasli\n
LOCATION:Dorfstrasse 22\, 8155 Niederhasli
CATEGORIES:Saison 2024/25
END:VEVENT
BEGIN:VEVENT
DTSTAMP:20260425T004238Z
DTSTART;TZID=Europe/Berlin:20240830T201500
DTEND;TZID=Europe/Berlin:20240830T231500
SUMMARY:HE 5. Liga Gr. 4 Urdorf III vs Seebach-Kügeliloo IV (0)
UID:0cb19368-84dd-46a4-81ac-275f4ff3d887
STATUS:CONFIRMED
LAST-MODIFIED:20240904T104015Z
DESCRIPTION:5. Liga Herren Gruppe 4\nBegegnungs-Nr: 0\nHeim: Urdorf III\nGast: Seebach-Kügeliloo IV\n\nAdresse: Weihermattstrasse 50\, 8902 Urdorf\n
LOCATION:Weihermattstrasse 50\, 8902 Urdorf
CATEGORIES:Saison 2024/25
END:VEVENT
END:VCALENDAR
