BEGIN:VCALENDAR
PRODID:-//nuDatenautomaten//framework iCal4j //DE
VERSION:2.0
CALSCALE:GREGORIAN
BEGIN:VTIMEZONE
TZID:Europe/Berlin
LAST-MODIFIED:20260306T231828Z
TZURL:https://www.tzurl.org/zoneinfo/Europe/Berlin
X-LIC-LOCATION:Europe/Berlin
X-PROLEPTIC-TZNAME:LMT
BEGIN:STANDARD
TZNAME:CET
TZOFFSETFROM:+005328
TZOFFSETTO:+0100
DTSTART:18930401T000000
END:STANDARD
BEGIN:DAYLIGHT
TZNAME:CEST
TZOFFSETFROM:+0100
TZOFFSETTO:+0200
DTSTART:19160430T230000
RDATE:19400401T020000
RDATE:19430329T020000
RDATE:19460414T020000
RDATE:19470406T030000
RDATE:19480418T020000
RDATE:19490410T020000
RDATE:19800406T020000
END:DAYLIGHT
BEGIN:STANDARD
TZNAME:CET
TZOFFSETFROM:+0200
TZOFFSETTO:+0100
DTSTART:19161001T010000
RDATE:19421102T030000
RDATE:19431004T030000
RDATE:19441002T030000
RDATE:19451118T030000
RDATE:19461007T030000
END:STANDARD
BEGIN:DAYLIGHT
TZNAME:CEST
TZOFFSETFROM:+0100
TZOFFSETTO:+0200
DTSTART:19170416T020000
RRULE:FREQ=YEARLY;UNTIL=19180415T010000Z;BYMONTH=4;BYDAY=3MO
END:DAYLIGHT
BEGIN:STANDARD
TZNAME:CET
TZOFFSETFROM:+0200
TZOFFSETTO:+0100
DTSTART:19170917T030000
RRULE:FREQ=YEARLY;UNTIL=19180916T010000Z;BYMONTH=9;BYDAY=3MO
END:STANDARD
BEGIN:DAYLIGHT
TZNAME:CEST
TZOFFSETFROM:+0100
TZOFFSETTO:+0200
DTSTART:19440403T020000
RRULE:FREQ=YEARLY;UNTIL=19450402T010000Z;BYMONTH=4;BYDAY=1MO
END:DAYLIGHT
BEGIN:DAYLIGHT
TZNAME:CEMT
TZOFFSETFROM:+0200
TZOFFSETTO:+0300
DTSTART:19450524T020000
RDATE:19470511T030000
END:DAYLIGHT
BEGIN:DAYLIGHT
TZNAME:CEST
TZOFFSETFROM:+0300
TZOFFSETTO:+0200
DTSTART:19450924T030000
RDATE:19470629T030000
END:DAYLIGHT
BEGIN:STANDARD
TZNAME:CET
TZOFFSETFROM:+0100
TZOFFSETTO:+0100
DTSTART:19460101T000000
RDATE:19800101T000000
END:STANDARD
BEGIN:STANDARD
TZNAME:CET
TZOFFSETFROM:+0200
TZOFFSETTO:+0100
DTSTART:19471005T030000
RRULE:FREQ=YEARLY;UNTIL=19491002T010000Z;BYMONTH=10;BYDAY=1SU
END:STANDARD
BEGIN:STANDARD
TZNAME:CET
TZOFFSETFROM:+0200
TZOFFSETTO:+0100
DTSTART:19800928T030000
RRULE:FREQ=YEARLY;UNTIL=19950924T010000Z;BYMONTH=9;BYDAY=-1SU
END:STANDARD
BEGIN:DAYLIGHT
TZNAME:CEST
TZOFFSETFROM:+0100
TZOFFSETTO:+0200
DTSTART:19810329T020000
RRULE:FREQ=YEARLY;BYMONTH=3;BYDAY=-1SU
END:DAYLIGHT
BEGIN:STANDARD
TZNAME:CET
TZOFFSETFROM:+0200
TZOFFSETTO:+0100
DTSTART:19961027T030000
RRULE:FREQ=YEARLY;BYMONTH=10;BYDAY=-1SU
END:STANDARD
END:VTIMEZONE
BEGIN:VEVENT
DTSTAMP:20260421T142916Z
DTSTART;TZID=Europe/Berlin:20240920T201500
DTEND;TZID=Europe/Berlin:20240920T231500
SUMMARY:He 2. Liga Gr. 1 Schenkon II vs Baar II (0)
UID:053e7860-08a6-42bd-8eb9-409ac04fa682
STATUS:CONFIRMED
LAST-MODIFIED:20240923T140327Z
DESCRIPTION:2. Liga Herren Gruppe 1\nBegegnungs-Nr: 0\nHeim: Schenkon II\nGast: Baar II\n6214 Schenkon\n
LOCATION:6214 Schenkon
CATEGORIES:Saison 2024/25
END:VEVENT
BEGIN:VEVENT
DTSTAMP:20260421T142916Z
DTSTART;TZID=Europe/Berlin:20250314T201500
DTEND;TZID=Europe/Berlin:20250314T231500
SUMMARY:He 2. Liga Gr. 1 Schenkon II vs Sarnen II (0)
UID:395b5708-0780-45e8-b4f6-855f11df56b2
STATUS:CONFIRMED
LAST-MODIFIED:20250320T183400Z
DESCRIPTION:2. Liga Herren Gruppe 1\nBegegnungs-Nr: 0\nHeim: Schenkon II\nGast: Sarnen II\n6214 Schenkon\n
LOCATION:6214 Schenkon
CATEGORIES:Saison 2024/25
END:VEVENT
BEGIN:VEVENT
DTSTAMP:20260421T142916Z
DTSTART;TZID=Europe/Berlin:20241122T201500
DTEND;TZID=Europe/Berlin:20241122T231500
SUMMARY:He 2. Liga Gr. 1 Schenkon II vs Kriens IV (0)
UID:81e392c3-ef6b-47c9-98ab-6e366cdb5f81
STATUS:CONFIRMED
LAST-MODIFIED:20241129T103557Z
DESCRIPTION:2. Liga Herren Gruppe 1\nBegegnungs-Nr: 0\nHeim: Schenkon II\nGast: Kriens IV\n6214 Schenkon\n
LOCATION:6214 Schenkon
CATEGORIES:Saison 2024/25
END:VEVENT
BEGIN:VEVENT
DTSTAMP:20260421T142916Z
DTSTART;TZID=Europe/Berlin:20241206T201500
DTEND;TZID=Europe/Berlin:20241206T231500
SUMMARY:He 2. Liga Gr. 1 Schenkon II vs Rotkreuz (0)
UID:8eb1ced8-37ea-4449-9f95-e67acc5b32a7
STATUS:CONFIRMED
LAST-MODIFIED:20241210T110052Z
DESCRIPTION:2. Liga Herren Gruppe 1\nBegegnungs-Nr: 0\nHeim: Schenkon II\nGast: Rotkreuz\n6214 Schenkon\n
LOCATION:6214 Schenkon
CATEGORIES:Saison 2024/25
END:VEVENT
BEGIN:VEVENT
DTSTAMP:20260421T142916Z
DTSTART;TZID=Europe/Berlin:20250110T201500
DTEND;TZID=Europe/Berlin:20250110T231500
SUMMARY:He 2. Liga Gr. 1 Schenkon II vs Reussbühl II (0)
UID:57c896f4-420d-4366-a4dc-b41339e1896c
STATUS:CONFIRMED
LAST-MODIFIED:20250112T155011Z
DESCRIPTION:2. Liga Herren Gruppe 1\nBegegnungs-Nr: 0\nHeim: Schenkon II\nGast: Reussbühl II\n6214 Schenkon\n
LOCATION:6214 Schenkon
CATEGORIES:Saison 2024/25
END:VEVENT
BEGIN:VEVENT
DTSTAMP:20260421T142916Z
DTSTART;TZID=Europe/Berlin:20241220T201500
DTEND;TZID=Europe/Berlin:20241220T231500
SUMMARY:He 2. Liga Gr. 1 Schenkon II vs Emmen (0)
UID:88ec685c-63ca-45c2-b989-ba5a6cfcae70
STATUS:CONFIRMED
LAST-MODIFIED:20241223T171258Z
DESCRIPTION:2. Liga Herren Gruppe 1\nBegegnungs-Nr: 0\nHeim: Schenkon II\nGast: Emmen\n6214 Schenkon\n
LOCATION:6214 Schenkon
CATEGORIES:Saison 2024/25
END:VEVENT
BEGIN:VEVENT
DTSTAMP:20260421T142916Z
DTSTART;TZID=Europe/Berlin:20250321T201500
DTEND;TZID=Europe/Berlin:20250321T231500
SUMMARY:He 2. Liga Gr. 1 Schenkon II vs Rapid Luzern VI (0)
UID:bfb67b7a-710d-4473-8364-fe679008f07e
STATUS:CONFIRMED
LAST-MODIFIED:20250326T151949Z
DESCRIPTION:2. Liga Herren Gruppe 1\nBegegnungs-Nr: 0\nHeim: Schenkon II\nGast: Rapid Luzern VI\n6214 Schenkon\n
LOCATION:6214 Schenkon
CATEGORIES:Saison 2024/25
END:VEVENT
BEGIN:VEVENT
DTSTAMP:20260421T142916Z
DTSTART;TZID=Europe/Berlin:20240906T200000
DTEND;TZID=Europe/Berlin:20240906T230000
SUMMARY:He 2. Liga Gr. 1 Rotkreuz vs Schenkon II (0)
UID:a9b69391-bf88-4f38-8947-ec4452a7ca8d
STATUS:CONFIRMED
LAST-MODIFIED:20240911T140301Z
DESCRIPTION:2. Liga Herren Gruppe 1\nBegegnungs-Nr: 0\nHeim: Rotkreuz\nGast: Schenkon II\n\nAdresse: Buonaserstr. 23\, 6343 Rotkreuz\n
LOCATION:Buonaserstr. 23\, 6343 Rotkreuz
CATEGORIES:Saison 2024/25
END:VEVENT
BEGIN:VEVENT
DTSTAMP:20260421T142916Z
DTSTART;TZID=Europe/Berlin:20241024T200000
DTEND;TZID=Europe/Berlin:20241024T230000
SUMMARY:He 2. Liga Gr. 1 Reussbühl II vs Schenkon II (0)
UID:3cee137d-633f-440d-854a-ec3d8647dab3
STATUS:CONFIRMED
LAST-MODIFIED:20241027T093256Z
DESCRIPTION:2. Liga Herren Gruppe 1\nBegegnungs-Nr: 0\nHeim: Reussbühl II\nGast: Schenkon II\n\nAdresse: Obermättlistrasse 44\, 6015 Luzern\n
LOCATION:Obermättlistrasse 44\, 6015 Luzern
CATEGORIES:Saison 2024/25
END:VEVENT
BEGIN:VEVENT
DTSTAMP:20260421T142916Z
DTSTART;TZID=Europe/Berlin:20241112T194500
DTEND;TZID=Europe/Berlin:20241112T224500
SUMMARY:He 2. Liga Gr. 1 Emmen vs Schenkon II (0)
UID:740c0149-645e-4186-ae47-5508b5194060
STATUS:CONFIRMED
LAST-MODIFIED:20241113T143622Z
DESCRIPTION:2. Liga Herren Gruppe 1\nBegegnungs-Nr: 0\nHeim: Emmen\nGast: Schenkon II\n\nAdresse: Rüeggisingerstrasse 26\, 6020 Emmenbrücke\n
LOCATION:Rüeggisingerstrasse 26\, 6020 Emmenbrücke
CATEGORIES:Saison 2024/25
END:VEVENT
BEGIN:VEVENT
DTSTAMP:20260421T142916Z
DTSTART;TZID=Europe/Berlin:20241019T130000
DTEND;TZID=Europe/Berlin:20241019T160000
SUMMARY:He 2. Liga Gr. 1 Rapid Luzern VI vs Schenkon II (0)
UID:723e2ae9-2ee0-4b1e-9b90-66ad5694e1b6
STATUS:CONFIRMED
LAST-MODIFIED:20241022T163001Z
DESCRIPTION:2. Liga Herren Gruppe 1\nBegegnungs-Nr: 0\nHeim: Rapid Luzern VI\nGast: Schenkon II\n\nAdresse: Kreuzbuchstr. 60\, 6006 Luzern\n
LOCATION:Kreuzbuchstr. 60\, 6006 Luzern
CATEGORIES:Saison 2024/25
END:VEVENT
BEGIN:VEVENT
DTSTAMP:20260421T142916Z
DTSTART;TZID=Europe/Berlin:20241209T200000
DTEND;TZID=Europe/Berlin:20241209T230000
SUMMARY:He 2. Liga Gr. 1 Baar II vs Schenkon II (0)
UID:5e2dd478-22ec-402a-a693-0edd865921e1
STATUS:CONFIRMED
LAST-MODIFIED:20241210T110115Z
DESCRIPTION:2. Liga Herren Gruppe 1\nBegegnungs-Nr: 0\nHeim: Baar II\nGast: Schenkon II\n\nAdresse: Rigistrasse 175/177\, 6340 Baar\n
LOCATION:Rigistrasse 175/177\, 6340 Baar
CATEGORIES:Saison 2024/25
END:VEVENT
BEGIN:VEVENT
DTSTAMP:20260421T142916Z
DTSTART;TZID=Europe/Berlin:20250222T150000
DTEND;TZID=Europe/Berlin:20250222T180000
SUMMARY:He 2. Liga Gr. 1 Sarnen II vs Schenkon II (0)
UID:0f541535-5bb6-4eec-88b9-7fee1065ff2d
STATUS:CONFIRMED
LAST-MODIFIED:20250226T101521Z
DESCRIPTION:2. Liga Herren Gruppe 1\nBegegnungs-Nr: 0\nHeim: Sarnen II\nGast: Schenkon II\n\nAdresse: Wilerstr. 65\, 6062 Wilen (Sarnen)\n
LOCATION:Wilerstr. 65\, 6062 Wilen (Sarnen)
CATEGORIES:Saison 2024/25
END:VEVENT
BEGIN:VEVENT
DTSTAMP:20260421T142916Z
DTSTART;TZID=Europe/Berlin:20250218T200000
DTEND;TZID=Europe/Berlin:20250218T230000
SUMMARY:He 2. Liga Gr. 1 Kriens IV vs Schenkon II (0)
UID:77ce519e-a079-41de-bff5-0562033bae72
STATUS:CONFIRMED
LAST-MODIFIED:20250219T080714Z
DESCRIPTION:2. Liga Herren Gruppe 1\nBegegnungs-Nr: 0\nHeim: Kriens IV\nGast: Schenkon II\n\nAdresse: Krauerstrasse 1\, 6010 Kriens\n
LOCATION:Krauerstrasse 1\, 6010 Kriens
CATEGORIES:Saison 2024/25
END:VEVENT
END:VCALENDAR
