BEGIN:VCALENDAR
PRODID:-//nuDatenautomaten//framework iCal4j //DE
VERSION:2.0
CALSCALE:GREGORIAN
BEGIN:VTIMEZONE
TZID:Europe/Berlin
LAST-MODIFIED:20260306T231828Z
TZURL:https://www.tzurl.org/zoneinfo/Europe/Berlin
X-LIC-LOCATION:Europe/Berlin
X-PROLEPTIC-TZNAME:LMT
BEGIN:STANDARD
TZNAME:CET
TZOFFSETFROM:+005328
TZOFFSETTO:+0100
DTSTART:18930401T000000
END:STANDARD
BEGIN:DAYLIGHT
TZNAME:CEST
TZOFFSETFROM:+0100
TZOFFSETTO:+0200
DTSTART:19160430T230000
RDATE:19400401T020000
RDATE:19430329T020000
RDATE:19460414T020000
RDATE:19470406T030000
RDATE:19480418T020000
RDATE:19490410T020000
RDATE:19800406T020000
END:DAYLIGHT
BEGIN:STANDARD
TZNAME:CET
TZOFFSETFROM:+0200
TZOFFSETTO:+0100
DTSTART:19161001T010000
RDATE:19421102T030000
RDATE:19431004T030000
RDATE:19441002T030000
RDATE:19451118T030000
RDATE:19461007T030000
END:STANDARD
BEGIN:DAYLIGHT
TZNAME:CEST
TZOFFSETFROM:+0100
TZOFFSETTO:+0200
DTSTART:19170416T020000
RRULE:FREQ=YEARLY;UNTIL=19180415T010000Z;BYMONTH=4;BYDAY=3MO
END:DAYLIGHT
BEGIN:STANDARD
TZNAME:CET
TZOFFSETFROM:+0200
TZOFFSETTO:+0100
DTSTART:19170917T030000
RRULE:FREQ=YEARLY;UNTIL=19180916T010000Z;BYMONTH=9;BYDAY=3MO
END:STANDARD
BEGIN:DAYLIGHT
TZNAME:CEST
TZOFFSETFROM:+0100
TZOFFSETTO:+0200
DTSTART:19440403T020000
RRULE:FREQ=YEARLY;UNTIL=19450402T010000Z;BYMONTH=4;BYDAY=1MO
END:DAYLIGHT
BEGIN:DAYLIGHT
TZNAME:CEMT
TZOFFSETFROM:+0200
TZOFFSETTO:+0300
DTSTART:19450524T020000
RDATE:19470511T030000
END:DAYLIGHT
BEGIN:DAYLIGHT
TZNAME:CEST
TZOFFSETFROM:+0300
TZOFFSETTO:+0200
DTSTART:19450924T030000
RDATE:19470629T030000
END:DAYLIGHT
BEGIN:STANDARD
TZNAME:CET
TZOFFSETFROM:+0100
TZOFFSETTO:+0100
DTSTART:19460101T000000
RDATE:19800101T000000
END:STANDARD
BEGIN:STANDARD
TZNAME:CET
TZOFFSETFROM:+0200
TZOFFSETTO:+0100
DTSTART:19471005T030000
RRULE:FREQ=YEARLY;UNTIL=19491002T010000Z;BYMONTH=10;BYDAY=1SU
END:STANDARD
BEGIN:STANDARD
TZNAME:CET
TZOFFSETFROM:+0200
TZOFFSETTO:+0100
DTSTART:19800928T030000
RRULE:FREQ=YEARLY;UNTIL=19950924T010000Z;BYMONTH=9;BYDAY=-1SU
END:STANDARD
BEGIN:DAYLIGHT
TZNAME:CEST
TZOFFSETFROM:+0100
TZOFFSETTO:+0200
DTSTART:19810329T020000
RRULE:FREQ=YEARLY;BYMONTH=3;BYDAY=-1SU
END:DAYLIGHT
BEGIN:STANDARD
TZNAME:CET
TZOFFSETFROM:+0200
TZOFFSETTO:+0100
DTSTART:19961027T030000
RRULE:FREQ=YEARLY;BYMONTH=10;BYDAY=-1SU
END:STANDARD
END:VTIMEZONE
BEGIN:VEVENT
DTSTAMP:20260425T005106Z
DTSTART;TZID=Europe/Berlin:20250506T201500
DTEND;TZID=Europe/Berlin:20250506T231500
SUMMARY:HE 4.Liga Abstieg St. Gallen VI vs Ettenhausen II (411)
UID:4ae76e3d-376d-4caf-9b58-042d23fdbd1f
STATUS:CONFIRMED
LAST-MODIFIED:20250508T082233Z
DESCRIPTION:4. Liga Herren Abstieg\nBegegnungs-Nr: 411\nHeim: St. Gallen VI\nGast: Ettenhausen II\n
LOCATION:
CATEGORIES:Saison 2024/25
END:VEVENT
BEGIN:VEVENT
DTSTAMP:20260425T005106Z
DTSTART;TZID=Europe/Berlin:20241203T200000
DTEND;TZID=Europe/Berlin:20241203T230000
SUMMARY:HE 4. Liga Gr. 1 St. Gallen VI vs Romanshorn III (0)
UID:6e1b0b18-5731-4652-8da4-c7a629fddbf7
STATUS:CONFIRMED
LAST-MODIFIED:20241205T085839Z
DESCRIPTION:4. Liga Herren Gruppe 1\nBegegnungs-Nr: 0\nHeim: St. Gallen VI\nGast: Romanshorn III\n\nAdresse: Zilstrasse 61\, 9016 St.Gallen\n
LOCATION:Zilstrasse 61\, 9016 St.Gallen
CATEGORIES:Saison 2024/25
END:VEVENT
BEGIN:VEVENT
DTSTAMP:20260425T005106Z
DTSTART;TZID=Europe/Berlin:20241105T200000
DTEND;TZID=Europe/Berlin:20241105T230000
SUMMARY:HE 4. Liga Gr. 1 St. Gallen VI vs Wolfhalden II (0)
UID:f235696d-08f4-4d61-b29d-1776ff45b523
STATUS:CONFIRMED
LAST-MODIFIED:20241108T134502Z
DESCRIPTION:4. Liga Herren Gruppe 1\nBegegnungs-Nr: 0\nHeim: St. Gallen VI\nGast: Wolfhalden II\n\nAdresse: Zilstrasse 61\, 9016 St.Gallen\n
LOCATION:Zilstrasse 61\, 9016 St.Gallen
CATEGORIES:Saison 2024/25
END:VEVENT
BEGIN:VEVENT
DTSTAMP:20260425T005106Z
DTSTART;TZID=Europe/Berlin:20240917T200000
DTEND;TZID=Europe/Berlin:20240917T230000
SUMMARY:HE 4. Liga Gr. 1 St. Gallen VI vs Oberriet III (0)
UID:e80d25d8-a543-449b-9563-10907ca1f352
STATUS:CONFIRMED
LAST-MODIFIED:20240918T101749Z
DESCRIPTION:4. Liga Herren Gruppe 1\nBegegnungs-Nr: 0\nHeim: St. Gallen VI\nGast: Oberriet III\n\nAdresse: Zilstrasse 61\, 9016 St.Gallen\n
LOCATION:Zilstrasse 61\, 9016 St.Gallen
CATEGORIES:Saison 2024/25
END:VEVENT
BEGIN:VEVENT
DTSTAMP:20260425T005106Z
DTSTART;TZID=Europe/Berlin:20240827T200000
DTEND;TZID=Europe/Berlin:20240827T230000
SUMMARY:HE 4. Liga Gr. 1 St. Gallen VI vs Wuppenau (0)
UID:3db9883a-c411-48d0-bda4-1581347f86e5
STATUS:CONFIRMED
LAST-MODIFIED:20240830T092140Z
DESCRIPTION:4. Liga Herren Gruppe 1\nBegegnungs-Nr: 0\nHeim: St. Gallen VI\nGast: Wuppenau\n\nAdresse: Zilstrasse 61\, 9016 St.Gallen\n
LOCATION:Zilstrasse 61\, 9016 St.Gallen
CATEGORIES:Saison 2024/25
END:VEVENT
BEGIN:VEVENT
DTSTAMP:20260425T005106Z
DTSTART;TZID=Europe/Berlin:20250304T200000
DTEND;TZID=Europe/Berlin:20250304T230000
SUMMARY:HE 4. Liga Gr. 1 St. Gallen VI vs Rorschach (0)
UID:21ce18a3-fa7b-4915-8c52-24d72c8f003d
STATUS:CONFIRMED
LAST-MODIFIED:20250306T142312Z
DESCRIPTION:4. Liga Herren Gruppe 1\nBegegnungs-Nr: 0\nHeim: St. Gallen VI\nGast: Rorschach\n\nAdresse: Zilstrasse 61\, 9016 St.Gallen\n
LOCATION:Zilstrasse 61\, 9016 St.Gallen
CATEGORIES:Saison 2024/25
END:VEVENT
BEGIN:VEVENT
DTSTAMP:20260425T005106Z
DTSTART;TZID=Europe/Berlin:20250211T200000
DTEND;TZID=Europe/Berlin:20250211T230000
SUMMARY:HE 4. Liga Gr. 1 St. Gallen VI vs Muolen III (0)
UID:be91f267-d24d-4611-8676-36179d97f302
STATUS:CONFIRMED
LAST-MODIFIED:20250220T101842Z
DESCRIPTION:4. Liga Herren Gruppe 1\nBegegnungs-Nr: 0\nHeim: St. Gallen VI\nGast: Muolen III\n\nAdresse: Zilstrasse 61\, 9016 St.Gallen\n
LOCATION:Zilstrasse 61\, 9016 St.Gallen
CATEGORIES:Saison 2024/25
END:VEVENT
BEGIN:VEVENT
DTSTAMP:20260425T005106Z
DTSTART;TZID=Europe/Berlin:20250121T200000
DTEND;TZID=Europe/Berlin:20250121T230000
SUMMARY:HE 4. Liga Gr. 1 St. Gallen VI vs Herisau II (0)
UID:ea6a0d93-5e8e-4302-8601-3068f38856e8
STATUS:CONFIRMED
LAST-MODIFIED:20250123T071524Z
DESCRIPTION:4. Liga Herren Gruppe 1\nBegegnungs-Nr: 0\nHeim: St. Gallen VI\nGast: Herisau II\n\nAdresse: Zilstrasse 61\, 9016 St.Gallen\n
LOCATION:Zilstrasse 61\, 9016 St.Gallen
CATEGORIES:Saison 2024/25
END:VEVENT
BEGIN:VEVENT
DTSTAMP:20260425T005106Z
DTSTART;TZID=Europe/Berlin:20241022T200000
DTEND;TZID=Europe/Berlin:20241022T230000
SUMMARY:HE 4. Liga Gr. 1 Rorschach vs St. Gallen VI (0)
UID:7b0335e8-421a-4b1c-aca4-57227a358417
STATUS:CONFIRMED
LAST-MODIFIED:20241023T080946Z
DESCRIPTION:4. Liga Herren Gruppe 1\nBegegnungs-Nr: 0\nHeim: Rorschach\nGast: St. Gallen VI\n\nAdresse: Mariabergstrasse 33\, 9400 Rorschach\n
LOCATION:Mariabergstrasse 33\, 9400 Rorschach
CATEGORIES:Saison 2024/25
END:VEVENT
BEGIN:VEVENT
DTSTAMP:20260425T005106Z
DTSTART;TZID=Europe/Berlin:20240923T200000
DTEND;TZID=Europe/Berlin:20240923T230000
SUMMARY:HE 4. Liga Gr. 1 Muolen III vs St. Gallen VI (0)
UID:a60372db-8bb6-4172-a6e1-23d6cc10df68
STATUS:CONFIRMED
LAST-MODIFIED:20240926T114711Z
DESCRIPTION:4. Liga Herren Gruppe 1\nBegegnungs-Nr: 0\nHeim: Muolen III\nGast: St. Gallen VI\n\nAdresse: Olmishauserstrasse 3\, 9314 Steinebrunn\n
LOCATION:Olmishauserstrasse 3\, 9314 Steinebrunn
CATEGORIES:Saison 2024/25
END:VEVENT
BEGIN:VEVENT
DTSTAMP:20260425T005106Z
DTSTART;TZID=Europe/Berlin:20240903T201500
DTEND;TZID=Europe/Berlin:20240903T231500
SUMMARY:HE 4. Liga Gr. 1 Herisau II vs St. Gallen VI (0)
UID:8e007e09-c735-4374-a154-d0be1300334e
STATUS:CONFIRMED
LAST-MODIFIED:20240904T115319Z
DESCRIPTION:4. Liga Herren Gruppe 1\nBegegnungs-Nr: 0\nHeim: Herisau II\nGast: St. Gallen VI\n\nAdresse: Schwellbrunnerstrasse 29\, 9100 Herisau\n
LOCATION:Schwellbrunnerstrasse 29\, 9100 Herisau
CATEGORIES:Saison 2024/25
END:VEVENT
BEGIN:VEVENT
DTSTAMP:20260425T005106Z
DTSTART;TZID=Europe/Berlin:20250220T201500
DTEND;TZID=Europe/Berlin:20250220T231500
SUMMARY:HE 4. Liga Gr. 1 Romanshorn III vs St. Gallen VI (0)
UID:fe2233b1-67fc-40a6-9a43-46df81b13e54
STATUS:CONFIRMED
LAST-MODIFIED:20250227T112527Z
DESCRIPTION:4. Liga Herren Gruppe 1\nBegegnungs-Nr: 0\nHeim: Romanshorn III\nGast: St. Gallen VI\n\nAdresse: Florastrasse\, 8590 Romanshorn\n
LOCATION:Florastrasse\, 8590 Romanshorn
CATEGORIES:Saison 2024/25
END:VEVENT
BEGIN:VEVENT
DTSTAMP:20260425T005106Z
DTSTART;TZID=Europe/Berlin:20250310T200000
DTEND;TZID=Europe/Berlin:20250310T230000
SUMMARY:HE 4. Liga Gr. 1 Wolfhalden II vs St. Gallen VI (0)
UID:cf6c4cf2-c49f-4fa0-bf36-0bfefbd06d2e
STATUS:CONFIRMED
LAST-MODIFIED:20250311T151033Z
DESCRIPTION:4. Liga Herren Gruppe 1\nBegegnungs-Nr: 0\nHeim: Wolfhalden II\nGast: St. Gallen VI\n\nAdresse: -\, 9427 Wolfhalden\n
LOCATION:-\, 9427 Wolfhalden
CATEGORIES:Saison 2024/25
END:VEVENT
BEGIN:VEVENT
DTSTAMP:20260425T005106Z
DTSTART;TZID=Europe/Berlin:20250131T201500
DTEND;TZID=Europe/Berlin:20250131T231500
SUMMARY:HE 4. Liga Gr. 1 Oberriet III vs St. Gallen VI (0)
UID:91129ce6-9a4b-4dc5-b2a8-c0153b6d664f
STATUS:CONFIRMED
LAST-MODIFIED:20250219T154051Z
DESCRIPTION:4. Liga Herren Gruppe 1\nBegegnungs-Nr: 0\nHeim: Oberriet III\nGast: St. Gallen VI\n\nAdresse: Neugutstrasse 2\, 9463 Oberriet SG\n
LOCATION:Neugutstrasse 2\, 9463 Oberriet SG
CATEGORIES:Saison 2024/25
END:VEVENT
BEGIN:VEVENT
DTSTAMP:20260425T005106Z
DTSTART;TZID=Europe/Berlin:20241125T201500
DTEND;TZID=Europe/Berlin:20241125T231500
SUMMARY:HE 4. Liga Gr. 1 Wuppenau vs St. Gallen VI (0)
UID:610e129e-233e-4f16-ac6c-8527f08b30da
STATUS:CONFIRMED
LAST-MODIFIED:20241126T082352Z
DESCRIPTION:4. Liga Herren Gruppe 1\nBegegnungs-Nr: 0\nHeim: Wuppenau\nGast: St. Gallen VI\n\nAdresse: Nollenstrasse\, 9514 Wuppenau\n
LOCATION:Nollenstrasse\, 9514 Wuppenau
CATEGORIES:Saison 2024/25
END:VEVENT
END:VCALENDAR
