BEGIN:VCALENDAR
PRODID:-//nuDatenautomaten//framework iCal4j //DE
VERSION:2.0
CALSCALE:GREGORIAN
BEGIN:VTIMEZONE
TZID:Europe/Berlin
LAST-MODIFIED:20260306T231828Z
TZURL:https://www.tzurl.org/zoneinfo/Europe/Berlin
X-LIC-LOCATION:Europe/Berlin
X-PROLEPTIC-TZNAME:LMT
BEGIN:STANDARD
TZNAME:CET
TZOFFSETFROM:+005328
TZOFFSETTO:+0100
DTSTART:18930401T000000
END:STANDARD
BEGIN:DAYLIGHT
TZNAME:CEST
TZOFFSETFROM:+0100
TZOFFSETTO:+0200
DTSTART:19160430T230000
RDATE:19400401T020000
RDATE:19430329T020000
RDATE:19460414T020000
RDATE:19470406T030000
RDATE:19480418T020000
RDATE:19490410T020000
RDATE:19800406T020000
END:DAYLIGHT
BEGIN:STANDARD
TZNAME:CET
TZOFFSETFROM:+0200
TZOFFSETTO:+0100
DTSTART:19161001T010000
RDATE:19421102T030000
RDATE:19431004T030000
RDATE:19441002T030000
RDATE:19451118T030000
RDATE:19461007T030000
END:STANDARD
BEGIN:DAYLIGHT
TZNAME:CEST
TZOFFSETFROM:+0100
TZOFFSETTO:+0200
DTSTART:19170416T020000
RRULE:FREQ=YEARLY;UNTIL=19180415T010000Z;BYMONTH=4;BYDAY=3MO
END:DAYLIGHT
BEGIN:STANDARD
TZNAME:CET
TZOFFSETFROM:+0200
TZOFFSETTO:+0100
DTSTART:19170917T030000
RRULE:FREQ=YEARLY;UNTIL=19180916T010000Z;BYMONTH=9;BYDAY=3MO
END:STANDARD
BEGIN:DAYLIGHT
TZNAME:CEST
TZOFFSETFROM:+0100
TZOFFSETTO:+0200
DTSTART:19440403T020000
RRULE:FREQ=YEARLY;UNTIL=19450402T010000Z;BYMONTH=4;BYDAY=1MO
END:DAYLIGHT
BEGIN:DAYLIGHT
TZNAME:CEMT
TZOFFSETFROM:+0200
TZOFFSETTO:+0300
DTSTART:19450524T020000
RDATE:19470511T030000
END:DAYLIGHT
BEGIN:DAYLIGHT
TZNAME:CEST
TZOFFSETFROM:+0300
TZOFFSETTO:+0200
DTSTART:19450924T030000
RDATE:19470629T030000
END:DAYLIGHT
BEGIN:STANDARD
TZNAME:CET
TZOFFSETFROM:+0100
TZOFFSETTO:+0100
DTSTART:19460101T000000
RDATE:19800101T000000
END:STANDARD
BEGIN:STANDARD
TZNAME:CET
TZOFFSETFROM:+0200
TZOFFSETTO:+0100
DTSTART:19471005T030000
RRULE:FREQ=YEARLY;UNTIL=19491002T010000Z;BYMONTH=10;BYDAY=1SU
END:STANDARD
BEGIN:STANDARD
TZNAME:CET
TZOFFSETFROM:+0200
TZOFFSETTO:+0100
DTSTART:19800928T030000
RRULE:FREQ=YEARLY;UNTIL=19950924T010000Z;BYMONTH=9;BYDAY=-1SU
END:STANDARD
BEGIN:DAYLIGHT
TZNAME:CEST
TZOFFSETFROM:+0100
TZOFFSETTO:+0200
DTSTART:19810329T020000
RRULE:FREQ=YEARLY;BYMONTH=3;BYDAY=-1SU
END:DAYLIGHT
BEGIN:STANDARD
TZNAME:CET
TZOFFSETFROM:+0200
TZOFFSETTO:+0100
DTSTART:19961027T030000
RRULE:FREQ=YEARLY;BYMONTH=10;BYDAY=-1SU
END:STANDARD
END:VTIMEZONE
BEGIN:VEVENT
DTSTAMP:20260425T005112Z
DTSTART;TZID=Europe/Berlin:20250221T201500
DTEND;TZID=Europe/Berlin:20250221T231500
SUMMARY:HE 3. Liga Gr. 1 Oberriet vs Wolfhalden (0)
UID:62d50780-370e-4d76-bee9-c5635e4c13b7
STATUS:CONFIRMED
LAST-MODIFIED:20250227T112328Z
DESCRIPTION:3. Liga Herren Gruppe 1\nBegegnungs-Nr: 0\nHeim: Oberriet\nGast: Wolfhalden\n\nAdresse: Neugutstrasse 2\, 9463 Oberriet SG\n
LOCATION:Neugutstrasse 2\, 9463 Oberriet SG
CATEGORIES:Saison 2024/25
END:VEVENT
BEGIN:VEVENT
DTSTAMP:20260425T005112Z
DTSTART;TZID=Europe/Berlin:20250205T201500
DTEND;TZID=Europe/Berlin:20250205T231500
SUMMARY:HE 3. Liga Gr. 1 Oberriet vs Flums II (0)
UID:023d7035-108f-4e2d-9909-008600f64724
STATUS:CONFIRMED
LAST-MODIFIED:20250206T140548Z
DESCRIPTION:3. Liga Herren Gruppe 1\nBegegnungs-Nr: 0\nHeim: Oberriet\nGast: Flums II\n\nAdresse: Neugutstrasse 2\, 9463 Oberriet SG\n
LOCATION:Neugutstrasse 2\, 9463 Oberriet SG
CATEGORIES:Saison 2024/25
END:VEVENT
BEGIN:VEVENT
DTSTAMP:20260425T005112Z
DTSTART;TZID=Europe/Berlin:20240927T201500
DTEND;TZID=Europe/Berlin:20240927T231500
SUMMARY:HE 3. Liga Gr. 1 Oberriet vs St. Gallen V (0)
UID:ce2d8958-a6d4-4ddd-88fc-7b436d5ea4e4
STATUS:CONFIRMED
LAST-MODIFIED:20240930T124357Z
DESCRIPTION:3. Liga Herren Gruppe 1\nBegegnungs-Nr: 0\nHeim: Oberriet\nGast: St. Gallen V\n\nAdresse: Neugutstrasse 2\, 9463 Oberriet SG\n
LOCATION:Neugutstrasse 2\, 9463 Oberriet SG
CATEGORIES:Saison 2024/25
END:VEVENT
BEGIN:VEVENT
DTSTAMP:20260425T005112Z
DTSTART;TZID=Europe/Berlin:20240906T201500
DTEND;TZID=Europe/Berlin:20240906T231500
SUMMARY:HE 3. Liga Gr. 1 Oberriet vs Chur III (0)
UID:640f7271-2ed2-4563-80ff-ba10515c0a90
STATUS:CONFIRMED
LAST-MODIFIED:20240912T072629Z
DESCRIPTION:3. Liga Herren Gruppe 1\nBegegnungs-Nr: 0\nHeim: Oberriet\nGast: Chur III\n\nAdresse: Neugutstrasse 2\, 9463 Oberriet SG\n
LOCATION:Neugutstrasse 2\, 9463 Oberriet SG
CATEGORIES:Saison 2024/25
END:VEVENT
BEGIN:VEVENT
DTSTAMP:20260425T005112Z
DTSTART;TZID=Europe/Berlin:20240830T201500
DTEND;TZID=Europe/Berlin:20240830T231500
SUMMARY:HE 3. Liga Gr. 1 Oberriet vs Horn (0)
UID:21f165f0-e507-41b8-9e88-73b15ff389a5
STATUS:CONFIRMED
LAST-MODIFIED:20240904T092016Z
DESCRIPTION:3. Liga Herren Gruppe 1\nBegegnungs-Nr: 0\nHeim: Oberriet\nGast: Horn\n\nAdresse: Neugutstrasse 2\, 9463 Oberriet SG\n
LOCATION:Neugutstrasse 2\, 9463 Oberriet SG
CATEGORIES:Saison 2024/25
END:VEVENT
BEGIN:VEVENT
DTSTAMP:20260425T005112Z
DTSTART;TZID=Europe/Berlin:20241211T201500
DTEND;TZID=Europe/Berlin:20241211T231500
SUMMARY:HE 3. Liga Gr. 1 Oberriet vs Ruggell (0)
UID:478e8261-1a94-40e7-bc02-34272dc060c1
STATUS:CONFIRMED
LAST-MODIFIED:20241212T091728Z
DESCRIPTION:3. Liga Herren Gruppe 1\nBegegnungs-Nr: 0\nHeim: Oberriet\nGast: Ruggell\n\nAdresse: Neugutstrasse 2\, 9463 Oberriet SG\n
LOCATION:Neugutstrasse 2\, 9463 Oberriet SG
CATEGORIES:Saison 2024/25
END:VEVENT
BEGIN:VEVENT
DTSTAMP:20260425T005112Z
DTSTART;TZID=Europe/Berlin:20241115T201500
DTEND;TZID=Europe/Berlin:20241115T231500
SUMMARY:HE 3. Liga Gr. 1 Oberriet vs Schaan-Eschen/Mauren (0)
UID:056ae096-1d3e-4828-9d0b-d8e35b6e7e43
STATUS:CONFIRMED
LAST-MODIFIED:20241122T150617Z
DESCRIPTION:3. Liga Herren Gruppe 1\nBegegnungs-Nr: 0\nHeim: Oberriet\nGast: Schaan-Eschen/Mauren\n\nAdresse: Neugutstrasse 2\, 9463 Oberriet SG\n
LOCATION:Neugutstrasse 2\, 9463 Oberriet SG
CATEGORIES:Saison 2024/25
END:VEVENT
BEGIN:VEVENT
DTSTAMP:20260425T005112Z
DTSTART;TZID=Europe/Berlin:20250327T200000
DTEND;TZID=Europe/Berlin:20250327T230000
SUMMARY:HE 3. Liga Gr. 1 Ruggell vs Oberriet (0)
UID:7a571ac0-a39f-44f6-8fe9-30573ca44818
STATUS:CONFIRMED
LAST-MODIFIED:20250402T101820Z
DESCRIPTION:3. Liga Herren Gruppe 1\nBegegnungs-Nr: 0\nHeim: Ruggell\nGast: Oberriet\n\nAdresse: Nellengasse 40\, 9491 Ruggell\n
LOCATION:Nellengasse 40\, 9491 Ruggell
CATEGORIES:Saison 2024/25
END:VEVENT
BEGIN:VEVENT
DTSTAMP:20260425T005112Z
DTSTART;TZID=Europe/Berlin:20250218T194500
DTEND;TZID=Europe/Berlin:20250218T224500
SUMMARY:HE 3. Liga Gr. 1 Schaan-Eschen/Mauren vs Oberriet (0)
UID:54c3894a-8ed4-424e-9271-b8a559e473be
STATUS:CONFIRMED
LAST-MODIFIED:20250219T112706Z
DESCRIPTION:3. Liga Herren Gruppe 1\nBegegnungs-Nr: 0\nHeim: Schaan-Eschen/Mauren\nGast: Oberriet\n\nAdresse: Simsgasse 10\, 9492 Eschen\n
LOCATION:Simsgasse 10\, 9492 Eschen
CATEGORIES:Saison 2024/25
END:VEVENT
BEGIN:VEVENT
DTSTAMP:20260425T005112Z
DTSTART;TZID=Europe/Berlin:20250214T200000
DTEND;TZID=Europe/Berlin:20250214T230000
SUMMARY:HE 3. Liga Gr. 1 St. Gallen V vs Oberriet (0)
UID:08be5d83-1340-4ffb-a314-2e1cb30acd9d
STATUS:CONFIRMED
LAST-MODIFIED:20250219T112654Z
DESCRIPTION:3. Liga Herren Gruppe 1\nBegegnungs-Nr: 0\nHeim: St. Gallen V\nGast: Oberriet\n\nAdresse: Zilstrasse 61\, 9016 St.Gallen\n
LOCATION:Zilstrasse 61\, 9016 St.Gallen
CATEGORIES:Saison 2024/25
END:VEVENT
BEGIN:VEVENT
DTSTAMP:20260425T005112Z
DTSTART;TZID=Europe/Berlin:20250120T200000
DTEND;TZID=Europe/Berlin:20250120T230000
SUMMARY:HE 3. Liga Gr. 1 Chur III vs Oberriet (0)
UID:21d99b91-6f3e-4afe-b84b-d7a075a12c74
STATUS:CONFIRMED
LAST-MODIFIED:20250123T070952Z
DESCRIPTION:3. Liga Herren Gruppe 1\nBegegnungs-Nr: 0\nHeim: Chur III\nGast: Oberriet\n\nAdresse: Sandstr. 35\, 7000 Chur\n
LOCATION:Sandstr. 35\, 7000 Chur
CATEGORIES:Saison 2024/25
END:VEVENT
BEGIN:VEVENT
DTSTAMP:20260425T005112Z
DTSTART;TZID=Europe/Berlin:20241217T200000
DTEND;TZID=Europe/Berlin:20241217T230000
SUMMARY:HE 3. Liga Gr. 1 Horn vs Oberriet (0)
UID:cd8cb996-c147-417d-a69b-16a2d7142ad1
STATUS:CONFIRMED
LAST-MODIFIED:20241219T105534Z
DESCRIPTION:3. Liga Herren Gruppe 1\nBegegnungs-Nr: 0\nHeim: Horn\nGast: Oberriet\n\nAdresse: Feldstrasse 16\, 9326 Horn\n
LOCATION:Feldstrasse 16\, 9326 Horn
CATEGORIES:Saison 2024/25
END:VEVENT
BEGIN:VEVENT
DTSTAMP:20260425T005112Z
DTSTART;TZID=Europe/Berlin:20240918T201500
DTEND;TZID=Europe/Berlin:20240918T231500
SUMMARY:HE 3. Liga Gr. 1 Flums II vs Oberriet (0)
UID:b9f83307-b7f2-4474-87af-b581d835be77
STATUS:CONFIRMED
LAST-MODIFIED:20240919T150746Z
DESCRIPTION:3. Liga Herren Gruppe 1\nBegegnungs-Nr: 0\nHeim: Flums II\nGast: Oberriet\n\nAdresse: Bahnhofstrasse 23\, 8890 Flums\n
LOCATION:Bahnhofstrasse 23\, 8890 Flums
CATEGORIES:Saison 2024/25
END:VEVENT
BEGIN:VEVENT
DTSTAMP:20260425T005112Z
DTSTART;TZID=Europe/Berlin:20241028T200000
DTEND;TZID=Europe/Berlin:20241028T230000
SUMMARY:HE 3. Liga Gr. 1 Wolfhalden vs Oberriet (0)
UID:36e43131-7435-4f60-988c-22ac3dd82098
STATUS:CONFIRMED
LAST-MODIFIED:20241030T102457Z
DESCRIPTION:3. Liga Herren Gruppe 1\nBegegnungs-Nr: 0\nHeim: Wolfhalden\nGast: Oberriet\n\nAdresse: -\, 9427 Wolfhalden\n
LOCATION:-\, 9427 Wolfhalden
CATEGORIES:Saison 2024/25
END:VEVENT
END:VCALENDAR
