BEGIN:VCALENDAR
PRODID:-//nuDatenautomaten//framework iCal4j //DE
VERSION:2.0
CALSCALE:GREGORIAN
BEGIN:VTIMEZONE
TZID:Europe/Berlin
LAST-MODIFIED:20260306T231828Z
TZURL:https://www.tzurl.org/zoneinfo/Europe/Berlin
X-LIC-LOCATION:Europe/Berlin
X-PROLEPTIC-TZNAME:LMT
BEGIN:STANDARD
TZNAME:CET
TZOFFSETFROM:+005328
TZOFFSETTO:+0100
DTSTART:18930401T000000
END:STANDARD
BEGIN:DAYLIGHT
TZNAME:CEST
TZOFFSETFROM:+0100
TZOFFSETTO:+0200
DTSTART:19160430T230000
RDATE:19400401T020000
RDATE:19430329T020000
RDATE:19460414T020000
RDATE:19470406T030000
RDATE:19480418T020000
RDATE:19490410T020000
RDATE:19800406T020000
END:DAYLIGHT
BEGIN:STANDARD
TZNAME:CET
TZOFFSETFROM:+0200
TZOFFSETTO:+0100
DTSTART:19161001T010000
RDATE:19421102T030000
RDATE:19431004T030000
RDATE:19441002T030000
RDATE:19451118T030000
RDATE:19461007T030000
END:STANDARD
BEGIN:DAYLIGHT
TZNAME:CEST
TZOFFSETFROM:+0100
TZOFFSETTO:+0200
DTSTART:19170416T020000
RRULE:FREQ=YEARLY;UNTIL=19180415T010000Z;BYMONTH=4;BYDAY=3MO
END:DAYLIGHT
BEGIN:STANDARD
TZNAME:CET
TZOFFSETFROM:+0200
TZOFFSETTO:+0100
DTSTART:19170917T030000
RRULE:FREQ=YEARLY;UNTIL=19180916T010000Z;BYMONTH=9;BYDAY=3MO
END:STANDARD
BEGIN:DAYLIGHT
TZNAME:CEST
TZOFFSETFROM:+0100
TZOFFSETTO:+0200
DTSTART:19440403T020000
RRULE:FREQ=YEARLY;UNTIL=19450402T010000Z;BYMONTH=4;BYDAY=1MO
END:DAYLIGHT
BEGIN:DAYLIGHT
TZNAME:CEMT
TZOFFSETFROM:+0200
TZOFFSETTO:+0300
DTSTART:19450524T020000
RDATE:19470511T030000
END:DAYLIGHT
BEGIN:DAYLIGHT
TZNAME:CEST
TZOFFSETFROM:+0300
TZOFFSETTO:+0200
DTSTART:19450924T030000
RDATE:19470629T030000
END:DAYLIGHT
BEGIN:STANDARD
TZNAME:CET
TZOFFSETFROM:+0100
TZOFFSETTO:+0100
DTSTART:19460101T000000
RDATE:19800101T000000
END:STANDARD
BEGIN:STANDARD
TZNAME:CET
TZOFFSETFROM:+0200
TZOFFSETTO:+0100
DTSTART:19471005T030000
RRULE:FREQ=YEARLY;UNTIL=19491002T010000Z;BYMONTH=10;BYDAY=1SU
END:STANDARD
BEGIN:STANDARD
TZNAME:CET
TZOFFSETFROM:+0200
TZOFFSETTO:+0100
DTSTART:19800928T030000
RRULE:FREQ=YEARLY;UNTIL=19950924T010000Z;BYMONTH=9;BYDAY=-1SU
END:STANDARD
BEGIN:DAYLIGHT
TZNAME:CEST
TZOFFSETFROM:+0100
TZOFFSETTO:+0200
DTSTART:19810329T020000
RRULE:FREQ=YEARLY;BYMONTH=3;BYDAY=-1SU
END:DAYLIGHT
BEGIN:STANDARD
TZNAME:CET
TZOFFSETFROM:+0200
TZOFFSETTO:+0100
DTSTART:19961027T030000
RRULE:FREQ=YEARLY;BYMONTH=10;BYDAY=-1SU
END:STANDARD
END:VTIMEZONE
BEGIN:VEVENT
DTSTAMP:20260425T032801Z
DTSTART;TZID=Europe/Berlin:20241105T193000
DTEND;TZID=Europe/Berlin:20241105T223000
SUMMARY:HE 4. Liga Gr. 3 Neuhausen IV vs Embrachertal III (0)
UID:0424dc9f-5613-410f-a96f-2f2b3fb63ed1
STATUS:CONFIRMED
LAST-MODIFIED:20241108T134609Z
DESCRIPTION:4. Liga Herren Gruppe 3\nBegegnungs-Nr: 0\nHeim: Neuhausen IV\nGast: Embrachertal III\n\nAdresse: Ebnatstrasse 35\, 8200 Schaffhausen\n
LOCATION:Ebnatstrasse 35\, 8200 Schaffhausen
CATEGORIES:Saison 2024/25
END:VEVENT
BEGIN:VEVENT
DTSTAMP:20260425T032801Z
DTSTART;TZID=Europe/Berlin:20240924T193000
DTEND;TZID=Europe/Berlin:20240924T223000
SUMMARY:HE 4. Liga Gr. 3 Neuhausen IV vs Winterthur III (0)
UID:cb3ad9c4-04ca-48b5-92bf-fdd9deac917f
STATUS:CONFIRMED
LAST-MODIFIED:20240926T114857Z
DESCRIPTION:4. Liga Herren Gruppe 3\nBegegnungs-Nr: 0\nHeim: Neuhausen IV\nGast: Winterthur III\n\nAdresse: Ebnatstrasse 35\, 8200 Schaffhausen\n
LOCATION:Ebnatstrasse 35\, 8200 Schaffhausen
CATEGORIES:Saison 2024/25
END:VEVENT
BEGIN:VEVENT
DTSTAMP:20260425T032801Z
DTSTART;TZID=Europe/Berlin:20240903T193000
DTEND;TZID=Europe/Berlin:20240903T223000
SUMMARY:HE 4. Liga Gr. 3 Neuhausen IV vs Diessenhofen (0)
UID:1423f7cd-e3d7-411a-925e-24a4ab067b1d
STATUS:CONFIRMED
LAST-MODIFIED:20240905T062951Z
DESCRIPTION:4. Liga Herren Gruppe 3\nBegegnungs-Nr: 0\nHeim: Neuhausen IV\nGast: Diessenhofen\n\nAdresse: Ebnatstrasse 35\, 8200 Schaffhausen\n
LOCATION:Ebnatstrasse 35\, 8200 Schaffhausen
CATEGORIES:Saison 2024/25
END:VEVENT
BEGIN:VEVENT
DTSTAMP:20260425T032801Z
DTSTART;TZID=Europe/Berlin:20250304T193000
DTEND;TZID=Europe/Berlin:20250304T223000
SUMMARY:HE 4. Liga Gr. 3 Neuhausen IV vs Frauenfeld (0)
UID:77844ed3-cd67-4011-9d55-a67491813054
STATUS:CONFIRMED
LAST-MODIFIED:20250306T142342Z
DESCRIPTION:4. Liga Herren Gruppe 3\nBegegnungs-Nr: 0\nHeim: Neuhausen IV\nGast: Frauenfeld\n\nAdresse: Ebnatstrasse 35\, 8200 Schaffhausen\n
LOCATION:Ebnatstrasse 35\, 8200 Schaffhausen
CATEGORIES:Saison 2024/25
END:VEVENT
BEGIN:VEVENT
DTSTAMP:20260425T032801Z
DTSTART;TZID=Europe/Berlin:20250128T193000
DTEND;TZID=Europe/Berlin:20250128T223000
SUMMARY:HE 4. Liga Gr. 3 Neuhausen IV vs Ettenhausen III (0)
UID:b65a1b7c-a14b-4e19-83b1-ad4fee69e736
STATUS:CONFIRMED
LAST-MODIFIED:20250131T143606Z
DESCRIPTION:4. Liga Herren Gruppe 3\nBegegnungs-Nr: 0\nHeim: Neuhausen IV\nGast: Ettenhausen III\n\nAdresse: Ebnatstrasse 35\, 8200 Schaffhausen\n
LOCATION:Ebnatstrasse 35\, 8200 Schaffhausen
CATEGORIES:Saison 2024/25
END:VEVENT
BEGIN:VEVENT
DTSTAMP:20260425T032801Z
DTSTART;TZID=Europe/Berlin:20250107T193000
DTEND;TZID=Europe/Berlin:20250107T223000
SUMMARY:HE 4. Liga Gr. 3 Neuhausen IV vs Weinfelden (0)
UID:9f18ef31-ddd0-44b0-a529-269b71829ad0
STATUS:CONFIRMED
LAST-MODIFIED:20250110T151004Z
DESCRIPTION:4. Liga Herren Gruppe 3\nBegegnungs-Nr: 0\nHeim: Neuhausen IV\nGast: Weinfelden\n\nAdresse: Ebnatstrasse 35\, 8200 Schaffhausen\n
LOCATION:Ebnatstrasse 35\, 8200 Schaffhausen
CATEGORIES:Saison 2024/25
END:VEVENT
BEGIN:VEVENT
DTSTAMP:20260425T032801Z
DTSTART;TZID=Europe/Berlin:20241203T193000
DTEND;TZID=Europe/Berlin:20241203T223000
SUMMARY:HE 4. Liga Gr. 3 Neuhausen IV vs Imperial Winterthur (0)
UID:69541e9a-f7ae-46ab-b973-599d1d4a1c93
STATUS:CONFIRMED
LAST-MODIFIED:20241205T124522Z
DESCRIPTION:4. Liga Herren Gruppe 3\nBegegnungs-Nr: 0\nHeim: Neuhausen IV\nGast: Imperial Winterthur\n\nAdresse: Ebnatstrasse 35\, 8200 Schaffhausen\n
LOCATION:Ebnatstrasse 35\, 8200 Schaffhausen
CATEGORIES:Saison 2024/25
END:VEVENT
BEGIN:VEVENT
DTSTAMP:20260425T032801Z
DTSTART;TZID=Europe/Berlin:20241028T200000
DTEND;TZID=Europe/Berlin:20241028T230000
SUMMARY:HE 4. Liga Gr. 3 Frauenfeld vs Neuhausen IV (0)
UID:ae2e7228-27c1-4a88-af5d-afafeff8631a
STATUS:CONFIRMED
LAST-MODIFIED:20241030T103143Z
DESCRIPTION:4. Liga Herren Gruppe 3\nBegegnungs-Nr: 0\nHeim: Frauenfeld\nGast: Neuhausen IV\n\nAdresse: Scheuchenstrasse\, 8500 Frauenfeld\n
LOCATION:Scheuchenstrasse\, 8500 Frauenfeld
CATEGORIES:Saison 2024/25
END:VEVENT
BEGIN:VEVENT
DTSTAMP:20260425T032801Z
DTSTART;TZID=Europe/Berlin:20240918T201500
DTEND;TZID=Europe/Berlin:20240918T231500
SUMMARY:HE 4. Liga Gr. 3 Ettenhausen III vs Neuhausen IV (0)
UID:66c7288d-f17d-4df1-b975-01be41a5bd1e
STATUS:CONFIRMED
LAST-MODIFIED:20240920T135846Z
DESCRIPTION:4. Liga Herren Gruppe 3\nBegegnungs-Nr: 0\nHeim: Ettenhausen III\nGast: Neuhausen IV\n\nAdresse: Weidlistrasse 12\, 8356 Ettenhausen\n
LOCATION:Weidlistrasse 12\, 8356 Ettenhausen
CATEGORIES:Saison 2024/25
END:VEVENT
BEGIN:VEVENT
DTSTAMP:20260425T032801Z
DTSTART;TZID=Europe/Berlin:20241001T200000
DTEND;TZID=Europe/Berlin:20241001T230000
SUMMARY:HE 4. Liga Gr. 3 Weinfelden vs Neuhausen IV (0)
UID:e3e16ec0-7bfc-49b2-8a66-4ec4835f4e7c
STATUS:CONFIRMED
LAST-MODIFIED:20241004T080457Z
DESCRIPTION:4. Liga Herren Gruppe 3\nBegegnungs-Nr: 0\nHeim: Weinfelden\nGast: Neuhausen IV\n\nAdresse: Bleichestrasse 3 (neben Hallenbad)\, 8570 Weinfelden\n
LOCATION:Bleichestrasse 3 (neben Hallenbad)\, 8570 Weinfelden
CATEGORIES:Saison 2024/25
END:VEVENT
BEGIN:VEVENT
DTSTAMP:20260425T032801Z
DTSTART;TZID=Europe/Berlin:20250327T200000
DTEND;TZID=Europe/Berlin:20250327T230000
SUMMARY:HE 4. Liga Gr. 3 Imperial Winterthur vs Neuhausen IV (0)
UID:03bfb517-6832-4f06-ad8b-1ccc13e41759
STATUS:CONFIRMED
LAST-MODIFIED:20250404T082930Z
DESCRIPTION:4. Liga Herren Gruppe 3\nBegegnungs-Nr: 0\nHeim: Imperial Winterthur\nGast: Neuhausen IV\n\nAdresse: Büelhofstrasse 25a\, 8405 Winterthur\n
LOCATION:Büelhofstrasse 25a\, 8405 Winterthur
CATEGORIES:Saison 2024/25
END:VEVENT
BEGIN:VEVENT
DTSTAMP:20260425T032801Z
DTSTART;TZID=Europe/Berlin:20250313T200000
DTEND;TZID=Europe/Berlin:20250313T230000
SUMMARY:HE 4. Liga Gr. 3 Embrachertal III vs Neuhausen IV (0)
UID:cb72c52e-9bbb-4d77-b565-86665fd8ec8d
STATUS:CONFIRMED
LAST-MODIFIED:20250314T124158Z
DESCRIPTION:4. Liga Herren Gruppe 3\nBegegnungs-Nr: 0\nHeim: Embrachertal III\nGast: Neuhausen IV\n\nAdresse: Schützenhausstrasse 20\, 8424 Embrach\n
LOCATION:Schützenhausstrasse 20\, 8424 Embrach
CATEGORIES:Saison 2024/25
END:VEVENT
BEGIN:VEVENT
DTSTAMP:20260425T032801Z
DTSTART;TZID=Europe/Berlin:20250221T201500
DTEND;TZID=Europe/Berlin:20250221T231500
SUMMARY:HE 4. Liga Gr. 3 Winterthur III vs Neuhausen IV (0)
UID:566f9411-131d-4939-844a-d770fc1a98cf
STATUS:CONFIRMED
LAST-MODIFIED:20250227T112550Z
DESCRIPTION:4. Liga Herren Gruppe 3\nBegegnungs-Nr: 0\nHeim: Winterthur III\nGast: Neuhausen IV\n\nAdresse: Buchackerstrasse 54\, 8400 Winterthur\n
LOCATION:Buchackerstrasse 54\, 8400 Winterthur
CATEGORIES:Saison 2024/25
END:VEVENT
BEGIN:VEVENT
DTSTAMP:20260425T032801Z
DTSTART;TZID=Europe/Berlin:20250121T200000
DTEND;TZID=Europe/Berlin:20250121T230000
SUMMARY:HE 4. Liga Gr. 3 Diessenhofen vs Neuhausen IV (0)
UID:38fd7bd6-d71a-43ec-a816-fcfc1df2d8a6
STATUS:CONFIRMED
LAST-MODIFIED:20250123T082008Z
DESCRIPTION:4. Liga Herren Gruppe 3\nBegegnungs-Nr: 0\nHeim: Diessenhofen\nGast: Neuhausen IV\n\nAdresse: alte Basadingerstrasse 10\, 8253 Diessenhofen\n
LOCATION:alte Basadingerstrasse 10\, 8253 Diessenhofen
CATEGORIES:Saison 2024/25
END:VEVENT
END:VCALENDAR
