BEGIN:VCALENDAR
PRODID:-//nuDatenautomaten//framework iCal4j //DE
VERSION:2.0
CALSCALE:GREGORIAN
BEGIN:VTIMEZONE
TZID:Europe/Berlin
LAST-MODIFIED:20260306T231828Z
TZURL:https://www.tzurl.org/zoneinfo/Europe/Berlin
X-LIC-LOCATION:Europe/Berlin
X-PROLEPTIC-TZNAME:LMT
BEGIN:STANDARD
TZNAME:CET
TZOFFSETFROM:+005328
TZOFFSETTO:+0100
DTSTART:18930401T000000
END:STANDARD
BEGIN:DAYLIGHT
TZNAME:CEST
TZOFFSETFROM:+0100
TZOFFSETTO:+0200
DTSTART:19160430T230000
RDATE:19400401T020000
RDATE:19430329T020000
RDATE:19460414T020000
RDATE:19470406T030000
RDATE:19480418T020000
RDATE:19490410T020000
RDATE:19800406T020000
END:DAYLIGHT
BEGIN:STANDARD
TZNAME:CET
TZOFFSETFROM:+0200
TZOFFSETTO:+0100
DTSTART:19161001T010000
RDATE:19421102T030000
RDATE:19431004T030000
RDATE:19441002T030000
RDATE:19451118T030000
RDATE:19461007T030000
END:STANDARD
BEGIN:DAYLIGHT
TZNAME:CEST
TZOFFSETFROM:+0100
TZOFFSETTO:+0200
DTSTART:19170416T020000
RRULE:FREQ=YEARLY;UNTIL=19180415T010000Z;BYMONTH=4;BYDAY=3MO
END:DAYLIGHT
BEGIN:STANDARD
TZNAME:CET
TZOFFSETFROM:+0200
TZOFFSETTO:+0100
DTSTART:19170917T030000
RRULE:FREQ=YEARLY;UNTIL=19180916T010000Z;BYMONTH=9;BYDAY=3MO
END:STANDARD
BEGIN:DAYLIGHT
TZNAME:CEST
TZOFFSETFROM:+0100
TZOFFSETTO:+0200
DTSTART:19440403T020000
RRULE:FREQ=YEARLY;UNTIL=19450402T010000Z;BYMONTH=4;BYDAY=1MO
END:DAYLIGHT
BEGIN:DAYLIGHT
TZNAME:CEMT
TZOFFSETFROM:+0200
TZOFFSETTO:+0300
DTSTART:19450524T020000
RDATE:19470511T030000
END:DAYLIGHT
BEGIN:DAYLIGHT
TZNAME:CEST
TZOFFSETFROM:+0300
TZOFFSETTO:+0200
DTSTART:19450924T030000
RDATE:19470629T030000
END:DAYLIGHT
BEGIN:STANDARD
TZNAME:CET
TZOFFSETFROM:+0100
TZOFFSETTO:+0100
DTSTART:19460101T000000
RDATE:19800101T000000
END:STANDARD
BEGIN:STANDARD
TZNAME:CET
TZOFFSETFROM:+0200
TZOFFSETTO:+0100
DTSTART:19471005T030000
RRULE:FREQ=YEARLY;UNTIL=19491002T010000Z;BYMONTH=10;BYDAY=1SU
END:STANDARD
BEGIN:STANDARD
TZNAME:CET
TZOFFSETFROM:+0200
TZOFFSETTO:+0100
DTSTART:19800928T030000
RRULE:FREQ=YEARLY;UNTIL=19950924T010000Z;BYMONTH=9;BYDAY=-1SU
END:STANDARD
BEGIN:DAYLIGHT
TZNAME:CEST
TZOFFSETFROM:+0100
TZOFFSETTO:+0200
DTSTART:19810329T020000
RRULE:FREQ=YEARLY;BYMONTH=3;BYDAY=-1SU
END:DAYLIGHT
BEGIN:STANDARD
TZNAME:CET
TZOFFSETFROM:+0200
TZOFFSETTO:+0100
DTSTART:19961027T030000
RRULE:FREQ=YEARLY;BYMONTH=10;BYDAY=-1SU
END:STANDARD
END:VTIMEZONE
BEGIN:VEVENT
DTSTAMP:20260425T004235Z
DTSTART;TZID=Europe/Berlin:20250327T201500
DTEND;TZID=Europe/Berlin:20250327T231500
SUMMARY:HE 5. Liga Gr. 5 Uster V vs Greifensee II (0)
UID:f4ca1f89-2fc2-4944-ac7f-58a37febe8c0
STATUS:CONFIRMED
LAST-MODIFIED:20250404T083345Z
DESCRIPTION:5. Liga Herren Gruppe 5\nBegegnungs-Nr: 0\nHeim: Uster V\nGast: Greifensee II\n\nAdresse: Wilstrasse 30 / Zürcherstrasse\, 8610 Uster\n
LOCATION:Wilstrasse 30 / Zürcherstrasse\, 8610 Uster
CATEGORIES:Saison 2024/25
END:VEVENT
BEGIN:VEVENT
DTSTAMP:20260425T004235Z
DTSTART;TZID=Europe/Berlin:20250313T201500
DTEND;TZID=Europe/Berlin:20250313T231500
SUMMARY:HE 5. Liga Gr. 5 Uster V vs Meilen-Männedorf V (0)
UID:adf67bdf-94cc-4bff-b198-ca49b747dd63
STATUS:CONFIRMED
LAST-MODIFIED:20250314T124934Z
DESCRIPTION:5. Liga Herren Gruppe 5\nBegegnungs-Nr: 0\nHeim: Uster V\nGast: Meilen-Männedorf V\n\nAdresse: Wilstrasse 30 / Zürcherstrasse\, 8610 Uster\n
LOCATION:Wilstrasse 30 / Zürcherstrasse\, 8610 Uster
CATEGORIES:Saison 2024/25
END:VEVENT
BEGIN:VEVENT
DTSTAMP:20260425T004235Z
DTSTART;TZID=Europe/Berlin:20250130T201500
DTEND;TZID=Europe/Berlin:20250130T231500
SUMMARY:HE 5. Liga Gr. 5 Uster V vs Dübendorf-Volketswil II (0)
UID:f21bf6c4-5832-46f9-957c-5987bf9089c7
STATUS:CONFIRMED
LAST-MODIFIED:20250131T144001Z
DESCRIPTION:5. Liga Herren Gruppe 5\nBegegnungs-Nr: 0\nHeim: Uster V\nGast: Dübendorf-Volketswil II\n\nAdresse: Wilstrasse 30 / Zürcherstrasse\, 8610 Uster\n
LOCATION:Wilstrasse 30 / Zürcherstrasse\, 8610 Uster
CATEGORIES:Saison 2024/25
END:VEVENT
BEGIN:VEVENT
DTSTAMP:20260425T004235Z
DTSTART;TZID=Europe/Berlin:20250109T201500
DTEND;TZID=Europe/Berlin:20250109T231500
SUMMARY:HE 5. Liga Gr. 5 Uster V vs Seebach-Kügeliloo II (0)
UID:62f14e8b-a363-4c81-9a08-4243b4f2ecfe
STATUS:CONFIRMED
LAST-MODIFIED:20250110T151456Z
DESCRIPTION:5. Liga Herren Gruppe 5\nBegegnungs-Nr: 0\nHeim: Uster V\nGast: Seebach-Kügeliloo II\n\nAdresse: Wilstrasse 30 / Zürcherstrasse\, 8610 Uster\n
LOCATION:Wilstrasse 30 / Zürcherstrasse\, 8610 Uster
CATEGORIES:Saison 2024/25
END:VEVENT
BEGIN:VEVENT
DTSTAMP:20260425T004235Z
DTSTART;TZID=Europe/Berlin:20241031T201500
DTEND;TZID=Europe/Berlin:20241031T231500
SUMMARY:HE 5. Liga Gr. 5 Uster V vs Dübendorf-Volketswil III (0)
UID:5865188f-0f25-4363-942d-9d92e2607903
STATUS:CONFIRMED
LAST-MODIFIED:20241108T142839Z
DESCRIPTION:5. Liga Herren Gruppe 5\nBegegnungs-Nr: 0\nHeim: Uster V\nGast: Dübendorf-Volketswil III\n\nAdresse: Wilstrasse 30 / Zürcherstrasse\, 8610 Uster\n
LOCATION:Wilstrasse 30 / Zürcherstrasse\, 8610 Uster
CATEGORIES:Saison 2024/25
END:VEVENT
BEGIN:VEVENT
DTSTAMP:20260425T004235Z
DTSTART;TZID=Europe/Berlin:20241003T201500
DTEND;TZID=Europe/Berlin:20241003T231500
SUMMARY:HE 5. Liga Gr. 5 Uster V vs Bülach V (0)
UID:8e8b473c-6028-43ae-8ce1-633d5274a5ea
STATUS:CONFIRMED
LAST-MODIFIED:20241004T080748Z
DESCRIPTION:5. Liga Herren Gruppe 5\nBegegnungs-Nr: 0\nHeim: Uster V\nGast: Bülach V\n\nAdresse: Wilstrasse 30 / Zürcherstrasse\, 8610 Uster\n
LOCATION:Wilstrasse 30 / Zürcherstrasse\, 8610 Uster
CATEGORIES:Saison 2024/25
END:VEVENT
BEGIN:VEVENT
DTSTAMP:20260425T004235Z
DTSTART;TZID=Europe/Berlin:20240905T201500
DTEND;TZID=Europe/Berlin:20240905T231500
SUMMARY:HE 5. Liga Gr. 5 Uster V vs Kloten II (0)
UID:b57d0d23-c139-4519-b57f-8abc9d892f04
STATUS:CONFIRMED
LAST-MODIFIED:20240913T112838Z
DESCRIPTION:5. Liga Herren Gruppe 5\nBegegnungs-Nr: 0\nHeim: Uster V\nGast: Kloten II\n\nAdresse: Wilstrasse 30 / Zürcherstrasse\, 8610 Uster\n
LOCATION:Wilstrasse 30 / Zürcherstrasse\, 8610 Uster
CATEGORIES:Saison 2024/25
END:VEVENT
BEGIN:VEVENT
DTSTAMP:20260425T004235Z
DTSTART;TZID=Europe/Berlin:20250306T194500
DTEND;TZID=Europe/Berlin:20250306T224500
SUMMARY:HE 5. Liga Gr. 5 Dübendorf-Volketswil III vs Uster V (0)
UID:4831ca1b-6829-4983-a6c9-bf867435b366
STATUS:CONFIRMED
LAST-MODIFIED:20250307T082038Z
DESCRIPTION:5. Liga Herren Gruppe 5\nBegegnungs-Nr: 0\nHeim: Dübendorf-Volketswil III\nGast: Uster V\n\nAdresse: Wasserfurrenstrasse 7\, 8600 Dübendorf\n
LOCATION:Wasserfurrenstrasse 7\, 8600 Dübendorf
CATEGORIES:Saison 2024/25
END:VEVENT
BEGIN:VEVENT
DTSTAMP:20260425T004235Z
DTSTART;TZID=Europe/Berlin:20250207T193000
DTEND;TZID=Europe/Berlin:20250207T223000
SUMMARY:HE 5. Liga Gr. 5 Bülach V vs Uster V (0)
UID:73963f21-bad0-4363-bb41-355f4c42dc62
STATUS:CONFIRMED
LAST-MODIFIED:20250213T132543Z
DESCRIPTION:5. Liga Herren Gruppe 5\nBegegnungs-Nr: 0\nHeim: Bülach V\nGast: Uster V\n\nAdresse: Schwerzgruebstrasse 28\, 8180 Bülach\n
LOCATION:Schwerzgruebstrasse 28\, 8180 Bülach
CATEGORIES:Saison 2024/25
END:VEVENT
BEGIN:VEVENT
DTSTAMP:20260425T004235Z
DTSTART;TZID=Europe/Berlin:20250122T193000
DTEND;TZID=Europe/Berlin:20250122T223000
SUMMARY:HE 5. Liga Gr. 5 Kloten II vs Uster V (0)
UID:260fd5c9-6259-45a1-bcc0-0b7a2fcb6200
STATUS:CONFIRMED
LAST-MODIFIED:20250129T124055Z
DESCRIPTION:5. Liga Herren Gruppe 5\nBegegnungs-Nr: 0\nHeim: Kloten II\nGast: Uster V\n\nAdresse: Schluefweg 10\, 8302 Kloten\n
LOCATION:Schluefweg 10\, 8302 Kloten
CATEGORIES:Saison 2024/25
END:VEVENT
BEGIN:VEVENT
DTSTAMP:20260425T004235Z
DTSTART;TZID=Europe/Berlin:20240917T201500
DTEND;TZID=Europe/Berlin:20240917T231500
SUMMARY:HE 5. Liga Gr. 5 Dübendorf-Volketswil II vs Uster V (0)
UID:9239b4c6-8ba0-41be-a628-bbd90e4c0b72
STATUS:CONFIRMED
LAST-MODIFIED:20240918T102038Z
DESCRIPTION:5. Liga Herren Gruppe 5\nBegegnungs-Nr: 0\nHeim: Dübendorf-Volketswil II\nGast: Uster V\n\nAdresse: Dübendorfstrasse 46\, 8602 Wangen ZH\n
LOCATION:Dübendorfstrasse 46\, 8602 Wangen ZH
CATEGORIES:Saison 2024/25
END:VEVENT
BEGIN:VEVENT
DTSTAMP:20260425T004235Z
DTSTART;TZID=Europe/Berlin:20241203T200000
DTEND;TZID=Europe/Berlin:20241203T230000
SUMMARY:HE 5. Liga Gr. 5 Greifensee II vs Uster V (0)
UID:6cfe43ba-e8c1-43b9-a64d-d2f5617558f4
STATUS:CONFIRMED
LAST-MODIFIED:20241211T093819Z
DESCRIPTION:5. Liga Herren Gruppe 5\nBegegnungs-Nr: 0\nHeim: Greifensee II\nGast: Uster V\n\nAdresse: Stationsstrasse\, 8606 Nänikon\n
LOCATION:Stationsstrasse\, 8606 Nänikon
CATEGORIES:Saison 2024/25
END:VEVENT
BEGIN:VEVENT
DTSTAMP:20260425T004235Z
DTSTART;TZID=Europe/Berlin:20241114T194500
DTEND;TZID=Europe/Berlin:20241114T224500
SUMMARY:HE 5. Liga Gr. 5 Meilen-Männedorf V vs Uster V (0)
UID:a310908c-0cd1-45c5-baac-feab8c7d0775
STATUS:CONFIRMED
LAST-MODIFIED:20241115T150901Z
DESCRIPTION:5. Liga Herren Gruppe 5\nBegegnungs-Nr: 0\nHeim: Meilen-Männedorf V\nGast: Uster V\n\nAdresse: Schulhausstr. 27\, 8706 Meilen\n
LOCATION:Schulhausstr. 27\, 8706 Meilen
CATEGORIES:Saison 2024/25
END:VEVENT
BEGIN:VEVENT
DTSTAMP:20260425T004235Z
DTSTART;TZID=Europe/Berlin:20240827T200000
DTEND;TZID=Europe/Berlin:20240827T230000
SUMMARY:HE 5. Liga Gr. 5 Seebach-Kügeliloo II vs Uster V (0)
UID:950b4d06-5146-484f-99a9-7ae27857115a
STATUS:CONFIRMED
LAST-MODIFIED:20240904T113307Z
DESCRIPTION:5. Liga Herren Gruppe 5\nBegegnungs-Nr: 0\nHeim: Seebach-Kügeliloo II\nGast: Uster V\n\nAdresse: Sperletweg 71\, 8052 Zürich\n
LOCATION:Sperletweg 71\, 8052 Zürich
CATEGORIES:Saison 2024/25
END:VEVENT
END:VCALENDAR
