BEGIN:VCALENDAR
PRODID:-//nuDatenautomaten//framework iCal4j //DE
VERSION:2.0
CALSCALE:GREGORIAN
BEGIN:VTIMEZONE
TZID:Europe/Berlin
LAST-MODIFIED:20260306T231828Z
TZURL:https://www.tzurl.org/zoneinfo/Europe/Berlin
X-LIC-LOCATION:Europe/Berlin
X-PROLEPTIC-TZNAME:LMT
BEGIN:STANDARD
TZNAME:CET
TZOFFSETFROM:+005328
TZOFFSETTO:+0100
DTSTART:18930401T000000
END:STANDARD
BEGIN:DAYLIGHT
TZNAME:CEST
TZOFFSETFROM:+0100
TZOFFSETTO:+0200
DTSTART:19160430T230000
RDATE:19400401T020000
RDATE:19430329T020000
RDATE:19460414T020000
RDATE:19470406T030000
RDATE:19480418T020000
RDATE:19490410T020000
RDATE:19800406T020000
END:DAYLIGHT
BEGIN:STANDARD
TZNAME:CET
TZOFFSETFROM:+0200
TZOFFSETTO:+0100
DTSTART:19161001T010000
RDATE:19421102T030000
RDATE:19431004T030000
RDATE:19441002T030000
RDATE:19451118T030000
RDATE:19461007T030000
END:STANDARD
BEGIN:DAYLIGHT
TZNAME:CEST
TZOFFSETFROM:+0100
TZOFFSETTO:+0200
DTSTART:19170416T020000
RRULE:FREQ=YEARLY;UNTIL=19180415T010000Z;BYMONTH=4;BYDAY=3MO
END:DAYLIGHT
BEGIN:STANDARD
TZNAME:CET
TZOFFSETFROM:+0200
TZOFFSETTO:+0100
DTSTART:19170917T030000
RRULE:FREQ=YEARLY;UNTIL=19180916T010000Z;BYMONTH=9;BYDAY=3MO
END:STANDARD
BEGIN:DAYLIGHT
TZNAME:CEST
TZOFFSETFROM:+0100
TZOFFSETTO:+0200
DTSTART:19440403T020000
RRULE:FREQ=YEARLY;UNTIL=19450402T010000Z;BYMONTH=4;BYDAY=1MO
END:DAYLIGHT
BEGIN:DAYLIGHT
TZNAME:CEMT
TZOFFSETFROM:+0200
TZOFFSETTO:+0300
DTSTART:19450524T020000
RDATE:19470511T030000
END:DAYLIGHT
BEGIN:DAYLIGHT
TZNAME:CEST
TZOFFSETFROM:+0300
TZOFFSETTO:+0200
DTSTART:19450924T030000
RDATE:19470629T030000
END:DAYLIGHT
BEGIN:STANDARD
TZNAME:CET
TZOFFSETFROM:+0100
TZOFFSETTO:+0100
DTSTART:19460101T000000
RDATE:19800101T000000
END:STANDARD
BEGIN:STANDARD
TZNAME:CET
TZOFFSETFROM:+0200
TZOFFSETTO:+0100
DTSTART:19471005T030000
RRULE:FREQ=YEARLY;UNTIL=19491002T010000Z;BYMONTH=10;BYDAY=1SU
END:STANDARD
BEGIN:STANDARD
TZNAME:CET
TZOFFSETFROM:+0200
TZOFFSETTO:+0100
DTSTART:19800928T030000
RRULE:FREQ=YEARLY;UNTIL=19950924T010000Z;BYMONTH=9;BYDAY=-1SU
END:STANDARD
BEGIN:DAYLIGHT
TZNAME:CEST
TZOFFSETFROM:+0100
TZOFFSETTO:+0200
DTSTART:19810329T020000
RRULE:FREQ=YEARLY;BYMONTH=3;BYDAY=-1SU
END:DAYLIGHT
BEGIN:STANDARD
TZNAME:CET
TZOFFSETFROM:+0200
TZOFFSETTO:+0100
DTSTART:19961027T030000
RRULE:FREQ=YEARLY;BYMONTH=10;BYDAY=-1SU
END:STANDARD
END:VTIMEZONE
BEGIN:VEVENT
DTSTAMP:20260425T005047Z
DTSTART;TZID=Europe/Berlin:20241204T201500
DTEND;TZID=Europe/Berlin:20241204T231500
SUMMARY:HE 3. Liga Gr. 4 Zürich-Affoltern V vs Young Stars ZH VII (0)
UID:419f1438-4350-4d70-ba3e-26c9a1bd2307
STATUS:CONFIRMED
LAST-MODIFIED:20241206T114636Z
DESCRIPTION:3. Liga Herren Gruppe 4\nBegegnungs-Nr: 0\nHeim: Zürich-Affoltern V\nGast: Young Stars ZH VII\n\nAdresse: Rümlangstr. 89\, 8052 Zürich\n
LOCATION:Rümlangstr. 89\, 8052 Zürich
CATEGORIES:Saison 2024/25
END:VEVENT
BEGIN:VEVENT
DTSTAMP:20260425T005047Z
DTSTART;TZID=Europe/Berlin:20241030T201500
DTEND;TZID=Europe/Berlin:20241030T231500
SUMMARY:HE 3. Liga Gr. 4 Zürich-Affoltern V vs Urdorf (0)
UID:7ed04793-6e33-4587-860f-8eada3ae0b58
STATUS:CONFIRMED
LAST-MODIFIED:20241107T154129Z
DESCRIPTION:3. Liga Herren Gruppe 4\nBegegnungs-Nr: 0\nHeim: Zürich-Affoltern V\nGast: Urdorf\n\nAdresse: Rümlangstr. 89\, 8052 Zürich\n
LOCATION:Rümlangstr. 89\, 8052 Zürich
CATEGORIES:Saison 2024/25
END:VEVENT
BEGIN:VEVENT
DTSTAMP:20260425T005047Z
DTSTART;TZID=Europe/Berlin:20240925T201500
DTEND;TZID=Europe/Berlin:20240925T231500
SUMMARY:HE 3. Liga Gr. 4 Zürich-Affoltern V vs Embrachertal II (0)
UID:6ae6cf81-d761-4310-b068-ba4c5e3a2fd0
STATUS:CONFIRMED
LAST-MODIFIED:20240926T114343Z
DESCRIPTION:3. Liga Herren Gruppe 4\nBegegnungs-Nr: 0\nHeim: Zürich-Affoltern V\nGast: Embrachertal II\n\nAdresse: Rümlangstr. 89\, 8052 Zürich\n
LOCATION:Rümlangstr. 89\, 8052 Zürich
CATEGORIES:Saison 2024/25
END:VEVENT
BEGIN:VEVENT
DTSTAMP:20260425T005047Z
DTSTART;TZID=Europe/Berlin:20240904T201500
DTEND;TZID=Europe/Berlin:20240904T231500
SUMMARY:HE 3. Liga Gr. 4 Zürich-Affoltern V vs Dietikon-Weiningen (0)
UID:f13aac96-fcce-4d47-b637-3add10c1d9ed
STATUS:CONFIRMED
LAST-MODIFIED:20240905T062425Z
DESCRIPTION:3. Liga Herren Gruppe 4\nBegegnungs-Nr: 0\nHeim: Zürich-Affoltern V\nGast: Dietikon-Weiningen\n\nAdresse: Rümlangstr. 89\, 8052 Zürich\n
LOCATION:Rümlangstr. 89\, 8052 Zürich
CATEGORIES:Saison 2024/25
END:VEVENT
BEGIN:VEVENT
DTSTAMP:20260425T005047Z
DTSTART;TZID=Europe/Berlin:20250312T201500
DTEND;TZID=Europe/Berlin:20250312T231500
SUMMARY:HE 3. Liga Gr. 4 Zürich-Affoltern V vs Buchs Zürich (0)
UID:217caf04-228d-44fb-b1c6-a7cc90ae6d1a
STATUS:CONFIRMED
LAST-MODIFIED:20250313T100816Z
DESCRIPTION:3. Liga Herren Gruppe 4\nBegegnungs-Nr: 0\nHeim: Zürich-Affoltern V\nGast: Buchs Zürich\n
LOCATION:
CATEGORIES:Saison 2024/25
END:VEVENT
BEGIN:VEVENT
DTSTAMP:20260425T005047Z
DTSTART;TZID=Europe/Berlin:20250131T201500
DTEND;TZID=Europe/Berlin:20250131T231500
SUMMARY:HE 3. Liga Gr. 4 Zürich-Affoltern V vs Niederhasli III (0)
UID:50712392-5b21-4663-ae2a-aae049303ba2
STATUS:CONFIRMED
LAST-MODIFIED:20250219T154336Z
DESCRIPTION:3. Liga Herren Gruppe 4\nBegegnungs-Nr: 0\nHeim: Zürich-Affoltern V\nGast: Niederhasli III\n
LOCATION:
CATEGORIES:Saison 2024/25
END:VEVENT
BEGIN:VEVENT
DTSTAMP:20260425T005047Z
DTSTART;TZID=Europe/Berlin:20250108T201500
DTEND;TZID=Europe/Berlin:20250108T231500
SUMMARY:HE 3. Liga Gr. 4 Zürich-Affoltern V vs Bülach II (0)
UID:2312b132-0ced-4e57-9745-10ca8614bd61
STATUS:CONFIRMED
LAST-MODIFIED:20250110T150745Z
DESCRIPTION:3. Liga Herren Gruppe 4\nBegegnungs-Nr: 0\nHeim: Zürich-Affoltern V\nGast: Bülach II\n\nAdresse: Rümlangstr. 89\, 8052 Zürich\n
LOCATION:Rümlangstr. 89\, 8052 Zürich
CATEGORIES:Saison 2024/25
END:VEVENT
BEGIN:VEVENT
DTSTAMP:20260425T005047Z
DTSTART;TZID=Europe/Berlin:20241104T201500
DTEND;TZID=Europe/Berlin:20241104T231500
SUMMARY:HE 3. Liga Gr. 4 Buchs Zürich vs Zürich-Affoltern V (0)
UID:dc0f29cd-aec3-42e6-a500-72e4a10700b8
STATUS:CONFIRMED
LAST-MODIFIED:20241107T154223Z
DESCRIPTION:3. Liga Herren Gruppe 4\nBegegnungs-Nr: 0\nHeim: Buchs Zürich\nGast: Zürich-Affoltern V\n\nAdresse: Schulstrasse 73\, 8105 Regensdorf\n
LOCATION:Schulstrasse 73\, 8105 Regensdorf
CATEGORIES:Saison 2024/25
END:VEVENT
BEGIN:VEVENT
DTSTAMP:20260425T005047Z
DTSTART;TZID=Europe/Berlin:20240917T193000
DTEND;TZID=Europe/Berlin:20240917T223000
SUMMARY:HE 3. Liga Gr. 4 Niederhasli III vs Zürich-Affoltern V (0)
UID:8d74b1c2-4efd-4331-b275-6ee4e470f30e
STATUS:CONFIRMED
LAST-MODIFIED:20240918T101049Z
DESCRIPTION:3. Liga Herren Gruppe 4\nBegegnungs-Nr: 0\nHeim: Niederhasli III\nGast: Zürich-Affoltern V\n\nAdresse: Dorfstrasse 22\, 8155 Niederhasli\n
LOCATION:Dorfstrasse 22\, 8155 Niederhasli
CATEGORIES:Saison 2024/25
END:VEVENT
BEGIN:VEVENT
DTSTAMP:20260425T005047Z
DTSTART;TZID=Europe/Berlin:20240829T201500
DTEND;TZID=Europe/Berlin:20240829T231500
SUMMARY:HE 3. Liga Gr. 4 Bülach II vs Zürich-Affoltern V (0)
UID:f2d77858-0798-467b-8acf-b64212a3cf3b
STATUS:CONFIRMED
LAST-MODIFIED:20240904T094108Z
DESCRIPTION:3. Liga Herren Gruppe 4\nBegegnungs-Nr: 0\nHeim: Bülach II\nGast: Zürich-Affoltern V\n\nAdresse: Unterweg 51\, 8180 Bülach\n
LOCATION:Unterweg 51\, 8180 Bülach
CATEGORIES:Saison 2024/25
END:VEVENT
BEGIN:VEVENT
DTSTAMP:20260425T005047Z
DTSTART;TZID=Europe/Berlin:20250321T201500
DTEND;TZID=Europe/Berlin:20250321T231500
SUMMARY:HE 3. Liga Gr. 4 Young Stars ZH VII vs Zürich-Affoltern V (0)
UID:db29e16f-f7a1-481a-a2fd-b56459695de9
STATUS:CONFIRMED
LAST-MODIFIED:20250327T133403Z
DESCRIPTION:3. Liga Herren Gruppe 4\nBegegnungs-Nr: 0\nHeim: Young Stars ZH VII\nGast: Zürich-Affoltern V\n\nAdresse: Balgriststrasse 55\, 8008 Zürich\n
LOCATION:Balgriststrasse 55\, 8008 Zürich
CATEGORIES:Saison 2024/25
END:VEVENT
BEGIN:VEVENT
DTSTAMP:20260425T005047Z
DTSTART;TZID=Europe/Berlin:20250305T201500
DTEND;TZID=Europe/Berlin:20250305T231500
SUMMARY:HE 3. Liga Gr. 4 Urdorf vs Zürich-Affoltern V (0)
UID:130d10ad-5c38-42a3-a113-264f7a786710
STATUS:CONFIRMED
LAST-MODIFIED:20250306T142145Z
DESCRIPTION:3. Liga Herren Gruppe 4\nBegegnungs-Nr: 0\nHeim: Urdorf\nGast: Zürich-Affoltern V\n\nAdresse: Weihermattstrasse 50\, 8902 Urdorf\n
LOCATION:Weihermattstrasse 50\, 8902 Urdorf
CATEGORIES:Saison 2024/25
END:VEVENT
BEGIN:VEVENT
DTSTAMP:20260425T005047Z
DTSTART;TZID=Europe/Berlin:20250211T193000
DTEND;TZID=Europe/Berlin:20250211T223000
SUMMARY:HE 3. Liga Gr. 4 Embrachertal II vs Zürich-Affoltern V (0)
UID:1daff5bc-b627-4812-a618-5b63bf6f3f9e
STATUS:CONFIRMED
LAST-MODIFIED:20250213T085735Z
DESCRIPTION:3. Liga Herren Gruppe 4\nBegegnungs-Nr: 0\nHeim: Embrachertal II\nGast: Zürich-Affoltern V\n\nAdresse: Hintermarchlenstrasse 31 + 33\, 8426 Lufingen\n
LOCATION:Hintermarchlenstrasse 31 + 33\, 8426 Lufingen
CATEGORIES:Saison 2024/25
END:VEVENT
BEGIN:VEVENT
DTSTAMP:20260425T005047Z
DTSTART;TZID=Europe/Berlin:20250121T200000
DTEND;TZID=Europe/Berlin:20250121T230000
SUMMARY:HE 3. Liga Gr. 4 Dietikon-Weiningen vs Zürich-Affoltern V (0)
UID:076d9826-3350-40a5-ab08-7108c168fa89
STATUS:CONFIRMED
LAST-MODIFIED:20250123T071314Z
DESCRIPTION:3. Liga Herren Gruppe 4\nBegegnungs-Nr: 0\nHeim: Dietikon-Weiningen\nGast: Zürich-Affoltern V\n\nAdresse: Bohnackerstrasse 5\, 8953 Dietikon\n
LOCATION:Bohnackerstrasse 5\, 8953 Dietikon
CATEGORIES:Saison 2024/25
END:VEVENT
END:VCALENDAR
