BEGIN:VCALENDAR
PRODID:-//nuDatenautomaten//framework iCal4j //DE
VERSION:2.0
CALSCALE:GREGORIAN
BEGIN:VTIMEZONE
TZID:Europe/Berlin
LAST-MODIFIED:20260306T231828Z
TZURL:https://www.tzurl.org/zoneinfo/Europe/Berlin
X-LIC-LOCATION:Europe/Berlin
X-PROLEPTIC-TZNAME:LMT
BEGIN:STANDARD
TZNAME:CET
TZOFFSETFROM:+005328
TZOFFSETTO:+0100
DTSTART:18930401T000000
END:STANDARD
BEGIN:DAYLIGHT
TZNAME:CEST
TZOFFSETFROM:+0100
TZOFFSETTO:+0200
DTSTART:19160430T230000
RDATE:19400401T020000
RDATE:19430329T020000
RDATE:19460414T020000
RDATE:19470406T030000
RDATE:19480418T020000
RDATE:19490410T020000
RDATE:19800406T020000
END:DAYLIGHT
BEGIN:STANDARD
TZNAME:CET
TZOFFSETFROM:+0200
TZOFFSETTO:+0100
DTSTART:19161001T010000
RDATE:19421102T030000
RDATE:19431004T030000
RDATE:19441002T030000
RDATE:19451118T030000
RDATE:19461007T030000
END:STANDARD
BEGIN:DAYLIGHT
TZNAME:CEST
TZOFFSETFROM:+0100
TZOFFSETTO:+0200
DTSTART:19170416T020000
RRULE:FREQ=YEARLY;UNTIL=19180415T010000Z;BYMONTH=4;BYDAY=3MO
END:DAYLIGHT
BEGIN:STANDARD
TZNAME:CET
TZOFFSETFROM:+0200
TZOFFSETTO:+0100
DTSTART:19170917T030000
RRULE:FREQ=YEARLY;UNTIL=19180916T010000Z;BYMONTH=9;BYDAY=3MO
END:STANDARD
BEGIN:DAYLIGHT
TZNAME:CEST
TZOFFSETFROM:+0100
TZOFFSETTO:+0200
DTSTART:19440403T020000
RRULE:FREQ=YEARLY;UNTIL=19450402T010000Z;BYMONTH=4;BYDAY=1MO
END:DAYLIGHT
BEGIN:DAYLIGHT
TZNAME:CEMT
TZOFFSETFROM:+0200
TZOFFSETTO:+0300
DTSTART:19450524T020000
RDATE:19470511T030000
END:DAYLIGHT
BEGIN:DAYLIGHT
TZNAME:CEST
TZOFFSETFROM:+0300
TZOFFSETTO:+0200
DTSTART:19450924T030000
RDATE:19470629T030000
END:DAYLIGHT
BEGIN:STANDARD
TZNAME:CET
TZOFFSETFROM:+0100
TZOFFSETTO:+0100
DTSTART:19460101T000000
RDATE:19800101T000000
END:STANDARD
BEGIN:STANDARD
TZNAME:CET
TZOFFSETFROM:+0200
TZOFFSETTO:+0100
DTSTART:19471005T030000
RRULE:FREQ=YEARLY;UNTIL=19491002T010000Z;BYMONTH=10;BYDAY=1SU
END:STANDARD
BEGIN:STANDARD
TZNAME:CET
TZOFFSETFROM:+0200
TZOFFSETTO:+0100
DTSTART:19800928T030000
RRULE:FREQ=YEARLY;UNTIL=19950924T010000Z;BYMONTH=9;BYDAY=-1SU
END:STANDARD
BEGIN:DAYLIGHT
TZNAME:CEST
TZOFFSETFROM:+0100
TZOFFSETTO:+0200
DTSTART:19810329T020000
RRULE:FREQ=YEARLY;BYMONTH=3;BYDAY=-1SU
END:DAYLIGHT
BEGIN:STANDARD
TZNAME:CET
TZOFFSETFROM:+0200
TZOFFSETTO:+0100
DTSTART:19961027T030000
RRULE:FREQ=YEARLY;BYMONTH=10;BYDAY=-1SU
END:STANDARD
END:VTIMEZONE
BEGIN:VEVENT
DTSTAMP:20260419T214402Z
DTSTART;TZID=Europe/Berlin:20241206T200000
DTEND;TZID=Europe/Berlin:20241206T230000
SUMMARY:L3P1 Entente Pongiste Neuchâteloise IV vs Delémont III (0)
UID:85be91d8-ce29-4197-8ee0-9865abb072af
STATUS:CONFIRMED
LAST-MODIFIED:20241208T110045Z
DESCRIPTION:3ème ligue phase 1\nBegegnungs-Nr: 0\nHeim: Entente Pongiste Neuchâteloise IV\nGast: Delémont III\n\nAdresse: Allée du 700e\, 2525 Le Landeron\n
LOCATION:Allée du 700e\, 2525 Le Landeron
CATEGORIES:Saison 2024/25
END:VEVENT
BEGIN:VEVENT
DTSTAMP:20260419T214402Z
DTSTART;TZID=Europe/Berlin:20241113T200000
DTEND;TZID=Europe/Berlin:20241113T230000
SUMMARY:L3P1 Entente Pongiste Neuchâteloise IV vs Tavannes (0)
UID:84c229d4-6f8e-47fb-b3bb-793df4a3f893
STATUS:CONFIRMED
LAST-MODIFIED:20241122T115238Z
DESCRIPTION:3ème ligue phase 1\nBegegnungs-Nr: 0\nHeim: Entente Pongiste Neuchâteloise IV\nGast: Tavannes\n\nAdresse: Allée du 700e\, 2525 Le Landeron\n
LOCATION:Allée du 700e\, 2525 Le Landeron
CATEGORIES:Saison 2024/25
END:VEVENT
BEGIN:VEVENT
DTSTAMP:20260419T214402Z
DTSTART;TZID=Europe/Berlin:20241004T200000
DTEND;TZID=Europe/Berlin:20241004T230000
SUMMARY:L3P1 Entente Pongiste Neuchâteloise IV vs Val-de-Ruz III (0)
UID:d8681ab1-91b3-48b9-a0c2-af6f187707b1
STATUS:CONFIRMED
LAST-MODIFIED:20241007T072443Z
DESCRIPTION:3ème ligue phase 1\nBegegnungs-Nr: 0\nHeim: Entente Pongiste Neuchâteloise IV\nGast: Val-de-Ruz III\n\nAdresse: Allée du 700e\, 2525 Le Landeron\n
LOCATION:Allée du 700e\, 2525 Le Landeron
CATEGORIES:Saison 2024/25
END:VEVENT
BEGIN:VEVENT
DTSTAMP:20260419T214402Z
DTSTART;TZID=Europe/Berlin:20240906T200000
DTEND;TZID=Europe/Berlin:20240906T230000
SUMMARY:L3P1 Entente Pongiste Neuchâteloise IV vs La Chaux-de-Fonds III (0)
UID:f8eb8150-4abe-4589-ab17-ea618089aac7
STATUS:CONFIRMED
LAST-MODIFIED:20240924T160115Z
DESCRIPTION:3ème ligue phase 1\nBegegnungs-Nr: 0\nHeim: Entente Pongiste Neuchâteloise IV\nGast: La Chaux-de-Fonds III\n\nAdresse: Allée du 700e\, 2525 Le Landeron\n
LOCATION:Allée du 700e\, 2525 Le Landeron
CATEGORIES:Saison 2024/25
END:VEVENT
BEGIN:VEVENT
DTSTAMP:20260419T214402Z
DTSTART;TZID=Europe/Berlin:20250502T200000
DTEND;TZID=Europe/Berlin:20250502T230000
SUMMARY:L2P2 Entente Pongiste Neuchâteloise IV vs Cortaillod III (0)
UID:9b77865d-8bf9-48e5-8ad3-f2a6f41229e8
STATUS:CONFIRMED
LAST-MODIFIED:20250512T090450Z
DESCRIPTION:2ème ligue phase 2\nBegegnungs-Nr: 0\nHeim: Entente Pongiste Neuchâteloise IV\nGast: Cortaillod III\n\nAdresse: Allée du 700e\, 2525 Le Landeron\n
LOCATION:Allée du 700e\, 2525 Le Landeron
CATEGORIES:Saison 2024/25
END:VEVENT
BEGIN:VEVENT
DTSTAMP:20260419T214402Z
DTSTART;TZID=Europe/Berlin:20250131T200000
DTEND;TZID=Europe/Berlin:20250131T230000
SUMMARY:L2P2 Entente Pongiste Neuchâteloise IV vs Delémont II (0)
UID:2939197e-1ac1-42ae-8351-07c6e93874df
STATUS:CONFIRMED
LAST-MODIFIED:20250201T091736Z
DESCRIPTION:2ème ligue phase 2\nBegegnungs-Nr: 0\nHeim: Entente Pongiste Neuchâteloise IV\nGast: Delémont II\n\nAdresse: Allée du 700e\, 2525 Le Landeron\n
LOCATION:Allée du 700e\, 2525 Le Landeron
CATEGORIES:Saison 2024/25
END:VEVENT
BEGIN:VEVENT
DTSTAMP:20260419T214402Z
DTSTART;TZID=Europe/Berlin:20250226T200000
DTEND;TZID=Europe/Berlin:20250226T230000
SUMMARY:L2P2 Entente Pongiste Neuchâteloise IV vs Tramelan (0)
UID:a181f56e-4be2-4e0e-bcb7-b4453590a1cf
STATUS:CONFIRMED
LAST-MODIFIED:20250228T065207Z
DESCRIPTION:2ème ligue phase 2\nBegegnungs-Nr: 0\nHeim: Entente Pongiste Neuchâteloise IV\nGast: Tramelan\n\nAdresse: Allée du 700e\, 2525 Le Landeron\n
LOCATION:Allée du 700e\, 2525 Le Landeron
CATEGORIES:Saison 2024/25
END:VEVENT
BEGIN:VEVENT
DTSTAMP:20260419T214402Z
DTSTART;TZID=Europe/Berlin:20250411T200000
DTEND;TZID=Europe/Berlin:20250411T230000
SUMMARY:L2P2 Entente Pongiste Neuchâteloise IV vs Val-de-Ruz III (0)
UID:c9197e41-e462-479e-ad50-ef751f542eba
STATUS:CONFIRMED
LAST-MODIFIED:20250413T125436Z
DESCRIPTION:2ème ligue phase 2\nBegegnungs-Nr: 0\nHeim: Entente Pongiste Neuchâteloise IV\nGast: Val-de-Ruz III\n\nAdresse: Allée du 700e\, 2525 Le Landeron\n
LOCATION:Allée du 700e\, 2525 Le Landeron
CATEGORIES:Saison 2024/25
END:VEVENT
BEGIN:VEVENT
DTSTAMP:20260419T214402Z
DTSTART;TZID=Europe/Berlin:20241106T193000
DTEND;TZID=Europe/Berlin:20241106T223000
SUMMARY:L3P1 Hauterive vs Entente Pongiste Neuchâteloise IV (0)
UID:0a9ad51a-7441-446f-baf8-aa2f6af339c4
STATUS:CONFIRMED
LAST-MODIFIED:20241112T192227Z
DESCRIPTION:3ème ligue phase 1\nBegegnungs-Nr: 0\nHeim: Hauterive\nGast: Entente Pongiste Neuchâteloise IV\n\nAdresse: Rue des Longschamps 10\, 2068 Hauterive NE\n
LOCATION:Rue des Longschamps 10\, 2068 Hauterive NE
CATEGORIES:Saison 2024/25
END:VEVENT
BEGIN:VEVENT
DTSTAMP:20260419T214402Z
DTSTART;TZID=Europe/Berlin:20241025T200000
DTEND;TZID=Europe/Berlin:20241025T230000
SUMMARY:L3P1 Le Locle II vs Entente Pongiste Neuchâteloise IV (0)
UID:25e3856e-559a-4073-9e05-ffa71eedd084
STATUS:CONFIRMED
LAST-MODIFIED:20241029T073904Z
DESCRIPTION:3ème ligue phase 1\nBegegnungs-Nr: 0\nHeim: Le Locle II\nGast: Entente Pongiste Neuchâteloise IV\n\nAdresse: Avenue du Collège 1\, 2400 Le Locle\n
LOCATION:Avenue du Collège 1\, 2400 Le Locle
CATEGORIES:Saison 2024/25
END:VEVENT
BEGIN:VEVENT
DTSTAMP:20260419T214402Z
DTSTART;TZID=Europe/Berlin:20240909T200000
DTEND;TZID=Europe/Berlin:20240909T230000
SUMMARY:L3P1 Omega II vs Entente Pongiste Neuchâteloise IV (0)
UID:75a935a2-370c-4c2d-84dc-dce706144ffa
STATUS:CONFIRMED
LAST-MODIFIED:20240924T160132Z
DESCRIPTION:3ème ligue phase 1\nBegegnungs-Nr: 0\nHeim: Omega II\nGast: Entente Pongiste Neuchâteloise IV\n\nAdresse: Tennisweg 1\, 2504 Biel-Bienne\n
LOCATION:Tennisweg 1\, 2504 Biel-Bienne
CATEGORIES:Saison 2024/25
END:VEVENT
BEGIN:VEVENT
DTSTAMP:20260419T214402Z
DTSTART;TZID=Europe/Berlin:20250317T200000
DTEND;TZID=Europe/Berlin:20250317T230000
SUMMARY:L2P2 Omega II vs Entente Pongiste Neuchâteloise IV (0)
UID:151525e3-b2be-4999-8d3e-099bd2f62570
STATUS:CONFIRMED
LAST-MODIFIED:20250321T060901Z
DESCRIPTION:2ème ligue phase 2\nBegegnungs-Nr: 0\nHeim: Omega II\nGast: Entente Pongiste Neuchâteloise IV\n\nAdresse: Tennisweg 1\, 2504 Biel-Bienne\n
LOCATION:Tennisweg 1\, 2504 Biel-Bienne
CATEGORIES:Saison 2024/25
END:VEVENT
BEGIN:VEVENT
DTSTAMP:20260419T214402Z
DTSTART;TZID=Europe/Berlin:20250207T200000
DTEND;TZID=Europe/Berlin:20250207T230000
SUMMARY:L2P2 Entente Pongiste Neuchâteloise II vs Entente Pongiste Neuchâteloise IV (0)
UID:75d19cc0-e4d5-4c35-b771-56bc9fe8a12a
STATUS:CONFIRMED
LAST-MODIFIED:20250210T174839Z
DESCRIPTION:2ème ligue phase 2\nBegegnungs-Nr: 0\nHeim: Entente Pongiste Neuchâteloise II\nGast: Entente Pongiste Neuchâteloise IV\n\nAdresse: Allée du 700e\, 2525 Le Landeron\n
LOCATION:Allée du 700e\, 2525 Le Landeron
CATEGORIES:Saison 2024/25
END:VEVENT
BEGIN:VEVENT
DTSTAMP:20260419T214402Z
DTSTART;TZID=Europe/Berlin:20250228T200000
DTEND;TZID=Europe/Berlin:20250228T230000
SUMMARY:L2P2 Entente Pongiste Neuchâteloise III vs Entente Pongiste Neuchâteloise IV (0)
UID:d368cf83-9b76-4ef6-8d0b-f87507d1b8ab
STATUS:CONFIRMED
LAST-MODIFIED:20250303T110148Z
DESCRIPTION:2ème ligue phase 2\nBegegnungs-Nr: 0\nHeim: Entente Pongiste Neuchâteloise III\nGast: Entente Pongiste Neuchâteloise IV\n\nAdresse: Allée du 700e\, 2525 Le Landeron\n
LOCATION:Allée du 700e\, 2525 Le Landeron
CATEGORIES:Saison 2024/25
END:VEVENT
END:VCALENDAR
