BEGIN:VCALENDAR
PRODID:-//nuDatenautomaten//framework iCal4j //DE
VERSION:2.0
CALSCALE:GREGORIAN
BEGIN:VTIMEZONE
TZID:Europe/Berlin
LAST-MODIFIED:20260306T231828Z
TZURL:https://www.tzurl.org/zoneinfo/Europe/Berlin
X-LIC-LOCATION:Europe/Berlin
X-PROLEPTIC-TZNAME:LMT
BEGIN:STANDARD
TZNAME:CET
TZOFFSETFROM:+005328
TZOFFSETTO:+0100
DTSTART:18930401T000000
END:STANDARD
BEGIN:DAYLIGHT
TZNAME:CEST
TZOFFSETFROM:+0100
TZOFFSETTO:+0200
DTSTART:19160430T230000
RDATE:19400401T020000
RDATE:19430329T020000
RDATE:19460414T020000
RDATE:19470406T030000
RDATE:19480418T020000
RDATE:19490410T020000
RDATE:19800406T020000
END:DAYLIGHT
BEGIN:STANDARD
TZNAME:CET
TZOFFSETFROM:+0200
TZOFFSETTO:+0100
DTSTART:19161001T010000
RDATE:19421102T030000
RDATE:19431004T030000
RDATE:19441002T030000
RDATE:19451118T030000
RDATE:19461007T030000
END:STANDARD
BEGIN:DAYLIGHT
TZNAME:CEST
TZOFFSETFROM:+0100
TZOFFSETTO:+0200
DTSTART:19170416T020000
RRULE:FREQ=YEARLY;UNTIL=19180415T010000Z;BYMONTH=4;BYDAY=3MO
END:DAYLIGHT
BEGIN:STANDARD
TZNAME:CET
TZOFFSETFROM:+0200
TZOFFSETTO:+0100
DTSTART:19170917T030000
RRULE:FREQ=YEARLY;UNTIL=19180916T010000Z;BYMONTH=9;BYDAY=3MO
END:STANDARD
BEGIN:DAYLIGHT
TZNAME:CEST
TZOFFSETFROM:+0100
TZOFFSETTO:+0200
DTSTART:19440403T020000
RRULE:FREQ=YEARLY;UNTIL=19450402T010000Z;BYMONTH=4;BYDAY=1MO
END:DAYLIGHT
BEGIN:DAYLIGHT
TZNAME:CEMT
TZOFFSETFROM:+0200
TZOFFSETTO:+0300
DTSTART:19450524T020000
RDATE:19470511T030000
END:DAYLIGHT
BEGIN:DAYLIGHT
TZNAME:CEST
TZOFFSETFROM:+0300
TZOFFSETTO:+0200
DTSTART:19450924T030000
RDATE:19470629T030000
END:DAYLIGHT
BEGIN:STANDARD
TZNAME:CET
TZOFFSETFROM:+0100
TZOFFSETTO:+0100
DTSTART:19460101T000000
RDATE:19800101T000000
END:STANDARD
BEGIN:STANDARD
TZNAME:CET
TZOFFSETFROM:+0200
TZOFFSETTO:+0100
DTSTART:19471005T030000
RRULE:FREQ=YEARLY;UNTIL=19491002T010000Z;BYMONTH=10;BYDAY=1SU
END:STANDARD
BEGIN:STANDARD
TZNAME:CET
TZOFFSETFROM:+0200
TZOFFSETTO:+0100
DTSTART:19800928T030000
RRULE:FREQ=YEARLY;UNTIL=19950924T010000Z;BYMONTH=9;BYDAY=-1SU
END:STANDARD
BEGIN:DAYLIGHT
TZNAME:CEST
TZOFFSETFROM:+0100
TZOFFSETTO:+0200
DTSTART:19810329T020000
RRULE:FREQ=YEARLY;BYMONTH=3;BYDAY=-1SU
END:DAYLIGHT
BEGIN:STANDARD
TZNAME:CET
TZOFFSETFROM:+0200
TZOFFSETTO:+0100
DTSTART:19961027T030000
RRULE:FREQ=YEARLY;BYMONTH=10;BYDAY=-1SU
END:STANDARD
END:VTIMEZONE
BEGIN:VEVENT
DTSTAMP:20260424T231900Z
DTSTART;TZID=Europe/Berlin:20250208T150000
DTEND;TZID=Europe/Berlin:20250208T180000
SUMMARY:HE NLB Gr. 2 St. Gallen vs Bremgarten (9)
UID:986aca8f-9dd1-4236-9761-35ece99f64f8
STATUS:CONFIRMED
LAST-MODIFIED:20250210T074320Z
DESCRIPTION:Herren Nationalliga B Gruppe 2\nBegegnungs-Nr: 9\nHeim: St. Gallen\nGast: Bremgarten\n\nAdresse: Zilstrasse 61\, 9016 St.Gallen\n
LOCATION:Zilstrasse 61\, 9016 St.Gallen
CATEGORIES:Saison 2024/25
END:VEVENT
BEGIN:VEVENT
DTSTAMP:20260424T231900Z
DTSTART;TZID=Europe/Berlin:20250301T150000
DTEND;TZID=Europe/Berlin:20250301T180000
SUMMARY:HE NLB Gr. 2 St. Gallen vs Rio-Star Muttenz II (14)
UID:2c778e16-94c8-472b-a89b-aa84f7cf942c
STATUS:CONFIRMED
LAST-MODIFIED:20250303T064718Z
DESCRIPTION:Herren Nationalliga B Gruppe 2\nBegegnungs-Nr: 14\nHeim: St. Gallen\nGast: Rio-Star Muttenz II\n\nAdresse: Zilstrasse 61\, 9016 St.Gallen\n
LOCATION:Zilstrasse 61\, 9016 St.Gallen
CATEGORIES:Saison 2024/25
END:VEVENT
BEGIN:VEVENT
DTSTAMP:20260424T231900Z
DTSTART;TZID=Europe/Berlin:20250302T150000
DTEND;TZID=Europe/Berlin:20250302T180000
SUMMARY:HE NLB Gr. 2 St. Gallen vs ABTT (20)
UID:30d99905-c0a3-4b29-9154-e114193c819b
STATUS:CONFIRMED
LAST-MODIFIED:20250303T064804Z
DESCRIPTION:Herren Nationalliga B Gruppe 2\nBegegnungs-Nr: 20\nHeim: St. Gallen\nGast: ABTT\n\nAdresse: Zilstrasse 61\, 9016 St.Gallen\n
LOCATION:Zilstrasse 61\, 9016 St.Gallen
CATEGORIES:Saison 2024/25
END:VEVENT
BEGIN:VEVENT
DTSTAMP:20260424T231900Z
DTSTART;TZID=Europe/Berlin:20241207T150000
DTEND;TZID=Europe/Berlin:20241207T180000
SUMMARY:HE NLB Gr. 2 St. Gallen vs Fribourg (22)
UID:e6e21584-5976-4bbe-a577-a0d8f980fa4d
STATUS:CONFIRMED
LAST-MODIFIED:20241211T124659Z
DESCRIPTION:Herren Nationalliga B Gruppe 2\nBegegnungs-Nr: 22\nHeim: St. Gallen\nGast: Fribourg\n\nAdresse: Zilstrasse 61\, 9016 St.Gallen\n
LOCATION:Zilstrasse 61\, 9016 St.Gallen
CATEGORIES:Saison 2024/25
END:VEVENT
BEGIN:VEVENT
DTSTAMP:20260424T231900Z
DTSTART;TZID=Europe/Berlin:20241026T150000
DTEND;TZID=Europe/Berlin:20241026T180000
SUMMARY:HE NLB Gr. 2 St. Gallen vs Young Stars ZH II (12)
UID:cc770936-c592-4127-b946-b41185fb8441
STATUS:CONFIRMED
LAST-MODIFIED:20241031T083247Z
DESCRIPTION:Herren Nationalliga B Gruppe 2\nBegegnungs-Nr: 12\nHeim: St. Gallen\nGast: Young Stars ZH II\n\nAdresse: Zilstrasse 61\, 9016 St.Gallen\n
LOCATION:Zilstrasse 61\, 9016 St.Gallen
CATEGORIES:Saison 2024/25
END:VEVENT
BEGIN:VEVENT
DTSTAMP:20260424T231900Z
DTSTART;TZID=Europe/Berlin:20240907T150000
DTEND;TZID=Europe/Berlin:20240907T180000
SUMMARY:HE NLB Gr. 2 St. Gallen vs Rapperswil-Jona II (2)
UID:55ad5910-e918-4baf-8d28-20506f9f6599
STATUS:CONFIRMED
LAST-MODIFIED:20240910T075421Z
DESCRIPTION:Herren Nationalliga B Gruppe 2\nBegegnungs-Nr: 2\nHeim: St. Gallen\nGast: Rapperswil-Jona II\n\nAdresse: Zilstrasse 61\, 9016 St.Gallen\n
LOCATION:Zilstrasse 61\, 9016 St.Gallen
CATEGORIES:Saison 2024/25
END:VEVENT
BEGIN:VEVENT
DTSTAMP:20260424T231900Z
DTSTART;TZID=Europe/Berlin:20241208T150000
DTEND;TZID=Europe/Berlin:20241208T180000
SUMMARY:HE NLB Gr. 2 St. Gallen vs Rapid Luzern (27)
UID:c7ba6fdf-76e4-471b-a104-e25f452ed63f
STATUS:CONFIRMED
LAST-MODIFIED:20241211T124816Z
DESCRIPTION:Herren Nationalliga B Gruppe 2\nBegegnungs-Nr: 27\nHeim: St. Gallen\nGast: Rapid Luzern\n\nAdresse: Zilstrasse 61\, 9016 St.Gallen\n
LOCATION:Zilstrasse 61\, 9016 St.Gallen
CATEGORIES:Saison 2024/25
END:VEVENT
BEGIN:VEVENT
DTSTAMP:20260424T231900Z
DTSTART;TZID=Europe/Berlin:20250201T140000
DTEND;TZID=Europe/Berlin:20250201T170000
SUMMARY:HE NLB Gr. 2 Rapperswil-Jona II vs St. Gallen (6)
UID:9c870348-35df-4968-a368-a5fe2aaee961
STATUS:CONFIRMED
LAST-MODIFIED:20250203T092304Z
DESCRIPTION:Herren Nationalliga B Gruppe 2\nBegegnungs-Nr: 6\nHeim: Rapperswil-Jona II\nGast: St. Gallen\n\nAdresse: Kreuzstrasse 43\, 8640 Rapperswil\n
LOCATION:Kreuzstrasse 43\, 8640 Rapperswil
CATEGORIES:Saison 2024/25
END:VEVENT
BEGIN:VEVENT
DTSTAMP:20260424T231900Z
DTSTART;TZID=Europe/Berlin:20250405T150000
DTEND;TZID=Europe/Berlin:20250405T180000
SUMMARY:HE NLB Gr. 2 Fribourg vs St. Gallen (22)
UID:939ed457-1cdf-483e-9f40-b5d6d82e9a40
STATUS:CONFIRMED
LAST-MODIFIED:20250408T101929Z
DESCRIPTION:Herren Nationalliga B Gruppe 2\nBegegnungs-Nr: 22\nHeim: Fribourg\nGast: St. Gallen\n\nAdresse: Avenue Général Guisan 61\, 1700 Fribourg\n
LOCATION:Avenue Général Guisan 61\, 1700 Fribourg
CATEGORIES:Saison 2024/25
END:VEVENT
BEGIN:VEVENT
DTSTAMP:20260424T231900Z
DTSTART;TZID=Europe/Berlin:20250406T153000
DTEND;TZID=Europe/Berlin:20250406T183000
SUMMARY:HE NLB Gr. 2 Rapid Luzern vs St. Gallen (27)
UID:7313485c-ecf3-4f3a-aa8c-c2249d939624
STATUS:CONFIRMED
LAST-MODIFIED:20250408T102016Z
DESCRIPTION:Herren Nationalliga B Gruppe 2\nBegegnungs-Nr: 27\nHeim: Rapid Luzern\nGast: St. Gallen\n\nAdresse: Kreuzbuchstr. 60\, 6006 Luzern\n
LOCATION:Kreuzbuchstr. 60\, 6006 Luzern
CATEGORIES:Saison 2024/25
END:VEVENT
BEGIN:VEVENT
DTSTAMP:20260424T231900Z
DTSTART;TZID=Europe/Berlin:20250111T173000
DTEND;TZID=Europe/Berlin:20250111T203000
SUMMARY:HE NLB Gr. 2 Young Stars ZH II vs St. Gallen (4)
UID:5622c11e-15d5-44dd-9baf-53a661837b3a
STATUS:CONFIRMED
LAST-MODIFIED:20250113T083813Z
DESCRIPTION:Herren Nationalliga B Gruppe 2\nBegegnungs-Nr: 4\nHeim: Young Stars ZH II\nGast: St. Gallen\n\nAdresse: Seefeldstrasse 93\, 8008 Zürich\n
LOCATION:Seefeldstrasse 93\, 8008 Zürich
CATEGORIES:Saison 2024/25
END:VEVENT
BEGIN:VEVENT
DTSTAMP:20260424T231900Z
DTSTART;TZID=Europe/Berlin:20241102T143000
DTEND;TZID=Europe/Berlin:20241102T173000
SUMMARY:HE NLB Gr. 2 Bremgarten vs St. Gallen (13)
UID:98d300ed-eb12-43fa-9ecb-affd1356124d
STATUS:CONFIRMED
LAST-MODIFIED:20241104T090339Z
DESCRIPTION:Herren Nationalliga B Gruppe 2\nBegegnungs-Nr: 13\nHeim: Bremgarten\nGast: St. Gallen\n\nAdresse: Badstrasse 3\, 5620 Bremgarten\n
LOCATION:Badstrasse 3\, 5620 Bremgarten
CATEGORIES:Saison 2024/25
END:VEVENT
BEGIN:VEVENT
DTSTAMP:20260424T231900Z
DTSTART;TZID=Europe/Berlin:20241117T140000
DTEND;TZID=Europe/Berlin:20241117T170000
SUMMARY:HE NLB Gr. 2 ABTT vs St. Gallen (20)
UID:c9ceb2ab-53de-474e-9941-dd7b39622f4f
STATUS:CONFIRMED
LAST-MODIFIED:20241118T111809Z
DESCRIPTION:Herren Nationalliga B Gruppe 2\nBegegnungs-Nr: 20\nHeim: ABTT\nGast: St. Gallen\n\nAdresse: Francesco Chiesa 2a\, 6500 Bellinzona\n
LOCATION:Francesco Chiesa 2a\, 6500 Bellinzona
CATEGORIES:Saison 2024/25
END:VEVENT
BEGIN:VEVENT
DTSTAMP:20260424T231900Z
DTSTART;TZID=Europe/Berlin:20240928T150000
DTEND;TZID=Europe/Berlin:20240928T180000
SUMMARY:HE NLB Gr. 2 Rio-Star Muttenz II vs St. Gallen (6)
UID:bf42a7be-7eb6-4a91-969d-21b33ff8a4b1
STATUS:CONFIRMED
LAST-MODIFIED:20241001T072444Z
DESCRIPTION:Herren Nationalliga B Gruppe 2\nBegegnungs-Nr: 6\nHeim: Rio-Star Muttenz II\nGast: St. Gallen\n\nAdresse: Gründenstrasse 32\, 4132 Muttenz\n
LOCATION:Gründenstrasse 32\, 4132 Muttenz
CATEGORIES:Saison 2024/25
END:VEVENT
END:VCALENDAR
