BEGIN:VCALENDAR
PRODID:-//nuDatenautomaten//framework iCal4j //DE
VERSION:2.0
CALSCALE:GREGORIAN
BEGIN:VTIMEZONE
TZID:Europe/Berlin
LAST-MODIFIED:20260306T231828Z
TZURL:https://www.tzurl.org/zoneinfo/Europe/Berlin
X-LIC-LOCATION:Europe/Berlin
X-PROLEPTIC-TZNAME:LMT
BEGIN:STANDARD
TZNAME:CET
TZOFFSETFROM:+005328
TZOFFSETTO:+0100
DTSTART:18930401T000000
END:STANDARD
BEGIN:DAYLIGHT
TZNAME:CEST
TZOFFSETFROM:+0100
TZOFFSETTO:+0200
DTSTART:19160430T230000
RDATE:19400401T020000
RDATE:19430329T020000
RDATE:19460414T020000
RDATE:19470406T030000
RDATE:19480418T020000
RDATE:19490410T020000
RDATE:19800406T020000
END:DAYLIGHT
BEGIN:STANDARD
TZNAME:CET
TZOFFSETFROM:+0200
TZOFFSETTO:+0100
DTSTART:19161001T010000
RDATE:19421102T030000
RDATE:19431004T030000
RDATE:19441002T030000
RDATE:19451118T030000
RDATE:19461007T030000
END:STANDARD
BEGIN:DAYLIGHT
TZNAME:CEST
TZOFFSETFROM:+0100
TZOFFSETTO:+0200
DTSTART:19170416T020000
RRULE:FREQ=YEARLY;UNTIL=19180415T010000Z;BYMONTH=4;BYDAY=3MO
END:DAYLIGHT
BEGIN:STANDARD
TZNAME:CET
TZOFFSETFROM:+0200
TZOFFSETTO:+0100
DTSTART:19170917T030000
RRULE:FREQ=YEARLY;UNTIL=19180916T010000Z;BYMONTH=9;BYDAY=3MO
END:STANDARD
BEGIN:DAYLIGHT
TZNAME:CEST
TZOFFSETFROM:+0100
TZOFFSETTO:+0200
DTSTART:19440403T020000
RRULE:FREQ=YEARLY;UNTIL=19450402T010000Z;BYMONTH=4;BYDAY=1MO
END:DAYLIGHT
BEGIN:DAYLIGHT
TZNAME:CEMT
TZOFFSETFROM:+0200
TZOFFSETTO:+0300
DTSTART:19450524T020000
RDATE:19470511T030000
END:DAYLIGHT
BEGIN:DAYLIGHT
TZNAME:CEST
TZOFFSETFROM:+0300
TZOFFSETTO:+0200
DTSTART:19450924T030000
RDATE:19470629T030000
END:DAYLIGHT
BEGIN:STANDARD
TZNAME:CET
TZOFFSETFROM:+0100
TZOFFSETTO:+0100
DTSTART:19460101T000000
RDATE:19800101T000000
END:STANDARD
BEGIN:STANDARD
TZNAME:CET
TZOFFSETFROM:+0200
TZOFFSETTO:+0100
DTSTART:19471005T030000
RRULE:FREQ=YEARLY;UNTIL=19491002T010000Z;BYMONTH=10;BYDAY=1SU
END:STANDARD
BEGIN:STANDARD
TZNAME:CET
TZOFFSETFROM:+0200
TZOFFSETTO:+0100
DTSTART:19800928T030000
RRULE:FREQ=YEARLY;UNTIL=19950924T010000Z;BYMONTH=9;BYDAY=-1SU
END:STANDARD
BEGIN:DAYLIGHT
TZNAME:CEST
TZOFFSETFROM:+0100
TZOFFSETTO:+0200
DTSTART:19810329T020000
RRULE:FREQ=YEARLY;BYMONTH=3;BYDAY=-1SU
END:DAYLIGHT
BEGIN:STANDARD
TZNAME:CET
TZOFFSETFROM:+0200
TZOFFSETTO:+0100
DTSTART:19961027T030000
RRULE:FREQ=YEARLY;BYMONTH=10;BYDAY=-1SU
END:STANDARD
END:VTIMEZONE
BEGIN:VEVENT
DTSTAMP:20260425T005045Z
DTSTART;TZID=Europe/Berlin:20241028T201500
DTEND;TZID=Europe/Berlin:20241028T231500
SUMMARY:HE 4. Liga Gr. 1 Wuppenau vs Oberriet III (0)
UID:d238fd43-8a0c-43e7-953d-3336aa551bab
STATUS:CONFIRMED
LAST-MODIFIED:20241030T102704Z
DESCRIPTION:4. Liga Herren Gruppe 1\nBegegnungs-Nr: 0\nHeim: Wuppenau\nGast: Oberriet III\n\nAdresse: Nollenstrasse\, 9514 Wuppenau\n
LOCATION:Nollenstrasse\, 9514 Wuppenau
CATEGORIES:Saison 2024/25
END:VEVENT
BEGIN:VEVENT
DTSTAMP:20260425T005045Z
DTSTART;TZID=Europe/Berlin:20240923T201500
DTEND;TZID=Europe/Berlin:20240923T231500
SUMMARY:HE 4. Liga Gr. 1 Wuppenau vs Rorschach (0)
UID:63799a5b-4191-4e2a-b154-f2bf007b8e39
STATUS:CONFIRMED
LAST-MODIFIED:20240926T114736Z
DESCRIPTION:4. Liga Herren Gruppe 1\nBegegnungs-Nr: 0\nHeim: Wuppenau\nGast: Rorschach\n\nAdresse: Nollenstrasse\, 9514 Wuppenau\n
LOCATION:Nollenstrasse\, 9514 Wuppenau
CATEGORIES:Saison 2024/25
END:VEVENT
BEGIN:VEVENT
DTSTAMP:20260425T005045Z
DTSTART;TZID=Europe/Berlin:20240902T201500
DTEND;TZID=Europe/Berlin:20240902T231500
SUMMARY:HE 4. Liga Gr. 1 Wuppenau vs Romanshorn III (0)
UID:2bb3eb71-077e-4dd2-98d8-2c089bae3be7
STATUS:CONFIRMED
LAST-MODIFIED:20240904T102039Z
DESCRIPTION:4. Liga Herren Gruppe 1\nBegegnungs-Nr: 0\nHeim: Wuppenau\nGast: Romanshorn III\n\nAdresse: Nollenstrasse\, 9514 Wuppenau\n
LOCATION:Nollenstrasse\, 9514 Wuppenau
CATEGORIES:Saison 2024/25
END:VEVENT
BEGIN:VEVENT
DTSTAMP:20260425T005045Z
DTSTART;TZID=Europe/Berlin:20250324T201500
DTEND;TZID=Europe/Berlin:20250324T231500
SUMMARY:HE 4. Liga Gr. 1 Wuppenau vs Herisau II (0)
UID:ecc931a3-71c0-4a65-b0ab-b2a436f8bfc6
STATUS:CONFIRMED
LAST-MODIFIED:20250327T133510Z
DESCRIPTION:4. Liga Herren Gruppe 1\nBegegnungs-Nr: 0\nHeim: Wuppenau\nGast: Herisau II\n\nAdresse: Nollenstrasse\, 9514 Wuppenau\n
LOCATION:Nollenstrasse\, 9514 Wuppenau
CATEGORIES:Saison 2024/25
END:VEVENT
BEGIN:VEVENT
DTSTAMP:20260425T005045Z
DTSTART;TZID=Europe/Berlin:20250314T200000
DTEND;TZID=Europe/Berlin:20250314T230000
SUMMARY:HE 4. Liga Gr. 1 Wuppenau vs Muolen III (0)
UID:f7fa4d79-9c1a-4c19-aa6c-46ca102089d5
STATUS:CONFIRMED
LAST-MODIFIED:20250319T094228Z
DESCRIPTION:4. Liga Herren Gruppe 1\nBegegnungs-Nr: 0\nHeim: Wuppenau\nGast: Muolen III\n\nAdresse: Nollenstrasse\, 9514 Wuppenau\n
LOCATION:Nollenstrasse\, 9514 Wuppenau
CATEGORIES:Saison 2024/25
END:VEVENT
BEGIN:VEVENT
DTSTAMP:20260425T005045Z
DTSTART;TZID=Europe/Berlin:20250127T201500
DTEND;TZID=Europe/Berlin:20250127T231500
SUMMARY:HE 4. Liga Gr. 1 Wuppenau vs Wolfhalden II (0)
UID:52433297-bf32-49c3-a64b-ee6af18d96cf
STATUS:CONFIRMED
LAST-MODIFIED:20250128T105853Z
DESCRIPTION:4. Liga Herren Gruppe 1\nBegegnungs-Nr: 0\nHeim: Wuppenau\nGast: Wolfhalden II\n\nAdresse: Nollenstrasse\, 9514 Wuppenau\n
LOCATION:Nollenstrasse\, 9514 Wuppenau
CATEGORIES:Saison 2024/25
END:VEVENT
BEGIN:VEVENT
DTSTAMP:20260425T005045Z
DTSTART;TZID=Europe/Berlin:20241125T201500
DTEND;TZID=Europe/Berlin:20241125T231500
SUMMARY:HE 4. Liga Gr. 1 Wuppenau vs St. Gallen VI (0)
UID:610e129e-233e-4f16-ac6c-8527f08b30da
STATUS:CONFIRMED
LAST-MODIFIED:20241126T082352Z
DESCRIPTION:4. Liga Herren Gruppe 1\nBegegnungs-Nr: 0\nHeim: Wuppenau\nGast: St. Gallen VI\n\nAdresse: Nollenstrasse\, 9514 Wuppenau\n
LOCATION:Nollenstrasse\, 9514 Wuppenau
CATEGORIES:Saison 2024/25
END:VEVENT
BEGIN:VEVENT
DTSTAMP:20260425T005045Z
DTSTART;TZID=Europe/Berlin:20241203T201500
DTEND;TZID=Europe/Berlin:20241203T231500
SUMMARY:HE 4. Liga Gr. 1 Herisau II vs Wuppenau (0)
UID:ab1d1782-acc1-4e6d-8700-ce7c8f6a1fd9
STATUS:CONFIRMED
LAST-MODIFIED:20241205T124421Z
DESCRIPTION:4. Liga Herren Gruppe 1\nBegegnungs-Nr: 0\nHeim: Herisau II\nGast: Wuppenau\n\nAdresse: Schwellbrunnerstrasse 29\, 9100 Herisau\n
LOCATION:Schwellbrunnerstrasse 29\, 9100 Herisau
CATEGORIES:Saison 2024/25
END:VEVENT
BEGIN:VEVENT
DTSTAMP:20260425T005045Z
DTSTART;TZID=Europe/Berlin:20241104T200000
DTEND;TZID=Europe/Berlin:20241104T230000
SUMMARY:HE 4. Liga Gr. 1 Muolen III vs Wuppenau (0)
UID:0af772d0-7131-4a58-bddb-e8d3d0aa605d
STATUS:CONFIRMED
LAST-MODIFIED:20241108T134428Z
DESCRIPTION:4. Liga Herren Gruppe 1\nBegegnungs-Nr: 0\nHeim: Muolen III\nGast: Wuppenau\n\nAdresse: Olmishauserstrasse 3\, 9314 Steinebrunn\n
LOCATION:Olmishauserstrasse 3\, 9314 Steinebrunn
CATEGORIES:Saison 2024/25
END:VEVENT
BEGIN:VEVENT
DTSTAMP:20260425T005045Z
DTSTART;TZID=Europe/Berlin:20240916T200000
DTEND;TZID=Europe/Berlin:20240916T230000
SUMMARY:HE 4. Liga Gr. 1 Wolfhalden II vs Wuppenau (0)
UID:933034d7-6bb2-4f2c-9006-f532801635e7
STATUS:CONFIRMED
LAST-MODIFIED:20240917T070943Z
DESCRIPTION:4. Liga Herren Gruppe 1\nBegegnungs-Nr: 0\nHeim: Wolfhalden II\nGast: Wuppenau\n\nAdresse: -\, 9427 Wolfhalden\n
LOCATION:-\, 9427 Wolfhalden
CATEGORIES:Saison 2024/25
END:VEVENT
BEGIN:VEVENT
DTSTAMP:20260425T005045Z
DTSTART;TZID=Europe/Berlin:20240827T200000
DTEND;TZID=Europe/Berlin:20240827T230000
SUMMARY:HE 4. Liga Gr. 1 St. Gallen VI vs Wuppenau (0)
UID:3db9883a-c411-48d0-bda4-1581347f86e5
STATUS:CONFIRMED
LAST-MODIFIED:20240830T092140Z
DESCRIPTION:4. Liga Herren Gruppe 1\nBegegnungs-Nr: 0\nHeim: St. Gallen VI\nGast: Wuppenau\n\nAdresse: Zilstrasse 61\, 9016 St.Gallen\n
LOCATION:Zilstrasse 61\, 9016 St.Gallen
CATEGORIES:Saison 2024/25
END:VEVENT
BEGIN:VEVENT
DTSTAMP:20260425T005045Z
DTSTART;TZID=Europe/Berlin:20250307T201500
DTEND;TZID=Europe/Berlin:20250307T231500
SUMMARY:HE 4. Liga Gr. 1 Oberriet III vs Wuppenau (0)
UID:429596fc-55c7-4941-9594-85b653cfff0e
STATUS:CONFIRMED
LAST-MODIFIED:20250311T151021Z
DESCRIPTION:4. Liga Herren Gruppe 1\nBegegnungs-Nr: 0\nHeim: Oberriet III\nGast: Wuppenau\n\nAdresse: Neugutstrasse 2\, 9463 Oberriet SG\n
LOCATION:Neugutstrasse 2\, 9463 Oberriet SG
CATEGORIES:Saison 2024/25
END:VEVENT
BEGIN:VEVENT
DTSTAMP:20260425T005045Z
DTSTART;TZID=Europe/Berlin:20250211T200000
DTEND;TZID=Europe/Berlin:20250211T230000
SUMMARY:HE 4. Liga Gr. 1 Rorschach vs Wuppenau (0)
UID:ca195ffc-e10b-4171-baf6-6f547671b55a
STATUS:CONFIRMED
LAST-MODIFIED:20250213T090016Z
DESCRIPTION:4. Liga Herren Gruppe 1\nBegegnungs-Nr: 0\nHeim: Rorschach\nGast: Wuppenau\n\nAdresse: Mariabergstrasse 33\, 9400 Rorschach\n
LOCATION:Mariabergstrasse 33\, 9400 Rorschach
CATEGORIES:Saison 2024/25
END:VEVENT
BEGIN:VEVENT
DTSTAMP:20260425T005045Z
DTSTART;TZID=Europe/Berlin:20250110T201500
DTEND;TZID=Europe/Berlin:20250110T231500
SUMMARY:HE 4. Liga Gr. 1 Romanshorn III vs Wuppenau (0)
UID:1014128e-d0bf-4a2f-8a9a-d3d2ba769f1b
STATUS:CONFIRMED
LAST-MODIFIED:20250113T122723Z
DESCRIPTION:4. Liga Herren Gruppe 1\nBegegnungs-Nr: 0\nHeim: Romanshorn III\nGast: Wuppenau\n\nAdresse: Florastrasse\, 8590 Romanshorn\n
LOCATION:Florastrasse\, 8590 Romanshorn
CATEGORIES:Saison 2024/25
END:VEVENT
END:VCALENDAR
