BEGIN:VCALENDAR
PRODID:-//nuDatenautomaten//framework iCal4j //DE
VERSION:2.0
CALSCALE:GREGORIAN
BEGIN:VTIMEZONE
TZID:Europe/Berlin
LAST-MODIFIED:20260306T231828Z
TZURL:https://www.tzurl.org/zoneinfo/Europe/Berlin
X-LIC-LOCATION:Europe/Berlin
X-PROLEPTIC-TZNAME:LMT
BEGIN:STANDARD
TZNAME:CET
TZOFFSETFROM:+005328
TZOFFSETTO:+0100
DTSTART:18930401T000000
END:STANDARD
BEGIN:DAYLIGHT
TZNAME:CEST
TZOFFSETFROM:+0100
TZOFFSETTO:+0200
DTSTART:19160430T230000
RDATE:19400401T020000
RDATE:19430329T020000
RDATE:19460414T020000
RDATE:19470406T030000
RDATE:19480418T020000
RDATE:19490410T020000
RDATE:19800406T020000
END:DAYLIGHT
BEGIN:STANDARD
TZNAME:CET
TZOFFSETFROM:+0200
TZOFFSETTO:+0100
DTSTART:19161001T010000
RDATE:19421102T030000
RDATE:19431004T030000
RDATE:19441002T030000
RDATE:19451118T030000
RDATE:19461007T030000
END:STANDARD
BEGIN:DAYLIGHT
TZNAME:CEST
TZOFFSETFROM:+0100
TZOFFSETTO:+0200
DTSTART:19170416T020000
RRULE:FREQ=YEARLY;UNTIL=19180415T010000Z;BYMONTH=4;BYDAY=3MO
END:DAYLIGHT
BEGIN:STANDARD
TZNAME:CET
TZOFFSETFROM:+0200
TZOFFSETTO:+0100
DTSTART:19170917T030000
RRULE:FREQ=YEARLY;UNTIL=19180916T010000Z;BYMONTH=9;BYDAY=3MO
END:STANDARD
BEGIN:DAYLIGHT
TZNAME:CEST
TZOFFSETFROM:+0100
TZOFFSETTO:+0200
DTSTART:19440403T020000
RRULE:FREQ=YEARLY;UNTIL=19450402T010000Z;BYMONTH=4;BYDAY=1MO
END:DAYLIGHT
BEGIN:DAYLIGHT
TZNAME:CEMT
TZOFFSETFROM:+0200
TZOFFSETTO:+0300
DTSTART:19450524T020000
RDATE:19470511T030000
END:DAYLIGHT
BEGIN:DAYLIGHT
TZNAME:CEST
TZOFFSETFROM:+0300
TZOFFSETTO:+0200
DTSTART:19450924T030000
RDATE:19470629T030000
END:DAYLIGHT
BEGIN:STANDARD
TZNAME:CET
TZOFFSETFROM:+0100
TZOFFSETTO:+0100
DTSTART:19460101T000000
RDATE:19800101T000000
END:STANDARD
BEGIN:STANDARD
TZNAME:CET
TZOFFSETFROM:+0200
TZOFFSETTO:+0100
DTSTART:19471005T030000
RRULE:FREQ=YEARLY;UNTIL=19491002T010000Z;BYMONTH=10;BYDAY=1SU
END:STANDARD
BEGIN:STANDARD
TZNAME:CET
TZOFFSETFROM:+0200
TZOFFSETTO:+0100
DTSTART:19800928T030000
RRULE:FREQ=YEARLY;UNTIL=19950924T010000Z;BYMONTH=9;BYDAY=-1SU
END:STANDARD
BEGIN:DAYLIGHT
TZNAME:CEST
TZOFFSETFROM:+0100
TZOFFSETTO:+0200
DTSTART:19810329T020000
RRULE:FREQ=YEARLY;BYMONTH=3;BYDAY=-1SU
END:DAYLIGHT
BEGIN:STANDARD
TZNAME:CET
TZOFFSETFROM:+0200
TZOFFSETTO:+0100
DTSTART:19961027T030000
RRULE:FREQ=YEARLY;BYMONTH=10;BYDAY=-1SU
END:STANDARD
END:VTIMEZONE
BEGIN:VEVENT
DTSTAMP:20260425T004241Z
DTSTART;TZID=Europe/Berlin:20241118T200000
DTEND;TZID=Europe/Berlin:20241118T230000
SUMMARY:O40 1. Liga Gr. 1 Chur vs Wädenswil (0)
UID:f40c367f-b7c1-4ba9-8d71-c1374a5fa6a0
STATUS:CONFIRMED
LAST-MODIFIED:20241122T151553Z
DESCRIPTION: 1. Liga O40 Gruppe 1\nBegegnungs-Nr: 0\nHeim: Chur\nGast: Wädenswil\n\nAdresse: Sandstr. 35\, 7000 Chur\n
LOCATION:Sandstr. 35\, 7000 Chur
CATEGORIES:Saison 2024/25
END:VEVENT
BEGIN:VEVENT
DTSTAMP:20260425T004241Z
DTSTART;TZID=Europe/Berlin:20241024T200000
DTEND;TZID=Europe/Berlin:20241024T230000
SUMMARY:O40 1. Liga Gr. 1 Chur vs Niederhasli (0)
UID:cc688933-fe7a-4e7d-a75a-4e87371d1257
STATUS:CONFIRMED
LAST-MODIFIED:20241030T131205Z
DESCRIPTION: 1. Liga O40 Gruppe 1\nBegegnungs-Nr: 0\nHeim: Chur\nGast: Niederhasli\n\nAdresse: Sandstr. 35\, 7000 Chur\n
LOCATION:Sandstr. 35\, 7000 Chur
CATEGORIES:Saison 2024/25
END:VEVENT
BEGIN:VEVENT
DTSTAMP:20260425T004241Z
DTSTART;TZID=Europe/Berlin:20240930T200000
DTEND;TZID=Europe/Berlin:20240930T230000
SUMMARY:O40 1. Liga Gr. 1 Chur vs Romanshorn (0)
UID:d2bce7d6-e61a-437c-8e60-eb1be01910f8
STATUS:CONFIRMED
LAST-MODIFIED:20241004T082017Z
DESCRIPTION: 1. Liga O40 Gruppe 1\nBegegnungs-Nr: 0\nHeim: Chur\nGast: Romanshorn\n\nAdresse: Sandstr. 35\, 7000 Chur\n
LOCATION:Sandstr. 35\, 7000 Chur
CATEGORIES:Saison 2024/25
END:VEVENT
BEGIN:VEVENT
DTSTAMP:20260425T004241Z
DTSTART;TZID=Europe/Berlin:20250428T200000
DTEND;TZID=Europe/Berlin:20250428T230000
SUMMARY:O40 1. Liga Gr. 1 Chur vs Zürich-Affoltern (0)
UID:e47f5d21-21d9-440c-91cf-b9bc0032b4be
STATUS:CONFIRMED
LAST-MODIFIED:20250506T135740Z
DESCRIPTION: 1. Liga O40 Gruppe 1\nBegegnungs-Nr: 0\nHeim: Chur\nGast: Zürich-Affoltern\n\nAdresse: Sandstr. 35\, 7000 Chur\n
LOCATION:Sandstr. 35\, 7000 Chur
CATEGORIES:Saison 2024/25
END:VEVENT
BEGIN:VEVENT
DTSTAMP:20260425T004241Z
DTSTART;TZID=Europe/Berlin:20250217T200000
DTEND;TZID=Europe/Berlin:20250217T230000
SUMMARY:O40 1. Liga Gr. 1 Chur vs Wetzikon (0)
UID:089367cc-230c-42ca-ac0a-a53fb6bfdcd9
STATUS:CONFIRMED
LAST-MODIFIED:20250219T155907Z
DESCRIPTION: 1. Liga O40 Gruppe 1\nBegegnungs-Nr: 0\nHeim: Chur\nGast: Wetzikon\n\nAdresse: Sandstr. 35\, 7000 Chur\n
LOCATION:Sandstr. 35\, 7000 Chur
CATEGORIES:Saison 2024/25
END:VEVENT
BEGIN:VEVENT
DTSTAMP:20260425T004241Z
DTSTART;TZID=Europe/Berlin:20250113T200000
DTEND;TZID=Europe/Berlin:20250113T230000
SUMMARY:O40 1. Liga Gr. 1 Chur vs Gaiserwald (0)
UID:4298022c-80e1-4e4b-aefa-3c09975b23d1
STATUS:CONFIRMED
LAST-MODIFIED:20250114T094511Z
DESCRIPTION: 1. Liga O40 Gruppe 1\nBegegnungs-Nr: 0\nHeim: Chur\nGast: Gaiserwald\n\nAdresse: Sandstr. 35\, 7000 Chur\n
LOCATION:Sandstr. 35\, 7000 Chur
CATEGORIES:Saison 2024/25
END:VEVENT
BEGIN:VEVENT
DTSTAMP:20260425T004241Z
DTSTART;TZID=Europe/Berlin:20241213T201500
DTEND;TZID=Europe/Berlin:20241213T231500
SUMMARY:O40 1. Liga Gr. 1 Zürich-Affoltern vs Chur (0)
UID:5a9057d6-c601-41b9-939f-6c1aac605c4b
STATUS:CONFIRMED
LAST-MODIFIED:20241218T080305Z
DESCRIPTION: 1. Liga O40 Gruppe 1\nBegegnungs-Nr: 0\nHeim: Zürich-Affoltern\nGast: Chur\n\nAdresse: Rümlangstr. 89\, 8052 Zürich\n
LOCATION:Rümlangstr. 89\, 8052 Zürich
CATEGORIES:Saison 2024/25
END:VEVENT
BEGIN:VEVENT
DTSTAMP:20260425T004241Z
DTSTART;TZID=Europe/Berlin:20240913T194500
DTEND;TZID=Europe/Berlin:20240913T224500
SUMMARY:O40 1. Liga Gr. 1 Wetzikon vs Chur (0)
UID:e1708f58-08bc-470c-9857-3905f6490cac
STATUS:CONFIRMED
LAST-MODIFIED:20240917T072657Z
DESCRIPTION: 1. Liga O40 Gruppe 1\nBegegnungs-Nr: 0\nHeim: Wetzikon\nGast: Chur\n\nAdresse: Usterstrasse 37\, 8620 Wetzikon\n
LOCATION:Usterstrasse 37\, 8620 Wetzikon
CATEGORIES:Saison 2024/25
END:VEVENT
BEGIN:VEVENT
DTSTAMP:20260425T004241Z
DTSTART;TZID=Europe/Berlin:20241112T200000
DTEND;TZID=Europe/Berlin:20241112T230000
SUMMARY:O40 1. Liga Gr. 1 Gaiserwald vs Chur (0)
UID:0b0b216a-f72a-4fcb-9a60-0feb3951d5ed
STATUS:CONFIRMED
LAST-MODIFIED:20241114T080519Z
DESCRIPTION: 1. Liga O40 Gruppe 1\nBegegnungs-Nr: 0\nHeim: Gaiserwald\nGast: Chur\n\nAdresse: Sonnenbergstrasse 15\, 9030 Abtwil\n
LOCATION:Sonnenbergstrasse 15\, 9030 Abtwil
CATEGORIES:Saison 2024/25
END:VEVENT
BEGIN:VEVENT
DTSTAMP:20260425T004241Z
DTSTART;TZID=Europe/Berlin:20250403T200000
DTEND;TZID=Europe/Berlin:20250403T230000
SUMMARY:O40 1. Liga Gr. 1 Wädenswil vs Chur (0)
UID:d3a5158e-f0fc-4e70-9b94-5b4ce06db77a
STATUS:CONFIRMED
LAST-MODIFIED:20250404T083822Z
DESCRIPTION: 1. Liga O40 Gruppe 1\nBegegnungs-Nr: 0\nHeim: Wädenswil\nGast: Chur\n\nAdresse: Speerstrasse 95\, 8820 Wädenswil\n
LOCATION:Speerstrasse 95\, 8820 Wädenswil
CATEGORIES:Saison 2024/25
END:VEVENT
BEGIN:VEVENT
DTSTAMP:20260425T004241Z
DTSTART;TZID=Europe/Berlin:20250321T193000
DTEND;TZID=Europe/Berlin:20250321T223000
SUMMARY:O40 1. Liga Gr. 1 Niederhasli vs Chur (0)
UID:e45b04c9-3665-48bd-84dd-602d305f786b
STATUS:CONFIRMED
LAST-MODIFIED:20250327T134622Z
DESCRIPTION: 1. Liga O40 Gruppe 1\nBegegnungs-Nr: 0\nHeim: Niederhasli\nGast: Chur\n\nAdresse: Dorfstrasse 22\, 8155 Niederhasli\n
LOCATION:Dorfstrasse 22\, 8155 Niederhasli
CATEGORIES:Saison 2024/25
END:VEVENT
BEGIN:VEVENT
DTSTAMP:20260425T004241Z
DTSTART;TZID=Europe/Berlin:20250207T201500
DTEND;TZID=Europe/Berlin:20250207T231500
SUMMARY:O40 1. Liga Gr. 1 Romanshorn vs Chur (0)
UID:63b37869-2d66-49a6-80ac-00dd60d42c2e
STATUS:CONFIRMED
LAST-MODIFIED:20250213T133310Z
DESCRIPTION: 1. Liga O40 Gruppe 1\nBegegnungs-Nr: 0\nHeim: Romanshorn\nGast: Chur\n\nAdresse: Florastrasse\, 8590 Romanshorn\n
LOCATION:Florastrasse\, 8590 Romanshorn
CATEGORIES:Saison 2024/25
END:VEVENT
END:VCALENDAR
