BEGIN:VCALENDAR
PRODID:-//nuDatenautomaten//framework iCal4j //DE
VERSION:2.0
CALSCALE:GREGORIAN
BEGIN:VTIMEZONE
TZID:Europe/Berlin
LAST-MODIFIED:20260306T231828Z
TZURL:https://www.tzurl.org/zoneinfo/Europe/Berlin
X-LIC-LOCATION:Europe/Berlin
X-PROLEPTIC-TZNAME:LMT
BEGIN:STANDARD
TZNAME:CET
TZOFFSETFROM:+005328
TZOFFSETTO:+0100
DTSTART:18930401T000000
END:STANDARD
BEGIN:DAYLIGHT
TZNAME:CEST
TZOFFSETFROM:+0100
TZOFFSETTO:+0200
DTSTART:19160430T230000
RDATE:19400401T020000
RDATE:19430329T020000
RDATE:19460414T020000
RDATE:19470406T030000
RDATE:19480418T020000
RDATE:19490410T020000
RDATE:19800406T020000
END:DAYLIGHT
BEGIN:STANDARD
TZNAME:CET
TZOFFSETFROM:+0200
TZOFFSETTO:+0100
DTSTART:19161001T010000
RDATE:19421102T030000
RDATE:19431004T030000
RDATE:19441002T030000
RDATE:19451118T030000
RDATE:19461007T030000
END:STANDARD
BEGIN:DAYLIGHT
TZNAME:CEST
TZOFFSETFROM:+0100
TZOFFSETTO:+0200
DTSTART:19170416T020000
RRULE:FREQ=YEARLY;UNTIL=19180415T010000Z;BYMONTH=4;BYDAY=3MO
END:DAYLIGHT
BEGIN:STANDARD
TZNAME:CET
TZOFFSETFROM:+0200
TZOFFSETTO:+0100
DTSTART:19170917T030000
RRULE:FREQ=YEARLY;UNTIL=19180916T010000Z;BYMONTH=9;BYDAY=3MO
END:STANDARD
BEGIN:DAYLIGHT
TZNAME:CEST
TZOFFSETFROM:+0100
TZOFFSETTO:+0200
DTSTART:19440403T020000
RRULE:FREQ=YEARLY;UNTIL=19450402T010000Z;BYMONTH=4;BYDAY=1MO
END:DAYLIGHT
BEGIN:DAYLIGHT
TZNAME:CEMT
TZOFFSETFROM:+0200
TZOFFSETTO:+0300
DTSTART:19450524T020000
RDATE:19470511T030000
END:DAYLIGHT
BEGIN:DAYLIGHT
TZNAME:CEST
TZOFFSETFROM:+0300
TZOFFSETTO:+0200
DTSTART:19450924T030000
RDATE:19470629T030000
END:DAYLIGHT
BEGIN:STANDARD
TZNAME:CET
TZOFFSETFROM:+0100
TZOFFSETTO:+0100
DTSTART:19460101T000000
RDATE:19800101T000000
END:STANDARD
BEGIN:STANDARD
TZNAME:CET
TZOFFSETFROM:+0200
TZOFFSETTO:+0100
DTSTART:19471005T030000
RRULE:FREQ=YEARLY;UNTIL=19491002T010000Z;BYMONTH=10;BYDAY=1SU
END:STANDARD
BEGIN:STANDARD
TZNAME:CET
TZOFFSETFROM:+0200
TZOFFSETTO:+0100
DTSTART:19800928T030000
RRULE:FREQ=YEARLY;UNTIL=19950924T010000Z;BYMONTH=9;BYDAY=-1SU
END:STANDARD
BEGIN:DAYLIGHT
TZNAME:CEST
TZOFFSETFROM:+0100
TZOFFSETTO:+0200
DTSTART:19810329T020000
RRULE:FREQ=YEARLY;BYMONTH=3;BYDAY=-1SU
END:DAYLIGHT
BEGIN:STANDARD
TZNAME:CET
TZOFFSETFROM:+0200
TZOFFSETTO:+0100
DTSTART:19961027T030000
RRULE:FREQ=YEARLY;BYMONTH=10;BYDAY=-1SU
END:STANDARD
END:VTIMEZONE
BEGIN:VEVENT
DTSTAMP:20260425T004945Z
DTSTART;TZID=Europe/Berlin:20240930T194500
DTEND;TZID=Europe/Berlin:20240930T224500
SUMMARY:HE 2. Liga Gr. 3 Wetzikon IV vs Triesen (0)
UID:d15233f3-b1fd-4928-ac9f-bcb34af143b5
STATUS:CONFIRMED
LAST-MODIFIED:20241004T080307Z
DESCRIPTION:2. Liga Herren Gruppe 3\nBegegnungs-Nr: 0\nHeim: Wetzikon IV\nGast: Triesen\n\nAdresse: Usterstrasse 37\, 8620 Wetzikon\n
LOCATION:Usterstrasse 37\, 8620 Wetzikon
CATEGORIES:Saison 2024/25
END:VEVENT
BEGIN:VEVENT
DTSTAMP:20260425T004945Z
DTSTART;TZID=Europe/Berlin:20240902T194500
DTEND;TZID=Europe/Berlin:20240902T224500
SUMMARY:HE 2. Liga Gr. 3 Wetzikon IV vs BW-Wollishofen (0)
UID:b3b69913-f022-44cd-8083-c5438fa643fe
STATUS:CONFIRMED
LAST-MODIFIED:20240903T154000Z
DESCRIPTION:2. Liga Herren Gruppe 3\nBegegnungs-Nr: 0\nHeim: Wetzikon IV\nGast: BW-Wollishofen\n\nAdresse: Usterstrasse 37\, 8620 Wetzikon\n
LOCATION:Usterstrasse 37\, 8620 Wetzikon
CATEGORIES:Saison 2024/25
END:VEVENT
BEGIN:VEVENT
DTSTAMP:20260425T004945Z
DTSTART;TZID=Europe/Berlin:20241104T194500
DTEND;TZID=Europe/Berlin:20241104T224500
SUMMARY:HE 2. Liga Gr. 3 Wetzikon IV vs Pinguin Zürich (0)
UID:80a5626d-23e3-4e9c-ac5f-69977fd4ee77
STATUS:CONFIRMED
LAST-MODIFIED:20241106T080905Z
DESCRIPTION:2. Liga Herren Gruppe 3\nBegegnungs-Nr: 0\nHeim: Wetzikon IV\nGast: Pinguin Zürich\n\nAdresse: Usterstrasse 37\, 8620 Wetzikon\n
LOCATION:Usterstrasse 37\, 8620 Wetzikon
CATEGORIES:Saison 2024/25
END:VEVENT
BEGIN:VEVENT
DTSTAMP:20260425T004945Z
DTSTART;TZID=Europe/Berlin:20241202T194500
DTEND;TZID=Europe/Berlin:20241202T224500
SUMMARY:HE 2. Liga Gr. 3 Wetzikon IV vs Young Stars ZH IV (0)
UID:bb110173-14ef-437a-9002-6fb2a67f1411
STATUS:CONFIRMED
LAST-MODIFIED:20241205T085505Z
DESCRIPTION:2. Liga Herren Gruppe 3\nBegegnungs-Nr: 0\nHeim: Wetzikon IV\nGast: Young Stars ZH IV\n\nAdresse: Usterstrasse 37\, 8620 Wetzikon\n
LOCATION:Usterstrasse 37\, 8620 Wetzikon
CATEGORIES:Saison 2024/25
END:VEVENT
BEGIN:VEVENT
DTSTAMP:20260425T004945Z
DTSTART;TZID=Europe/Berlin:20250303T194500
DTEND;TZID=Europe/Berlin:20250303T224500
SUMMARY:HE 2. Liga Gr. 3 Wetzikon IV vs Wädenswil II (0)
UID:48b63976-afe1-4f82-9b14-c7031f9240a8
STATUS:CONFIRMED
LAST-MODIFIED:20250306T142040Z
DESCRIPTION:2. Liga Herren Gruppe 3\nBegegnungs-Nr: 0\nHeim: Wetzikon IV\nGast: Wädenswil II\n\nAdresse: Usterstrasse 37\, 8620 Wetzikon\n
LOCATION:Usterstrasse 37\, 8620 Wetzikon
CATEGORIES:Saison 2024/25
END:VEVENT
BEGIN:VEVENT
DTSTAMP:20260425T004945Z
DTSTART;TZID=Europe/Berlin:20250127T194500
DTEND;TZID=Europe/Berlin:20250127T224500
SUMMARY:HE 2. Liga Gr. 3 Wetzikon IV vs Zürich-Affoltern III (0)
UID:9b589b8e-15a4-4dc6-9427-0e6bd3000a3e
STATUS:CONFIRMED
LAST-MODIFIED:20250129T104904Z
DESCRIPTION:2. Liga Herren Gruppe 3\nBegegnungs-Nr: 0\nHeim: Wetzikon IV\nGast: Zürich-Affoltern III\n\nAdresse: Usterstrasse 37\, 8620 Wetzikon\n
LOCATION:Usterstrasse 37\, 8620 Wetzikon
CATEGORIES:Saison 2024/25
END:VEVENT
BEGIN:VEVENT
DTSTAMP:20260425T004945Z
DTSTART;TZID=Europe/Berlin:20250106T194500
DTEND;TZID=Europe/Berlin:20250106T224500
SUMMARY:HE 2. Liga Gr. 3 Wetzikon IV vs Horgen II (0)
UID:a99aca3a-cf86-41b2-8723-f27a2029f039
STATUS:CONFIRMED
LAST-MODIFIED:20250110T150531Z
DESCRIPTION:2. Liga Herren Gruppe 3\nBegegnungs-Nr: 0\nHeim: Wetzikon IV\nGast: Horgen II\n\nAdresse: Usterstrasse 37\, 8620 Wetzikon\n
LOCATION:Usterstrasse 37\, 8620 Wetzikon
CATEGORIES:Saison 2024/25
END:VEVENT
BEGIN:VEVENT
DTSTAMP:20260425T004945Z
DTSTART;TZID=Europe/Berlin:20250326T201500
DTEND;TZID=Europe/Berlin:20250326T231500
SUMMARY:HE 2. Liga Gr. 3 Young Stars ZH IV vs Wetzikon IV (0)
UID:24dd8e7e-d403-42ea-9bfe-c961f9e19e5f
STATUS:CONFIRMED
LAST-MODIFIED:20250327T133353Z
DESCRIPTION:2. Liga Herren Gruppe 3\nBegegnungs-Nr: 0\nHeim: Young Stars ZH IV\nGast: Wetzikon IV\n\nAdresse: Seefeldstrasse 93\, 8008 Zürich\n
LOCATION:Seefeldstrasse 93\, 8008 Zürich
CATEGORIES:Saison 2024/25
END:VEVENT
BEGIN:VEVENT
DTSTAMP:20260425T004945Z
DTSTART;TZID=Europe/Berlin:20250313T200000
DTEND;TZID=Europe/Berlin:20250313T230000
SUMMARY:HE 2. Liga Gr. 3 Pinguin Zürich vs Wetzikon IV (0)
UID:ff3e189d-32ee-4cb3-9f3f-1199e3bef9b3
STATUS:CONFIRMED
LAST-MODIFIED:20250314T124047Z
DESCRIPTION:2. Liga Herren Gruppe 3\nBegegnungs-Nr: 0\nHeim: Pinguin Zürich\nGast: Wetzikon IV\n\nAdresse: Grindelstrasse 20\, 8303 Bassersdorf\n
LOCATION:Grindelstrasse 20\, 8303 Bassersdorf
CATEGORIES:Saison 2024/25
END:VEVENT
BEGIN:VEVENT
DTSTAMP:20260425T004945Z
DTSTART;TZID=Europe/Berlin:20241031T200000
DTEND;TZID=Europe/Berlin:20241031T230000
SUMMARY:HE 2. Liga Gr. 3 Wädenswil II vs Wetzikon IV (0)
UID:2a3b216e-3288-4577-a0d4-620c12babc38
STATUS:CONFIRMED
LAST-MODIFIED:20241104T090142Z
DESCRIPTION:2. Liga Herren Gruppe 3\nBegegnungs-Nr: 0\nHeim: Wädenswil II\nGast: Wetzikon IV\n\nAdresse: Speerstrasse 95\, 8820 Wädenswil\n
LOCATION:Speerstrasse 95\, 8820 Wädenswil
CATEGORIES:Saison 2024/25
END:VEVENT
BEGIN:VEVENT
DTSTAMP:20260425T004945Z
DTSTART;TZID=Europe/Berlin:20240920T201500
DTEND;TZID=Europe/Berlin:20240920T231500
SUMMARY:HE 2. Liga Gr. 3 Zürich-Affoltern III vs Wetzikon IV (0)
UID:213693a4-f454-4f52-85dd-25fc161a34fb
STATUS:CONFIRMED
LAST-MODIFIED:20240926T113413Z
DESCRIPTION:2. Liga Herren Gruppe 3\nBegegnungs-Nr: 0\nHeim: Zürich-Affoltern III\nGast: Wetzikon IV\n\nAdresse: Rümlangstr. 89\, 8052 Zürich\n
LOCATION:Rümlangstr. 89\, 8052 Zürich
CATEGORIES:Saison 2024/25
END:VEVENT
BEGIN:VEVENT
DTSTAMP:20260425T004945Z
DTSTART;TZID=Europe/Berlin:20240826T200000
DTEND;TZID=Europe/Berlin:20240826T230000
SUMMARY:HE 2. Liga Gr. 3 Horgen II vs Wetzikon IV (0)
UID:e6b91f54-3d1f-4704-b6ff-40a81407cfb9
STATUS:CONFIRMED
LAST-MODIFIED:20240828T081240Z
DESCRIPTION:2. Liga Herren Gruppe 3\nBegegnungs-Nr: 0\nHeim: Horgen II\nGast: Wetzikon IV\n\nAdresse: Mauremoosstrasse 1\, 8815 Horgenberg \n
LOCATION:Mauremoosstrasse 1\, 8815 Horgenberg 
CATEGORIES:Saison 2024/25
END:VEVENT
BEGIN:VEVENT
DTSTAMP:20260425T004945Z
DTSTART;TZID=Europe/Berlin:20250214T194500
DTEND;TZID=Europe/Berlin:20250214T224500
SUMMARY:HE 2. Liga Gr. 3 Triesen vs Wetzikon IV (0)
UID:647788a4-df65-4cf9-8429-f5cbb0e6fb26
STATUS:CONFIRMED
LAST-MODIFIED:20250219T112632Z
DESCRIPTION:2. Liga Herren Gruppe 3\nBegegnungs-Nr: 0\nHeim: Triesen\nGast: Wetzikon IV\n\nAdresse: Gässle 12\, 9495 Triesen\n
LOCATION:Gässle 12\, 9495 Triesen
CATEGORIES:Saison 2024/25
END:VEVENT
BEGIN:VEVENT
DTSTAMP:20260425T004945Z
DTSTART;TZID=Europe/Berlin:20250122T200000
DTEND;TZID=Europe/Berlin:20250122T230000
SUMMARY:HE 2. Liga Gr. 3 BW-Wollishofen vs Wetzikon IV (0)
UID:6768ea11-f482-400f-96fa-70c25f411c9e
STATUS:CONFIRMED
LAST-MODIFIED:20250123T143005Z
DESCRIPTION:2. Liga Herren Gruppe 3\nBegegnungs-Nr: 0\nHeim: BW-Wollishofen\nGast: Wetzikon IV\n\nAdresse: Kilchbergstr. 28\, 8038 Zürich\n
LOCATION:Kilchbergstr. 28\, 8038 Zürich
CATEGORIES:Saison 2024/25
END:VEVENT
END:VCALENDAR
