BEGIN:VCALENDAR
PRODID:-//nuDatenautomaten//framework iCal4j //DE
VERSION:2.0
CALSCALE:GREGORIAN
BEGIN:VTIMEZONE
TZID:Europe/Berlin
LAST-MODIFIED:20260306T231828Z
TZURL:https://www.tzurl.org/zoneinfo/Europe/Berlin
X-LIC-LOCATION:Europe/Berlin
X-PROLEPTIC-TZNAME:LMT
BEGIN:STANDARD
TZNAME:CET
TZOFFSETFROM:+005328
TZOFFSETTO:+0100
DTSTART:18930401T000000
END:STANDARD
BEGIN:DAYLIGHT
TZNAME:CEST
TZOFFSETFROM:+0100
TZOFFSETTO:+0200
DTSTART:19160430T230000
RDATE:19400401T020000
RDATE:19430329T020000
RDATE:19460414T020000
RDATE:19470406T030000
RDATE:19480418T020000
RDATE:19490410T020000
RDATE:19800406T020000
END:DAYLIGHT
BEGIN:STANDARD
TZNAME:CET
TZOFFSETFROM:+0200
TZOFFSETTO:+0100
DTSTART:19161001T010000
RDATE:19421102T030000
RDATE:19431004T030000
RDATE:19441002T030000
RDATE:19451118T030000
RDATE:19461007T030000
END:STANDARD
BEGIN:DAYLIGHT
TZNAME:CEST
TZOFFSETFROM:+0100
TZOFFSETTO:+0200
DTSTART:19170416T020000
RRULE:FREQ=YEARLY;UNTIL=19180415T010000Z;BYMONTH=4;BYDAY=3MO
END:DAYLIGHT
BEGIN:STANDARD
TZNAME:CET
TZOFFSETFROM:+0200
TZOFFSETTO:+0100
DTSTART:19170917T030000
RRULE:FREQ=YEARLY;UNTIL=19180916T010000Z;BYMONTH=9;BYDAY=3MO
END:STANDARD
BEGIN:DAYLIGHT
TZNAME:CEST
TZOFFSETFROM:+0100
TZOFFSETTO:+0200
DTSTART:19440403T020000
RRULE:FREQ=YEARLY;UNTIL=19450402T010000Z;BYMONTH=4;BYDAY=1MO
END:DAYLIGHT
BEGIN:DAYLIGHT
TZNAME:CEMT
TZOFFSETFROM:+0200
TZOFFSETTO:+0300
DTSTART:19450524T020000
RDATE:19470511T030000
END:DAYLIGHT
BEGIN:DAYLIGHT
TZNAME:CEST
TZOFFSETFROM:+0300
TZOFFSETTO:+0200
DTSTART:19450924T030000
RDATE:19470629T030000
END:DAYLIGHT
BEGIN:STANDARD
TZNAME:CET
TZOFFSETFROM:+0100
TZOFFSETTO:+0100
DTSTART:19460101T000000
RDATE:19800101T000000
END:STANDARD
BEGIN:STANDARD
TZNAME:CET
TZOFFSETFROM:+0200
TZOFFSETTO:+0100
DTSTART:19471005T030000
RRULE:FREQ=YEARLY;UNTIL=19491002T010000Z;BYMONTH=10;BYDAY=1SU
END:STANDARD
BEGIN:STANDARD
TZNAME:CET
TZOFFSETFROM:+0200
TZOFFSETTO:+0100
DTSTART:19800928T030000
RRULE:FREQ=YEARLY;UNTIL=19950924T010000Z;BYMONTH=9;BYDAY=-1SU
END:STANDARD
BEGIN:DAYLIGHT
TZNAME:CEST
TZOFFSETFROM:+0100
TZOFFSETTO:+0200
DTSTART:19810329T020000
RRULE:FREQ=YEARLY;BYMONTH=3;BYDAY=-1SU
END:DAYLIGHT
BEGIN:STANDARD
TZNAME:CET
TZOFFSETFROM:+0200
TZOFFSETTO:+0100
DTSTART:19961027T030000
RRULE:FREQ=YEARLY;BYMONTH=10;BYDAY=-1SU
END:STANDARD
END:VTIMEZONE
BEGIN:VEVENT
DTSTAMP:20260425T005047Z
DTSTART;TZID=Europe/Berlin:20241130T123000
DTEND;TZID=Europe/Berlin:20241130T153000
SUMMARY:JUG 1. Liga\, Gr. 2\, VR Horgen vs Neuhausen (4)
UID:3d41e3fe-7494-460e-bb9c-fb6ea3ab01db
STATUS:CONFIRMED
LAST-MODIFIED:20241202T140222Z
DESCRIPTION:1. Liga Jugend\, Gruppe 2\, Vorrunde\nBegegnungs-Nr: 4\nHeim: Horgen\nGast: Neuhausen\n\nAdresse: Seestrasse 110\, 8810 Horgen\n
LOCATION:Seestrasse 110\, 8810 Horgen
CATEGORIES:Saison 2024/25
END:VEVENT
BEGIN:VEVENT
DTSTAMP:20260425T005047Z
DTSTART;TZID=Europe/Berlin:20241130T110000
DTEND;TZID=Europe/Berlin:20241130T140000
SUMMARY:JUG 1. Liga\, Gr. 2\, VR Horgen vs Young Stars ZH (2)
UID:76ddcdb7-703a-43ef-9b39-515dac45183e
STATUS:CONFIRMED
LAST-MODIFIED:20241202T140159Z
DESCRIPTION:1. Liga Jugend\, Gruppe 2\, Vorrunde\nBegegnungs-Nr: 2\nHeim: Horgen\nGast: Young Stars ZH\n\nAdresse: Seestrasse 110\, 8810 Horgen\n
LOCATION:Seestrasse 110\, 8810 Horgen
CATEGORIES:Saison 2024/25
END:VEVENT
BEGIN:VEVENT
DTSTAMP:20260425T005047Z
DTSTART;TZID=Europe/Berlin:20250118T143000
DTEND;TZID=Europe/Berlin:20250118T173000
SUMMARY:JUG 1.Liga\, Gr.2\, Final Horgen vs Neuhausen (3)
UID:361fdab7-3891-4de2-ac93-b27e2a005de3
STATUS:CONFIRMED
LAST-MODIFIED:20250123T084654Z
DESCRIPTION:1. Liga Jugend\, Gruppe 2\, Final\nBegegnungs-Nr: 3\nHeim: Horgen\nGast: Neuhausen\n
LOCATION:
CATEGORIES:Saison 2024/25
END:VEVENT
BEGIN:VEVENT
DTSTAMP:20260425T005047Z
DTSTART;TZID=Europe/Berlin:20241130T140000
DTEND;TZID=Europe/Berlin:20241130T170000
SUMMARY:JUG 1. Liga\, Gr. 2\, VR Uster vs Horgen (6)
UID:0708eb1d-dc49-43fe-b96b-584757a813aa
STATUS:CONFIRMED
LAST-MODIFIED:20241202T140134Z
DESCRIPTION:1. Liga Jugend\, Gruppe 2\, Vorrunde\nBegegnungs-Nr: 6\nHeim: Uster\nGast: Horgen\n\nAdresse: Wilstrasse 30 / Zürcherstrasse\, 8610 Uster\n
LOCATION:Wilstrasse 30 / Zürcherstrasse\, 8610 Uster
CATEGORIES:Saison 2024/25
END:VEVENT
BEGIN:VEVENT
DTSTAMP:20260425T005047Z
DTSTART;TZID=Europe/Berlin:20250118T130000
DTEND;TZID=Europe/Berlin:20250118T160000
SUMMARY:JUG 1.Liga\, Gr.2\, Final Chur vs Horgen (1)
UID:8b6962f6-8fa0-4a85-952d-d747cc913e8e
STATUS:CONFIRMED
LAST-MODIFIED:20250123T084644Z
DESCRIPTION:1. Liga Jugend\, Gruppe 2\, Final\nBegegnungs-Nr: 1\nHeim: Chur\nGast: Horgen\n
LOCATION:
CATEGORIES:Saison 2024/25
END:VEVENT
BEGIN:VEVENT
DTSTAMP:20260425T005047Z
DTSTART;TZID=Europe/Berlin:20250118T160000
DTEND;TZID=Europe/Berlin:20250118T190000
SUMMARY:JUG 1.Liga\, Gr.2\, Final Rapperswil-Jona vs Horgen (5)
UID:933c12ef-e213-40f4-8fda-641c287bf4fc
STATUS:CONFIRMED
LAST-MODIFIED:20250112T201212Z
DESCRIPTION:1. Liga Jugend\, Gruppe 2\, Final\nBegegnungs-Nr: 5\nHeim: Rapperswil-Jona\nGast: Horgen\n\nAdresse: Kreuzstrasse 43\, 8640 Rapperswil\n
LOCATION:Kreuzstrasse 43\, 8640 Rapperswil
CATEGORIES:Saison 2024/25
END:VEVENT
END:VCALENDAR
