BEGIN:VCALENDAR
PRODID:-//nuDatenautomaten//framework iCal4j //DE
VERSION:2.0
CALSCALE:GREGORIAN
BEGIN:VTIMEZONE
TZID:Europe/Berlin
LAST-MODIFIED:20260306T231828Z
TZURL:https://www.tzurl.org/zoneinfo/Europe/Berlin
X-LIC-LOCATION:Europe/Berlin
X-PROLEPTIC-TZNAME:LMT
BEGIN:STANDARD
TZNAME:CET
TZOFFSETFROM:+005328
TZOFFSETTO:+0100
DTSTART:18930401T000000
END:STANDARD
BEGIN:DAYLIGHT
TZNAME:CEST
TZOFFSETFROM:+0100
TZOFFSETTO:+0200
DTSTART:19160430T230000
RDATE:19400401T020000
RDATE:19430329T020000
RDATE:19460414T020000
RDATE:19470406T030000
RDATE:19480418T020000
RDATE:19490410T020000
RDATE:19800406T020000
END:DAYLIGHT
BEGIN:STANDARD
TZNAME:CET
TZOFFSETFROM:+0200
TZOFFSETTO:+0100
DTSTART:19161001T010000
RDATE:19421102T030000
RDATE:19431004T030000
RDATE:19441002T030000
RDATE:19451118T030000
RDATE:19461007T030000
END:STANDARD
BEGIN:DAYLIGHT
TZNAME:CEST
TZOFFSETFROM:+0100
TZOFFSETTO:+0200
DTSTART:19170416T020000
RRULE:FREQ=YEARLY;UNTIL=19180415T010000Z;BYMONTH=4;BYDAY=3MO
END:DAYLIGHT
BEGIN:STANDARD
TZNAME:CET
TZOFFSETFROM:+0200
TZOFFSETTO:+0100
DTSTART:19170917T030000
RRULE:FREQ=YEARLY;UNTIL=19180916T010000Z;BYMONTH=9;BYDAY=3MO
END:STANDARD
BEGIN:DAYLIGHT
TZNAME:CEST
TZOFFSETFROM:+0100
TZOFFSETTO:+0200
DTSTART:19440403T020000
RRULE:FREQ=YEARLY;UNTIL=19450402T010000Z;BYMONTH=4;BYDAY=1MO
END:DAYLIGHT
BEGIN:DAYLIGHT
TZNAME:CEMT
TZOFFSETFROM:+0200
TZOFFSETTO:+0300
DTSTART:19450524T020000
RDATE:19470511T030000
END:DAYLIGHT
BEGIN:DAYLIGHT
TZNAME:CEST
TZOFFSETFROM:+0300
TZOFFSETTO:+0200
DTSTART:19450924T030000
RDATE:19470629T030000
END:DAYLIGHT
BEGIN:STANDARD
TZNAME:CET
TZOFFSETFROM:+0100
TZOFFSETTO:+0100
DTSTART:19460101T000000
RDATE:19800101T000000
END:STANDARD
BEGIN:STANDARD
TZNAME:CET
TZOFFSETFROM:+0200
TZOFFSETTO:+0100
DTSTART:19471005T030000
RRULE:FREQ=YEARLY;UNTIL=19491002T010000Z;BYMONTH=10;BYDAY=1SU
END:STANDARD
BEGIN:STANDARD
TZNAME:CET
TZOFFSETFROM:+0200
TZOFFSETTO:+0100
DTSTART:19800928T030000
RRULE:FREQ=YEARLY;UNTIL=19950924T010000Z;BYMONTH=9;BYDAY=-1SU
END:STANDARD
BEGIN:DAYLIGHT
TZNAME:CEST
TZOFFSETFROM:+0100
TZOFFSETTO:+0200
DTSTART:19810329T020000
RRULE:FREQ=YEARLY;BYMONTH=3;BYDAY=-1SU
END:DAYLIGHT
BEGIN:STANDARD
TZNAME:CET
TZOFFSETFROM:+0200
TZOFFSETTO:+0100
DTSTART:19961027T030000
RRULE:FREQ=YEARLY;BYMONTH=10;BYDAY=-1SU
END:STANDARD
END:VTIMEZONE
BEGIN:VEVENT
DTSTAMP:20260425T021420Z
DTSTART;TZID=Europe/Berlin:20240820T200000
DTEND;TZID=Europe/Berlin:20240820T230000
SUMMARY:O40 3. Liga Gr. 1 Gossau St.Gallen vs Horn (0)
UID:9a8a3a1e-6c5c-43a2-ad96-c507f0faa55b
STATUS:CONFIRMED
LAST-MODIFIED:20240828T091354Z
DESCRIPTION:3. Liga O40 Gruppe 1\nBegegnungs-Nr: 0\nHeim: Gossau St.Gallen\nGast: Horn\n\nAdresse: Falkenstrasse 21\, 9200 Gossau\n
LOCATION:Falkenstrasse 21\, 9200 Gossau
CATEGORIES:Saison 2024/25
END:VEVENT
BEGIN:VEVENT
DTSTAMP:20260425T021420Z
DTSTART;TZID=Europe/Berlin:20250401T200000
DTEND;TZID=Europe/Berlin:20250401T230000
SUMMARY:O40 3. Liga Gr. 1 Gossau St.Gallen vs Wuppenau (0)
UID:e8c1d62e-3464-47a0-96d3-c85f0b990998
STATUS:CONFIRMED
LAST-MODIFIED:20250404T083952Z
DESCRIPTION:3. Liga O40 Gruppe 1\nBegegnungs-Nr: 0\nHeim: Gossau St.Gallen\nGast: Wuppenau\n\nAdresse: Falkenstrasse 21\, 9200 Gossau\n
LOCATION:Falkenstrasse 21\, 9200 Gossau
CATEGORIES:Saison 2024/25
END:VEVENT
BEGIN:VEVENT
DTSTAMP:20260425T021420Z
DTSTART;TZID=Europe/Berlin:20250225T200000
DTEND;TZID=Europe/Berlin:20250225T230000
SUMMARY:O40 3. Liga Gr. 1 Gossau St.Gallen vs Bronschhofen (0)
UID:c79ee41a-cd04-489e-99f2-e1daf5c5b175
STATUS:CONFIRMED
LAST-MODIFIED:20250227T123703Z
DESCRIPTION:3. Liga O40 Gruppe 1\nBegegnungs-Nr: 0\nHeim: Gossau St.Gallen\nGast: Bronschhofen\n\nAdresse: Falkenstrasse 21\, 9200 Gossau\n
LOCATION:Falkenstrasse 21\, 9200 Gossau
CATEGORIES:Saison 2024/25
END:VEVENT
BEGIN:VEVENT
DTSTAMP:20260425T021420Z
DTSTART;TZID=Europe/Berlin:20250114T200000
DTEND;TZID=Europe/Berlin:20250114T230000
SUMMARY:O40 3. Liga Gr. 1 Gossau St.Gallen vs St. Gallen (0)
UID:847e0140-a70a-4536-bb2f-ed3552b0db9d
STATUS:CONFIRMED
LAST-MODIFIED:20250116T101636Z
DESCRIPTION:3. Liga O40 Gruppe 1\nBegegnungs-Nr: 0\nHeim: Gossau St.Gallen\nGast: St. Gallen\n\nAdresse: Falkenstrasse 21\, 9200 Gossau\n
LOCATION:Falkenstrasse 21\, 9200 Gossau
CATEGORIES:Saison 2024/25
END:VEVENT
BEGIN:VEVENT
DTSTAMP:20260425T021420Z
DTSTART;TZID=Europe/Berlin:20241126T200000
DTEND;TZID=Europe/Berlin:20241126T230000
SUMMARY:O40 3. Liga Gr. 1 Gossau St.Gallen vs Romanshorn II (0)
UID:ed9a2795-06ac-4284-9efc-57d358331bac
STATUS:CONFIRMED
LAST-MODIFIED:20241127T073231Z
DESCRIPTION:3. Liga O40 Gruppe 1\nBegegnungs-Nr: 0\nHeim: Gossau St.Gallen\nGast: Romanshorn II\n\nAdresse: Falkenstrasse 21\, 9200 Gossau\n
LOCATION:Falkenstrasse 21\, 9200 Gossau
CATEGORIES:Saison 2024/25
END:VEVENT
BEGIN:VEVENT
DTSTAMP:20260425T021420Z
DTSTART;TZID=Europe/Berlin:20241022T200000
DTEND;TZID=Europe/Berlin:20241022T230000
SUMMARY:O40 3. Liga Gr. 1 Gossau St.Gallen vs Wallenwil (0)
UID:0d49674c-21e6-4091-8aff-baaa6cf7e9c8
STATUS:CONFIRMED
LAST-MODIFIED:20241023T082153Z
DESCRIPTION:3. Liga O40 Gruppe 1\nBegegnungs-Nr: 0\nHeim: Gossau St.Gallen\nGast: Wallenwil\n\nAdresse: Falkenstrasse 21\, 9200 Gossau\n
LOCATION:Falkenstrasse 21\, 9200 Gossau
CATEGORIES:Saison 2024/25
END:VEVENT
BEGIN:VEVENT
DTSTAMP:20260425T021420Z
DTSTART;TZID=Europe/Berlin:20240916T200000
DTEND;TZID=Europe/Berlin:20240916T230000
SUMMARY:O40 3. Liga Gr. 1 Bronschhofen vs Gossau St.Gallen (0)
UID:f8c637e1-958e-4781-b365-26f51ad02b63
STATUS:CONFIRMED
LAST-MODIFIED:20240917T072723Z
DESCRIPTION:3. Liga O40 Gruppe 1\nBegegnungs-Nr: 0\nHeim: Bronschhofen\nGast: Gossau St.Gallen\n\nAdresse: Schulstrasse 6\, 9552 Bronschhofen\n
LOCATION:Schulstrasse 6\, 9552 Bronschhofen
CATEGORIES:Saison 2024/25
END:VEVENT
BEGIN:VEVENT
DTSTAMP:20260425T021420Z
DTSTART;TZID=Europe/Berlin:20240827T200000
DTEND;TZID=Europe/Berlin:20240827T230000
SUMMARY:O40 3. Liga Gr. 1 St. Gallen vs Gossau St.Gallen (0)
UID:e7afb023-b25b-46e8-bf9a-1c7163b299d7
STATUS:CONFIRMED
LAST-MODIFIED:20240828T091603Z
DESCRIPTION:3. Liga O40 Gruppe 1\nBegegnungs-Nr: 0\nHeim: St. Gallen\nGast: Gossau St.Gallen\n\nAdresse: Zilstrasse 61\, 9016 St.Gallen\n
LOCATION:Zilstrasse 61\, 9016 St.Gallen
CATEGORIES:Saison 2024/25
END:VEVENT
BEGIN:VEVENT
DTSTAMP:20260425T021420Z
DTSTART;TZID=Europe/Berlin:20250428T201500
DTEND;TZID=Europe/Berlin:20250428T231500
SUMMARY:O40 3. Liga Gr. 1 Romanshorn II vs Gossau St.Gallen (0)
UID:ac287d6a-c0c3-4b33-ad78-6a648ebac974
STATUS:CONFIRMED
LAST-MODIFIED:20250506T140611Z
DESCRIPTION:3. Liga O40 Gruppe 1\nBegegnungs-Nr: 0\nHeim: Romanshorn II\nGast: Gossau St.Gallen\n\nAdresse: Florastrasse\, 8590 Romanshorn\n
LOCATION:Florastrasse\, 8590 Romanshorn
CATEGORIES:Saison 2024/25
END:VEVENT
BEGIN:VEVENT
DTSTAMP:20260425T021420Z
DTSTART;TZID=Europe/Berlin:20250320T201500
DTEND;TZID=Europe/Berlin:20250320T231500
SUMMARY:O40 3. Liga Gr. 1 Wallenwil vs Gossau St.Gallen (0)
UID:f5153843-f4ec-427e-a97f-c410c869a78b
STATUS:CONFIRMED
LAST-MODIFIED:20250321T124306Z
DESCRIPTION:3. Liga O40 Gruppe 1\nBegegnungs-Nr: 0\nHeim: Wallenwil\nGast: Gossau St.Gallen\n\nAdresse: Stationsstrasse 29\, 8360 Wallenwil\n
LOCATION:Stationsstrasse 29\, 8360 Wallenwil
CATEGORIES:Saison 2024/25
END:VEVENT
BEGIN:VEVENT
DTSTAMP:20260425T021420Z
DTSTART;TZID=Europe/Berlin:20250204T200000
DTEND;TZID=Europe/Berlin:20250204T230000
SUMMARY:O40 3. Liga Gr. 1 Horn vs Gossau St.Gallen (0)
UID:253aad92-119b-4a4a-8dae-e0ef6d1f2d35
STATUS:CONFIRMED
LAST-MODIFIED:20250206T141155Z
DESCRIPTION:3. Liga O40 Gruppe 1\nBegegnungs-Nr: 0\nHeim: Horn\nGast: Gossau St.Gallen\n\nAdresse: Feldstrasse 16\, 9326 Horn\n
LOCATION:Feldstrasse 16\, 9326 Horn
CATEGORIES:Saison 2024/25
END:VEVENT
BEGIN:VEVENT
DTSTAMP:20260425T021420Z
DTSTART;TZID=Europe/Berlin:20241111T201500
DTEND;TZID=Europe/Berlin:20241111T231500
SUMMARY:O40 3. Liga Gr. 1 Wuppenau vs Gossau St.Gallen (0)
UID:36bd285b-789f-4388-b5b7-ba6edde434b9
STATUS:CONFIRMED
LAST-MODIFIED:20241114T080622Z
DESCRIPTION:3. Liga O40 Gruppe 1\nBegegnungs-Nr: 0\nHeim: Wuppenau\nGast: Gossau St.Gallen\n\nAdresse: Nollenstrasse\, 9514 Wuppenau\n
LOCATION:Nollenstrasse\, 9514 Wuppenau
CATEGORIES:Saison 2024/25
END:VEVENT
END:VCALENDAR
