BEGIN:VCALENDAR
PRODID:-//nuDatenautomaten//framework iCal4j //DE
VERSION:2.0
CALSCALE:GREGORIAN
BEGIN:VTIMEZONE
TZID:Europe/Berlin
LAST-MODIFIED:20260306T231828Z
TZURL:https://www.tzurl.org/zoneinfo/Europe/Berlin
X-LIC-LOCATION:Europe/Berlin
X-PROLEPTIC-TZNAME:LMT
BEGIN:STANDARD
TZNAME:CET
TZOFFSETFROM:+005328
TZOFFSETTO:+0100
DTSTART:18930401T000000
END:STANDARD
BEGIN:DAYLIGHT
TZNAME:CEST
TZOFFSETFROM:+0100
TZOFFSETTO:+0200
DTSTART:19160430T230000
RDATE:19400401T020000
RDATE:19430329T020000
RDATE:19460414T020000
RDATE:19470406T030000
RDATE:19480418T020000
RDATE:19490410T020000
RDATE:19800406T020000
END:DAYLIGHT
BEGIN:STANDARD
TZNAME:CET
TZOFFSETFROM:+0200
TZOFFSETTO:+0100
DTSTART:19161001T010000
RDATE:19421102T030000
RDATE:19431004T030000
RDATE:19441002T030000
RDATE:19451118T030000
RDATE:19461007T030000
END:STANDARD
BEGIN:DAYLIGHT
TZNAME:CEST
TZOFFSETFROM:+0100
TZOFFSETTO:+0200
DTSTART:19170416T020000
RRULE:FREQ=YEARLY;UNTIL=19180415T010000Z;BYMONTH=4;BYDAY=3MO
END:DAYLIGHT
BEGIN:STANDARD
TZNAME:CET
TZOFFSETFROM:+0200
TZOFFSETTO:+0100
DTSTART:19170917T030000
RRULE:FREQ=YEARLY;UNTIL=19180916T010000Z;BYMONTH=9;BYDAY=3MO
END:STANDARD
BEGIN:DAYLIGHT
TZNAME:CEST
TZOFFSETFROM:+0100
TZOFFSETTO:+0200
DTSTART:19440403T020000
RRULE:FREQ=YEARLY;UNTIL=19450402T010000Z;BYMONTH=4;BYDAY=1MO
END:DAYLIGHT
BEGIN:DAYLIGHT
TZNAME:CEMT
TZOFFSETFROM:+0200
TZOFFSETTO:+0300
DTSTART:19450524T020000
RDATE:19470511T030000
END:DAYLIGHT
BEGIN:DAYLIGHT
TZNAME:CEST
TZOFFSETFROM:+0300
TZOFFSETTO:+0200
DTSTART:19450924T030000
RDATE:19470629T030000
END:DAYLIGHT
BEGIN:STANDARD
TZNAME:CET
TZOFFSETFROM:+0100
TZOFFSETTO:+0100
DTSTART:19460101T000000
RDATE:19800101T000000
END:STANDARD
BEGIN:STANDARD
TZNAME:CET
TZOFFSETFROM:+0200
TZOFFSETTO:+0100
DTSTART:19471005T030000
RRULE:FREQ=YEARLY;UNTIL=19491002T010000Z;BYMONTH=10;BYDAY=1SU
END:STANDARD
BEGIN:STANDARD
TZNAME:CET
TZOFFSETFROM:+0200
TZOFFSETTO:+0100
DTSTART:19800928T030000
RRULE:FREQ=YEARLY;UNTIL=19950924T010000Z;BYMONTH=9;BYDAY=-1SU
END:STANDARD
BEGIN:DAYLIGHT
TZNAME:CEST
TZOFFSETFROM:+0100
TZOFFSETTO:+0200
DTSTART:19810329T020000
RRULE:FREQ=YEARLY;BYMONTH=3;BYDAY=-1SU
END:DAYLIGHT
BEGIN:STANDARD
TZNAME:CET
TZOFFSETFROM:+0200
TZOFFSETTO:+0100
DTSTART:19961027T030000
RRULE:FREQ=YEARLY;BYMONTH=10;BYDAY=-1SU
END:STANDARD
END:VTIMEZONE
BEGIN:VEVENT
DTSTAMP:20260425T005105Z
DTSTART;TZID=Europe/Berlin:20241205T194500
DTEND;TZID=Europe/Berlin:20241205T224500
SUMMARY:HE 5. Liga Gr. 7 Oberrieden vs Young Stars ZH IX (0)
UID:01dca011-7827-4ad4-a6bf-7b10a3acb8f9
STATUS:CONFIRMED
LAST-MODIFIED:20241211T094724Z
DESCRIPTION:5. Liga Herren Gruppe 7\nBegegnungs-Nr: 0\nHeim: Oberrieden\nGast: Young Stars ZH IX\n\nAdresse: Langweg 2\, 8942 Oberrieden\n
LOCATION:Langweg 2\, 8942 Oberrieden
CATEGORIES:Saison 2024/25
END:VEVENT
BEGIN:VEVENT
DTSTAMP:20260425T005105Z
DTSTART;TZID=Europe/Berlin:20241107T194500
DTEND;TZID=Europe/Berlin:20241107T224500
SUMMARY:HE 5. Liga Gr. 7 Oberrieden vs Rüschlikon (0)
UID:53e7c14f-3f0f-4718-a7c2-8d7002c1b8e9
STATUS:CONFIRMED
LAST-MODIFIED:20241108T145910Z
DESCRIPTION:5. Liga Herren Gruppe 7\nBegegnungs-Nr: 0\nHeim: Oberrieden\nGast: Rüschlikon\n\nAdresse: Langweg 2\, 8942 Oberrieden\n
LOCATION:Langweg 2\, 8942 Oberrieden
CATEGORIES:Saison 2024/25
END:VEVENT
BEGIN:VEVENT
DTSTAMP:20260425T005105Z
DTSTART;TZID=Europe/Berlin:20240919T194500
DTEND;TZID=Europe/Berlin:20240919T224500
SUMMARY:HE 5. Liga Gr. 7 Oberrieden vs Affoltern A/A VI (0)
UID:3c062fcf-e6ad-49a3-9595-bd9d87402d1f
STATUS:CONFIRMED
LAST-MODIFIED:20240920T135924Z
DESCRIPTION:5. Liga Herren Gruppe 7\nBegegnungs-Nr: 0\nHeim: Oberrieden\nGast: Affoltern A/A VI\n\nAdresse: Langweg 2\, 8942 Oberrieden\n
LOCATION:Langweg 2\, 8942 Oberrieden
CATEGORIES:Saison 2024/25
END:VEVENT
BEGIN:VEVENT
DTSTAMP:20260425T005105Z
DTSTART;TZID=Europe/Berlin:20240829T194500
DTEND;TZID=Europe/Berlin:20240829T224500
SUMMARY:HE 5. Liga Gr. 7 Oberrieden vs Thalwil IV (0)
UID:b413b64e-ecb3-40eb-8f15-a49a5b186410
STATUS:CONFIRMED
LAST-MODIFIED:20240904T113707Z
DESCRIPTION:5. Liga Herren Gruppe 7\nBegegnungs-Nr: 0\nHeim: Oberrieden\nGast: Thalwil IV\n\nAdresse: Langweg 2\, 8942 Oberrieden\n
LOCATION:Langweg 2\, 8942 Oberrieden
CATEGORIES:Saison 2024/25
END:VEVENT
BEGIN:VEVENT
DTSTAMP:20260425T005105Z
DTSTART;TZID=Europe/Berlin:20250306T194500
DTEND;TZID=Europe/Berlin:20250306T224500
SUMMARY:HE 5. Liga Gr. 7 Oberrieden vs Wädenswil VIII (0)
UID:6f35fbfa-c96c-4a49-8161-c75efbc48118
STATUS:CONFIRMED
LAST-MODIFIED:20250307T143338Z
DESCRIPTION:5. Liga Herren Gruppe 7\nBegegnungs-Nr: 0\nHeim: Oberrieden\nGast: Wädenswil VIII\n\nAdresse: Langweg 2\, 8942 Oberrieden\n
LOCATION:Langweg 2\, 8942 Oberrieden
CATEGORIES:Saison 2024/25
END:VEVENT
BEGIN:VEVENT
DTSTAMP:20260425T005105Z
DTSTART;TZID=Europe/Berlin:20250130T194500
DTEND;TZID=Europe/Berlin:20250130T224500
SUMMARY:HE 5. Liga Gr. 7 Oberrieden vs Pinguin Zürich V (0)
UID:185e4513-beae-4b5e-8294-a656510a327e
STATUS:CONFIRMED
LAST-MODIFIED:20250131T144028Z
DESCRIPTION:5. Liga Herren Gruppe 7\nBegegnungs-Nr: 0\nHeim: Oberrieden\nGast: Pinguin Zürich V\n\nAdresse: Langweg 2\, 8942 Oberrieden\n
LOCATION:Langweg 2\, 8942 Oberrieden
CATEGORIES:Saison 2024/25
END:VEVENT
BEGIN:VEVENT
DTSTAMP:20260425T005105Z
DTSTART;TZID=Europe/Berlin:20250123T194500
DTEND;TZID=Europe/Berlin:20250123T224500
SUMMARY:HE 5. Liga Gr. 7 Oberrieden vs BW-Wollishofen IV (0)
UID:c3584cfe-6b7e-4743-b446-ceeaf00fbbd2
STATUS:CONFIRMED
LAST-MODIFIED:20250129T124741Z
DESCRIPTION:5. Liga Herren Gruppe 7\nBegegnungs-Nr: 0\nHeim: Oberrieden\nGast: BW-Wollishofen IV\n\nAdresse: Langweg 2\, 8942 Oberrieden\n
LOCATION:Langweg 2\, 8942 Oberrieden
CATEGORIES:Saison 2024/25
END:VEVENT
BEGIN:VEVENT
DTSTAMP:20260425T005105Z
DTSTART;TZID=Europe/Berlin:20241031T200000
DTEND;TZID=Europe/Berlin:20241031T230000
SUMMARY:HE 5. Liga Gr. 7 Wädenswil VIII vs Oberrieden (0)
UID:5c03f436-cccf-4438-9cb6-17c92c3c4f21
STATUS:CONFIRMED
LAST-MODIFIED:20241108T145839Z
DESCRIPTION:5. Liga Herren Gruppe 7\nBegegnungs-Nr: 0\nHeim: Wädenswil VIII\nGast: Oberrieden\n\nAdresse: Speerstrasse 95\, 8820 Wädenswil\n
LOCATION:Speerstrasse 95\, 8820 Wädenswil
CATEGORIES:Saison 2024/25
END:VEVENT
BEGIN:VEVENT
DTSTAMP:20260425T005105Z
DTSTART;TZID=Europe/Berlin:20240926T200000
DTEND;TZID=Europe/Berlin:20240926T230000
SUMMARY:HE 5. Liga Gr. 7 Pinguin Zürich V vs Oberrieden (0)
UID:99275bab-b4f2-464f-a58f-53fd68b67e95
STATUS:CONFIRMED
LAST-MODIFIED:20240930T124926Z
DESCRIPTION:5. Liga Herren Gruppe 7\nBegegnungs-Nr: 0\nHeim: Pinguin Zürich V\nGast: Oberrieden\n\nAdresse: Grindelstrasse 20\, 8303 Bassersdorf\n
LOCATION:Grindelstrasse 20\, 8303 Bassersdorf
CATEGORIES:Saison 2024/25
END:VEVENT
BEGIN:VEVENT
DTSTAMP:20260425T005105Z
DTSTART;TZID=Europe/Berlin:20240906T200000
DTEND;TZID=Europe/Berlin:20240906T230000
SUMMARY:HE 5. Liga Gr. 7 BW-Wollishofen IV vs Oberrieden (0)
UID:1210d3d9-ecdf-4a15-b0ec-819f5236ca59
STATUS:CONFIRMED
LAST-MODIFIED:20240913T131952Z
DESCRIPTION:5. Liga Herren Gruppe 7\nBegegnungs-Nr: 0\nHeim: BW-Wollishofen IV\nGast: Oberrieden\n\nAdresse: Kilchbergstr. 28\, 8038 Zürich\n
LOCATION:Kilchbergstr. 28\, 8038 Zürich
CATEGORIES:Saison 2024/25
END:VEVENT
BEGIN:VEVENT
DTSTAMP:20260425T005105Z
DTSTART;TZID=Europe/Berlin:20250328T200000
DTEND;TZID=Europe/Berlin:20250328T230000
SUMMARY:HE 5. Liga Gr. 7 Young Stars ZH IX vs Oberrieden (0)
UID:91227062-eae6-46aa-9b8e-86caf35c6bf2
STATUS:CONFIRMED
LAST-MODIFIED:20250404T083440Z
DESCRIPTION:5. Liga Herren Gruppe 7\nBegegnungs-Nr: 0\nHeim: Young Stars ZH IX\nGast: Oberrieden\n\nAdresse: Balgriststrasse 55\, 8008 Zürich\n
LOCATION:Balgriststrasse 55\, 8008 Zürich
CATEGORIES:Saison 2024/25
END:VEVENT
BEGIN:VEVENT
DTSTAMP:20260425T005105Z
DTSTART;TZID=Europe/Berlin:20250310T201500
DTEND;TZID=Europe/Berlin:20250310T231500
SUMMARY:HE 5. Liga Gr. 7 Rüschlikon vs Oberrieden (0)
UID:18dcf5c2-abaa-45a7-8e95-57d02b8e3270
STATUS:CONFIRMED
LAST-MODIFIED:20250312T145749Z
DESCRIPTION:5. Liga Herren Gruppe 7\nBegegnungs-Nr: 0\nHeim: Rüschlikon\nGast: Oberrieden\n\nAdresse: Säumerstrasse 24\, 8803 Rüschlikon\n
LOCATION:Säumerstrasse 24\, 8803 Rüschlikon
CATEGORIES:Saison 2024/25
END:VEVENT
BEGIN:VEVENT
DTSTAMP:20260425T005105Z
DTSTART;TZID=Europe/Berlin:20250131T200000
DTEND;TZID=Europe/Berlin:20250131T230000
SUMMARY:HE 5. Liga Gr. 7 Affoltern A/A VI vs Oberrieden (0)
UID:7491ae68-bb9f-43a6-9395-52fdabe66a1a
STATUS:CONFIRMED
LAST-MODIFIED:20250203T121828Z
DESCRIPTION:5. Liga Herren Gruppe 7\nBegegnungs-Nr: 0\nHeim: Affoltern A/A VI\nGast: Oberrieden\n\nAdresse: Butzenstr. 2\, 8910 Affoltern am Albis\n
LOCATION:Butzenstr. 2\, 8910 Affoltern am Albis
CATEGORIES:Saison 2024/25
END:VEVENT
BEGIN:VEVENT
DTSTAMP:20260425T005105Z
DTSTART;TZID=Europe/Berlin:20250110T201500
DTEND;TZID=Europe/Berlin:20250110T231500
SUMMARY:HE 5. Liga Gr. 7 Thalwil IV vs Oberrieden (0)
UID:ea90f5f7-21b2-4dcc-9cf7-53debf35ffa2
STATUS:CONFIRMED
LAST-MODIFIED:20250114T090217Z
DESCRIPTION:5. Liga Herren Gruppe 7\nBegegnungs-Nr: 0\nHeim: Thalwil IV\nGast: Oberrieden\n\nAdresse: Bergstrasse 2\, 8800 Thalwil\n
LOCATION:Bergstrasse 2\, 8800 Thalwil
CATEGORIES:Saison 2024/25
END:VEVENT
END:VCALENDAR
