BEGIN:VCALENDAR
PRODID:-//nuDatenautomaten//framework iCal4j //DE
VERSION:2.0
CALSCALE:GREGORIAN
BEGIN:VTIMEZONE
TZID:Europe/Berlin
LAST-MODIFIED:20260306T231828Z
TZURL:https://www.tzurl.org/zoneinfo/Europe/Berlin
X-LIC-LOCATION:Europe/Berlin
X-PROLEPTIC-TZNAME:LMT
BEGIN:STANDARD
TZNAME:CET
TZOFFSETFROM:+005328
TZOFFSETTO:+0100
DTSTART:18930401T000000
END:STANDARD
BEGIN:DAYLIGHT
TZNAME:CEST
TZOFFSETFROM:+0100
TZOFFSETTO:+0200
DTSTART:19160430T230000
RDATE:19400401T020000
RDATE:19430329T020000
RDATE:19460414T020000
RDATE:19470406T030000
RDATE:19480418T020000
RDATE:19490410T020000
RDATE:19800406T020000
END:DAYLIGHT
BEGIN:STANDARD
TZNAME:CET
TZOFFSETFROM:+0200
TZOFFSETTO:+0100
DTSTART:19161001T010000
RDATE:19421102T030000
RDATE:19431004T030000
RDATE:19441002T030000
RDATE:19451118T030000
RDATE:19461007T030000
END:STANDARD
BEGIN:DAYLIGHT
TZNAME:CEST
TZOFFSETFROM:+0100
TZOFFSETTO:+0200
DTSTART:19170416T020000
RRULE:FREQ=YEARLY;UNTIL=19180415T010000Z;BYMONTH=4;BYDAY=3MO
END:DAYLIGHT
BEGIN:STANDARD
TZNAME:CET
TZOFFSETFROM:+0200
TZOFFSETTO:+0100
DTSTART:19170917T030000
RRULE:FREQ=YEARLY;UNTIL=19180916T010000Z;BYMONTH=9;BYDAY=3MO
END:STANDARD
BEGIN:DAYLIGHT
TZNAME:CEST
TZOFFSETFROM:+0100
TZOFFSETTO:+0200
DTSTART:19440403T020000
RRULE:FREQ=YEARLY;UNTIL=19450402T010000Z;BYMONTH=4;BYDAY=1MO
END:DAYLIGHT
BEGIN:DAYLIGHT
TZNAME:CEMT
TZOFFSETFROM:+0200
TZOFFSETTO:+0300
DTSTART:19450524T020000
RDATE:19470511T030000
END:DAYLIGHT
BEGIN:DAYLIGHT
TZNAME:CEST
TZOFFSETFROM:+0300
TZOFFSETTO:+0200
DTSTART:19450924T030000
RDATE:19470629T030000
END:DAYLIGHT
BEGIN:STANDARD
TZNAME:CET
TZOFFSETFROM:+0100
TZOFFSETTO:+0100
DTSTART:19460101T000000
RDATE:19800101T000000
END:STANDARD
BEGIN:STANDARD
TZNAME:CET
TZOFFSETFROM:+0200
TZOFFSETTO:+0100
DTSTART:19471005T030000
RRULE:FREQ=YEARLY;UNTIL=19491002T010000Z;BYMONTH=10;BYDAY=1SU
END:STANDARD
BEGIN:STANDARD
TZNAME:CET
TZOFFSETFROM:+0200
TZOFFSETTO:+0100
DTSTART:19800928T030000
RRULE:FREQ=YEARLY;UNTIL=19950924T010000Z;BYMONTH=9;BYDAY=-1SU
END:STANDARD
BEGIN:DAYLIGHT
TZNAME:CEST
TZOFFSETFROM:+0100
TZOFFSETTO:+0200
DTSTART:19810329T020000
RRULE:FREQ=YEARLY;BYMONTH=3;BYDAY=-1SU
END:DAYLIGHT
BEGIN:STANDARD
TZNAME:CET
TZOFFSETFROM:+0200
TZOFFSETTO:+0100
DTSTART:19961027T030000
RRULE:FREQ=YEARLY;BYMONTH=10;BYDAY=-1SU
END:STANDARD
END:VTIMEZONE
BEGIN:VEVENT
DTSTAMP:20260425T005056Z
DTSTART;TZID=Europe/Berlin:20240831T160000
DTEND;TZID=Europe/Berlin:20240831T190000
SUMMARY:JUG\, 2.Liga\, Gr.2\, Vorrunde Winterthur II vs Young Stars ZH III (6)
UID:7444f624-9353-4b01-afca-67c0eb490fa0
STATUS:CONFIRMED
LAST-MODIFIED:20240904T122151Z
DESCRIPTION:Jugend\, 2. Liga\, Gruppe 2\, Vorrunde\nBegegnungs-Nr: 6\nHeim: Winterthur II\nGast: Young Stars ZH III\n\nAdresse: Buchackerstrasse 54\, 8400 Winterthur\n
LOCATION:Buchackerstrasse 54\, 8400 Winterthur
CATEGORIES:Saison 2024/25
END:VEVENT
BEGIN:VEVENT
DTSTAMP:20260425T005056Z
DTSTART;TZID=Europe/Berlin:20241116T130000
DTEND;TZID=Europe/Berlin:20241116T160000
SUMMARY:JUG. 2.Liga\, Gr.5\, Zw-Runde Winterthur II vs Neuhausen II (1)
UID:a8cafea4-5efe-4eb7-898a-05d990c80cfd
STATUS:CONFIRMED
LAST-MODIFIED:20241122T152706Z
DESCRIPTION:Jugend\, 2. Liga\, Gruppe 5\, Zw-Runde\nBegegnungs-Nr: 1\nHeim: Winterthur II\nGast: Neuhausen II\n
LOCATION:
CATEGORIES:Saison 2024/25
END:VEVENT
BEGIN:VEVENT
DTSTAMP:20260425T005056Z
DTSTART;TZID=Europe/Berlin:20241116T143000
DTEND;TZID=Europe/Berlin:20241116T173000
SUMMARY:JUG. 2.Liga\, Gr.5\, Zw-Runde Winterthur II vs Young Stars ZH V (4)
UID:432b7fe9-47ba-4d8c-8784-e6664e917cb0
STATUS:CONFIRMED
LAST-MODIFIED:20241122T152730Z
DESCRIPTION:Jugend\, 2. Liga\, Gruppe 5\, Zw-Runde\nBegegnungs-Nr: 4\nHeim: Winterthur II\nGast: Young Stars ZH V\n
LOCATION:
CATEGORIES:Saison 2024/25
END:VEVENT
BEGIN:VEVENT
DTSTAMP:20260425T005056Z
DTSTART;TZID=Europe/Berlin:20250329T143000
DTEND;TZID=Europe/Berlin:20250329T173000
SUMMARY:JUG\, 2.Liga\, Gr.5\, Final Winterthur II vs Meilen-Männedorf (5)
UID:68f1bb40-4750-497d-af07-477ab364cdb2
STATUS:CONFIRMED
LAST-MODIFIED:20250404T084859Z
DESCRIPTION:Jugend\, 2. Liga\, Gruppe 5\, Final\nBegegnungs-Nr: 5\nHeim: Winterthur II\nGast: Meilen-Männedorf\n\nAdresse: Buchackerstrasse 54\, 8400 Winterthur\n
LOCATION:Buchackerstrasse 54\, 8400 Winterthur
CATEGORIES:Saison 2024/25
END:VEVENT
BEGIN:VEVENT
DTSTAMP:20260425T005056Z
DTSTART;TZID=Europe/Berlin:20240831T143000
DTEND;TZID=Europe/Berlin:20240831T173000
SUMMARY:JUG\, 2.Liga\, Gr.2\, Vorrunde Wädenswil II vs Winterthur II (3)
UID:ee25443b-8699-486e-9b7f-05462f7d96e1
STATUS:CONFIRMED
LAST-MODIFIED:20240904T122106Z
DESCRIPTION:Jugend\, 2. Liga\, Gruppe 2\, Vorrunde\nBegegnungs-Nr: 3\nHeim: Wädenswil II\nGast: Winterthur II\n\nAdresse: Fuhrstrasse 16b\, 8820 Wädenswil\n
LOCATION:Fuhrstrasse 16b\, 8820 Wädenswil
CATEGORIES:Saison 2024/25
END:VEVENT
BEGIN:VEVENT
DTSTAMP:20260425T005056Z
DTSTART;TZID=Europe/Berlin:20240831T130000
DTEND;TZID=Europe/Berlin:20240831T160000
SUMMARY:JUG\, 2.Liga\, Gr.2\, Vorrunde Affoltern A/A II vs Winterthur II (2)
UID:9ff6701c-9206-4b00-b47e-5921140fe35a
STATUS:CONFIRMED
LAST-MODIFIED:20240904T122043Z
DESCRIPTION:Jugend\, 2. Liga\, Gruppe 2\, Vorrunde\nBegegnungs-Nr: 2\nHeim: Affoltern A/A II\nGast: Winterthur II\n\nAdresse: Butzenstrasse 8\, 8910 Affoltern am Albis\n
LOCATION:Butzenstrasse 8\, 8910 Affoltern am Albis
CATEGORIES:Saison 2024/25
END:VEVENT
BEGIN:VEVENT
DTSTAMP:20260425T005056Z
DTSTART;TZID=Europe/Berlin:20241116T160000
DTEND;TZID=Europe/Berlin:20241116T190000
SUMMARY:JUG. 2.Liga\, Gr.5\, Zw-Runde Libera Zürich vs Winterthur II (6)
UID:d29bb8a2-c466-41e4-bea1-be236733ac43
STATUS:CONFIRMED
LAST-MODIFIED:20241122T152740Z
DESCRIPTION:Jugend\, 2. Liga\, Gruppe 5\, Zw-Runde\nBegegnungs-Nr: 6\nHeim: Libera Zürich\nGast: Winterthur II\n
LOCATION:
CATEGORIES:Saison 2024/25
END:VEVENT
BEGIN:VEVENT
DTSTAMP:20260425T005056Z
DTSTART;TZID=Europe/Berlin:20250329T143000
DTEND;TZID=Europe/Berlin:20250329T173000
SUMMARY:JUG\, 2.Liga\, Gr.5\, Final Wädenswil vs Winterthur II (4)
UID:c20d46a9-0540-46a7-9375-71f0e10523bd
STATUS:CONFIRMED
LAST-MODIFIED:20250319T174715Z
DESCRIPTION:Jugend\, 2. Liga\, Gruppe 5\, Final\nBegegnungs-Nr: 4\nHeim: Wädenswil\nGast: Winterthur II\n\nAdresse: Fuhrstrasse 16b\, 8820 Wädenswil\n
LOCATION:Fuhrstrasse 16b\, 8820 Wädenswil
CATEGORIES:Saison 2024/25
END:VEVENT
BEGIN:VEVENT
DTSTAMP:20260425T005056Z
DTSTART;TZID=Europe/Berlin:20250329T130000
DTEND;TZID=Europe/Berlin:20250329T160000
SUMMARY:JUG\, 2.Liga\, Gr.5\, Final Herisau vs Winterthur II (2)
UID:3b165803-f65f-4f1d-ad9f-9f6aa4ad0638
STATUS:CONFIRMED
LAST-MODIFIED:20250407T134220Z
DESCRIPTION:Jugend\, 2. Liga\, Gruppe 5\, Final\nBegegnungs-Nr: 2\nHeim: Herisau\nGast: Winterthur II\n
LOCATION:
CATEGORIES:Saison 2024/25
END:VEVENT
END:VCALENDAR
