BEGIN:VCALENDAR
PRODID:-//nuDatenautomaten//framework iCal4j //DE
VERSION:2.0
CALSCALE:GREGORIAN
BEGIN:VTIMEZONE
TZID:Europe/Berlin
LAST-MODIFIED:20260306T231828Z
TZURL:https://www.tzurl.org/zoneinfo/Europe/Berlin
X-LIC-LOCATION:Europe/Berlin
X-PROLEPTIC-TZNAME:LMT
BEGIN:STANDARD
TZNAME:CET
TZOFFSETFROM:+005328
TZOFFSETTO:+0100
DTSTART:18930401T000000
END:STANDARD
BEGIN:DAYLIGHT
TZNAME:CEST
TZOFFSETFROM:+0100
TZOFFSETTO:+0200
DTSTART:19160430T230000
RDATE:19400401T020000
RDATE:19430329T020000
RDATE:19460414T020000
RDATE:19470406T030000
RDATE:19480418T020000
RDATE:19490410T020000
RDATE:19800406T020000
END:DAYLIGHT
BEGIN:STANDARD
TZNAME:CET
TZOFFSETFROM:+0200
TZOFFSETTO:+0100
DTSTART:19161001T010000
RDATE:19421102T030000
RDATE:19431004T030000
RDATE:19441002T030000
RDATE:19451118T030000
RDATE:19461007T030000
END:STANDARD
BEGIN:DAYLIGHT
TZNAME:CEST
TZOFFSETFROM:+0100
TZOFFSETTO:+0200
DTSTART:19170416T020000
RRULE:FREQ=YEARLY;UNTIL=19180415T010000Z;BYMONTH=4;BYDAY=3MO
END:DAYLIGHT
BEGIN:STANDARD
TZNAME:CET
TZOFFSETFROM:+0200
TZOFFSETTO:+0100
DTSTART:19170917T030000
RRULE:FREQ=YEARLY;UNTIL=19180916T010000Z;BYMONTH=9;BYDAY=3MO
END:STANDARD
BEGIN:DAYLIGHT
TZNAME:CEST
TZOFFSETFROM:+0100
TZOFFSETTO:+0200
DTSTART:19440403T020000
RRULE:FREQ=YEARLY;UNTIL=19450402T010000Z;BYMONTH=4;BYDAY=1MO
END:DAYLIGHT
BEGIN:DAYLIGHT
TZNAME:CEMT
TZOFFSETFROM:+0200
TZOFFSETTO:+0300
DTSTART:19450524T020000
RDATE:19470511T030000
END:DAYLIGHT
BEGIN:DAYLIGHT
TZNAME:CEST
TZOFFSETFROM:+0300
TZOFFSETTO:+0200
DTSTART:19450924T030000
RDATE:19470629T030000
END:DAYLIGHT
BEGIN:STANDARD
TZNAME:CET
TZOFFSETFROM:+0100
TZOFFSETTO:+0100
DTSTART:19460101T000000
RDATE:19800101T000000
END:STANDARD
BEGIN:STANDARD
TZNAME:CET
TZOFFSETFROM:+0200
TZOFFSETTO:+0100
DTSTART:19471005T030000
RRULE:FREQ=YEARLY;UNTIL=19491002T010000Z;BYMONTH=10;BYDAY=1SU
END:STANDARD
BEGIN:STANDARD
TZNAME:CET
TZOFFSETFROM:+0200
TZOFFSETTO:+0100
DTSTART:19800928T030000
RRULE:FREQ=YEARLY;UNTIL=19950924T010000Z;BYMONTH=9;BYDAY=-1SU
END:STANDARD
BEGIN:DAYLIGHT
TZNAME:CEST
TZOFFSETFROM:+0100
TZOFFSETTO:+0200
DTSTART:19810329T020000
RRULE:FREQ=YEARLY;BYMONTH=3;BYDAY=-1SU
END:DAYLIGHT
BEGIN:STANDARD
TZNAME:CET
TZOFFSETFROM:+0200
TZOFFSETTO:+0100
DTSTART:19961027T030000
RRULE:FREQ=YEARLY;BYMONTH=10;BYDAY=-1SU
END:STANDARD
END:VTIMEZONE
BEGIN:VEVENT
DTSTAMP:20260425T022254Z
DTSTART;TZID=Europe/Berlin:20241206T200000
DTEND;TZID=Europe/Berlin:20241206T230000
SUMMARY:HE 6. Liga Gr. 3 Wuppenau III vs Weinfelden III (0)
UID:801884e5-bc13-4a5e-a734-f342f2aa4a38
STATUS:CONFIRMED
LAST-MODIFIED:20241211T103035Z
DESCRIPTION:6. Liga Herren Gruppe 3\nBegegnungs-Nr: 0\nHeim: Wuppenau III\nGast: Weinfelden III\n\nAdresse: Nollenstrasse\, 9514 Wuppenau\n
LOCATION:Nollenstrasse\, 9514 Wuppenau
CATEGORIES:Saison 2024/25
END:VEVENT
BEGIN:VEVENT
DTSTAMP:20260425T022254Z
DTSTART;TZID=Europe/Berlin:20241108T200000
DTEND;TZID=Europe/Berlin:20241108T230000
SUMMARY:HE 6. Liga Gr. 3 Wuppenau III vs Schlatt II (0)
UID:f3b26598-b25c-4bda-b548-6ca50bb81a29
STATUS:CONFIRMED
LAST-MODIFIED:20241114T075810Z
DESCRIPTION:6. Liga Herren Gruppe 3\nBegegnungs-Nr: 0\nHeim: Wuppenau III\nGast: Schlatt II\n\nAdresse: Nollenstrasse\, 9514 Wuppenau\n
LOCATION:Nollenstrasse\, 9514 Wuppenau
CATEGORIES:Saison 2024/25
END:VEVENT
BEGIN:VEVENT
DTSTAMP:20260425T022254Z
DTSTART;TZID=Europe/Berlin:20240927T200000
DTEND;TZID=Europe/Berlin:20240927T230000
SUMMARY:HE 6. Liga Gr. 3 Wuppenau III vs Imperial Winterthur III (0)
UID:b42e376b-2385-494a-af92-54335c8ee64a
STATUS:CONFIRMED
LAST-MODIFIED:20240930T124607Z
DESCRIPTION:6. Liga Herren Gruppe 3\nBegegnungs-Nr: 0\nHeim: Wuppenau III\nGast: Imperial Winterthur III\n\nAdresse: Nollenstrasse\, 9514 Wuppenau\n
LOCATION:Nollenstrasse\, 9514 Wuppenau
CATEGORIES:Saison 2024/25
END:VEVENT
BEGIN:VEVENT
DTSTAMP:20260425T022254Z
DTSTART;TZID=Europe/Berlin:20240920T200000
DTEND;TZID=Europe/Berlin:20240920T230000
SUMMARY:HE 6. Liga Gr. 3 Wuppenau III vs Weinfelden V (0)
UID:3b7a3d86-f82b-4caa-a105-da16b51f674e
STATUS:CONFIRMED
LAST-MODIFIED:20240926T115242Z
DESCRIPTION:6. Liga Herren Gruppe 3\nBegegnungs-Nr: 0\nHeim: Wuppenau III\nGast: Weinfelden V\n\nAdresse: Nollenstrasse\, 9514 Wuppenau\n
LOCATION:Nollenstrasse\, 9514 Wuppenau
CATEGORIES:Saison 2024/25
END:VEVENT
BEGIN:VEVENT
DTSTAMP:20260425T022254Z
DTSTART;TZID=Europe/Berlin:20250407T201500
DTEND;TZID=Europe/Berlin:20250407T231500
SUMMARY:HE 6. Liga Gr. 3 Wuppenau III vs Schlatt II (0)
UID:3cb98343-3e56-4abd-965a-0bf13931121b
STATUS:CONFIRMED
LAST-MODIFIED:20250408T053843Z
DESCRIPTION:6. Liga Herren Gruppe 3\nBegegnungs-Nr: 0\nHeim: Wuppenau III\nGast: Schlatt II\n\nAdresse: Nollenstrasse\, 9514 Wuppenau\n
LOCATION:Nollenstrasse\, 9514 Wuppenau
CATEGORIES:Saison 2024/25
END:VEVENT
BEGIN:VEVENT
DTSTAMP:20260425T022254Z
DTSTART;TZID=Europe/Berlin:20250307T200000
DTEND;TZID=Europe/Berlin:20250307T230000
SUMMARY:HE 6. Liga Gr. 3 Wuppenau III vs Steckborn-Homburg VI (0)
UID:32963b52-5220-443b-94ab-a975b90b4be4
STATUS:CONFIRMED
LAST-MODIFIED:20250312T145923Z
DESCRIPTION:6. Liga Herren Gruppe 3\nBegegnungs-Nr: 0\nHeim: Wuppenau III\nGast: Steckborn-Homburg VI\n\nAdresse: Nollenstrasse\, 9514 Wuppenau\n
LOCATION:Nollenstrasse\, 9514 Wuppenau
CATEGORIES:Saison 2024/25
END:VEVENT
BEGIN:VEVENT
DTSTAMP:20260425T022254Z
DTSTART;TZID=Europe/Berlin:20250131T200000
DTEND;TZID=Europe/Berlin:20250131T230000
SUMMARY:HE 6. Liga Gr. 3 Wuppenau III vs Wallenwil IV (0)
UID:ca9cbf7a-6a1d-4da4-aa40-ea49cd20f88e
STATUS:CONFIRMED
LAST-MODIFIED:20250203T122715Z
DESCRIPTION:6. Liga Herren Gruppe 3\nBegegnungs-Nr: 0\nHeim: Wuppenau III\nGast: Wallenwil IV\n\nAdresse: Nollenstrasse\, 9514 Wuppenau\n
LOCATION:Nollenstrasse\, 9514 Wuppenau
CATEGORIES:Saison 2024/25
END:VEVENT
BEGIN:VEVENT
DTSTAMP:20260425T022254Z
DTSTART;TZID=Europe/Berlin:20250321T200000
DTEND;TZID=Europe/Berlin:20250321T230000
SUMMARY:HE 6. Liga Gr. 3 Wuppenau III vs Bronschhofen IV (0)
UID:5f35e4ae-8d36-4972-ba9d-bb01276fbfe1
STATUS:CONFIRMED
LAST-MODIFIED:20250327T134417Z
DESCRIPTION:6. Liga Herren Gruppe 3\nBegegnungs-Nr: 0\nHeim: Wuppenau III\nGast: Bronschhofen IV\n\nAdresse: Nollenstrasse\, 9514 Wuppenau\n
LOCATION:Nollenstrasse\, 9514 Wuppenau
CATEGORIES:Saison 2024/25
END:VEVENT
BEGIN:VEVENT
DTSTAMP:20260425T022254Z
DTSTART;TZID=Europe/Berlin:20241101T194500
DTEND;TZID=Europe/Berlin:20241101T224500
SUMMARY:HE 6. Liga Gr. 3 Steckborn-Homburg VI vs Wuppenau III (0)
UID:ec20aae9-958a-48a2-a067-42e2d08f3c54
STATUS:CONFIRMED
LAST-MODIFIED:20241108T150331Z
DESCRIPTION:6. Liga Herren Gruppe 3\nBegegnungs-Nr: 0\nHeim: Steckborn-Homburg VI\nGast: Wuppenau III\n\nAdresse: Schulstrasse 4\, 8508 Unterhörstetten\n
LOCATION:Schulstrasse 4\, 8508 Unterhörstetten
CATEGORIES:Saison 2024/25
END:VEVENT
BEGIN:VEVENT
DTSTAMP:20260425T022254Z
DTSTART;TZID=Europe/Berlin:20240916T201500
DTEND;TZID=Europe/Berlin:20240916T231500
SUMMARY:HE 6. Liga Gr. 3 Wallenwil IV vs Wuppenau III (0)
UID:91981fb6-2ef1-4b5d-b47c-faa422d7691c
STATUS:CONFIRMED
LAST-MODIFIED:20240917T072517Z
DESCRIPTION:6. Liga Herren Gruppe 3\nBegegnungs-Nr: 0\nHeim: Wallenwil IV\nGast: Wuppenau III\n\nAdresse: Stationsstrasse 29\, 8360 Wallenwil\n
LOCATION:Stationsstrasse 29\, 8360 Wallenwil
CATEGORIES:Saison 2024/25
END:VEVENT
BEGIN:VEVENT
DTSTAMP:20260425T022254Z
DTSTART;TZID=Europe/Berlin:20240904T200000
DTEND;TZID=Europe/Berlin:20240904T230000
SUMMARY:HE 6. Liga Gr. 3 Bronschhofen IV vs Wuppenau III (0)
UID:8e3fd5ab-96c3-4f8e-abb1-e61edda2f614
STATUS:CONFIRMED
LAST-MODIFIED:20240905T064113Z
DESCRIPTION:6. Liga Herren Gruppe 3\nBegegnungs-Nr: 0\nHeim: Bronschhofen IV\nGast: Wuppenau III\n\nAdresse: Industriestrasse 4\, 9552 Bronschhofen\n
LOCATION:Industriestrasse 4\, 9552 Bronschhofen
CATEGORIES:Saison 2024/25
END:VEVENT
BEGIN:VEVENT
DTSTAMP:20260425T022254Z
DTSTART;TZID=Europe/Berlin:20250328T200000
DTEND;TZID=Europe/Berlin:20250328T230000
SUMMARY:HE 6. Liga Gr. 3 Weinfelden III vs Wuppenau III (0)
UID:a551c8e3-fb7e-47a9-8bce-91c96c5e402e
STATUS:CONFIRMED
LAST-MODIFIED:20250404T083539Z
DESCRIPTION:6. Liga Herren Gruppe 3\nBegegnungs-Nr: 0\nHeim: Weinfelden III\nGast: Wuppenau III\n\nAdresse: Bleichestrasse 3 (neben Hallenbad)\, 8570 Weinfelden\n
LOCATION:Bleichestrasse 3 (neben Hallenbad)\, 8570 Weinfelden
CATEGORIES:Saison 2024/25
END:VEVENT
BEGIN:VEVENT
DTSTAMP:20260425T022254Z
DTSTART;TZID=Europe/Berlin:20250217T200000
DTEND;TZID=Europe/Berlin:20250217T230000
SUMMARY:HE 6. Liga Gr. 3 Imperial Winterthur III vs Wuppenau III (0)
UID:03df7d92-68d8-4f69-a80e-d895dc4a678a
STATUS:CONFIRMED
LAST-MODIFIED:20250219T133207Z
DESCRIPTION:6. Liga Herren Gruppe 3\nBegegnungs-Nr: 0\nHeim: Imperial Winterthur III\nGast: Wuppenau III\n\nAdresse: Büelhofstrasse 25a\, 8405 Winterthur\n
LOCATION:Büelhofstrasse 25a\, 8405 Winterthur
CATEGORIES:Saison 2024/25
END:VEVENT
BEGIN:VEVENT
DTSTAMP:20260425T022254Z
DTSTART;TZID=Europe/Berlin:20250121T200000
DTEND;TZID=Europe/Berlin:20250121T230000
SUMMARY:HE 6. Liga Gr. 3 Weinfelden V vs Wuppenau III (0)
UID:dc1d7e5b-4933-479b-b988-40f535a62886
STATUS:CONFIRMED
LAST-MODIFIED:20250123T083944Z
DESCRIPTION:6. Liga Herren Gruppe 3\nBegegnungs-Nr: 0\nHeim: Weinfelden V\nGast: Wuppenau III\n\nAdresse: Bleichestrasse 3 (neben Hallenbad)\, 8570 Weinfelden\n
LOCATION:Bleichestrasse 3 (neben Hallenbad)\, 8570 Weinfelden
CATEGORIES:Saison 2024/25
END:VEVENT
END:VCALENDAR
