BEGIN:VCALENDAR
PRODID:-//nuDatenautomaten//framework iCal4j //DE
VERSION:2.0
CALSCALE:GREGORIAN
BEGIN:VTIMEZONE
TZID:Europe/Berlin
LAST-MODIFIED:20260306T231828Z
TZURL:https://www.tzurl.org/zoneinfo/Europe/Berlin
X-LIC-LOCATION:Europe/Berlin
X-PROLEPTIC-TZNAME:LMT
BEGIN:STANDARD
TZNAME:CET
TZOFFSETFROM:+005328
TZOFFSETTO:+0100
DTSTART:18930401T000000
END:STANDARD
BEGIN:DAYLIGHT
TZNAME:CEST
TZOFFSETFROM:+0100
TZOFFSETTO:+0200
DTSTART:19160430T230000
RDATE:19400401T020000
RDATE:19430329T020000
RDATE:19460414T020000
RDATE:19470406T030000
RDATE:19480418T020000
RDATE:19490410T020000
RDATE:19800406T020000
END:DAYLIGHT
BEGIN:STANDARD
TZNAME:CET
TZOFFSETFROM:+0200
TZOFFSETTO:+0100
DTSTART:19161001T010000
RDATE:19421102T030000
RDATE:19431004T030000
RDATE:19441002T030000
RDATE:19451118T030000
RDATE:19461007T030000
END:STANDARD
BEGIN:DAYLIGHT
TZNAME:CEST
TZOFFSETFROM:+0100
TZOFFSETTO:+0200
DTSTART:19170416T020000
RRULE:FREQ=YEARLY;UNTIL=19180415T010000Z;BYMONTH=4;BYDAY=3MO
END:DAYLIGHT
BEGIN:STANDARD
TZNAME:CET
TZOFFSETFROM:+0200
TZOFFSETTO:+0100
DTSTART:19170917T030000
RRULE:FREQ=YEARLY;UNTIL=19180916T010000Z;BYMONTH=9;BYDAY=3MO
END:STANDARD
BEGIN:DAYLIGHT
TZNAME:CEST
TZOFFSETFROM:+0100
TZOFFSETTO:+0200
DTSTART:19440403T020000
RRULE:FREQ=YEARLY;UNTIL=19450402T010000Z;BYMONTH=4;BYDAY=1MO
END:DAYLIGHT
BEGIN:DAYLIGHT
TZNAME:CEMT
TZOFFSETFROM:+0200
TZOFFSETTO:+0300
DTSTART:19450524T020000
RDATE:19470511T030000
END:DAYLIGHT
BEGIN:DAYLIGHT
TZNAME:CEST
TZOFFSETFROM:+0300
TZOFFSETTO:+0200
DTSTART:19450924T030000
RDATE:19470629T030000
END:DAYLIGHT
BEGIN:STANDARD
TZNAME:CET
TZOFFSETFROM:+0100
TZOFFSETTO:+0100
DTSTART:19460101T000000
RDATE:19800101T000000
END:STANDARD
BEGIN:STANDARD
TZNAME:CET
TZOFFSETFROM:+0200
TZOFFSETTO:+0100
DTSTART:19471005T030000
RRULE:FREQ=YEARLY;UNTIL=19491002T010000Z;BYMONTH=10;BYDAY=1SU
END:STANDARD
BEGIN:STANDARD
TZNAME:CET
TZOFFSETFROM:+0200
TZOFFSETTO:+0100
DTSTART:19800928T030000
RRULE:FREQ=YEARLY;UNTIL=19950924T010000Z;BYMONTH=9;BYDAY=-1SU
END:STANDARD
BEGIN:DAYLIGHT
TZNAME:CEST
TZOFFSETFROM:+0100
TZOFFSETTO:+0200
DTSTART:19810329T020000
RRULE:FREQ=YEARLY;BYMONTH=3;BYDAY=-1SU
END:DAYLIGHT
BEGIN:STANDARD
TZNAME:CET
TZOFFSETFROM:+0200
TZOFFSETTO:+0100
DTSTART:19961027T030000
RRULE:FREQ=YEARLY;BYMONTH=10;BYDAY=-1SU
END:STANDARD
END:VTIMEZONE
BEGIN:VEVENT
DTSTAMP:20260425T004238Z
DTSTART;TZID=Europe/Berlin:20241029T193000
DTEND;TZID=Europe/Berlin:20241029T223000
SUMMARY:Ligue 2 Gr.2\, Ph.A UGS-Chênois V vs Silver Star IV (18)
UID:b8ce532a-3484-4bdd-ac72-47ee96a9b241
STATUS:CONFIRMED
LAST-MODIFIED:20241102T154512Z
DESCRIPTION:2ème ligue Homme Gr.2 Phase A\nBegegnungs-Nr: 18\nHeim: UGS-Chênois V\nGast: Silver Star IV\nHalle: Belle-Terre\nAdresse: Allée Belle-Terre 18\, 1226 Thônex\n
LOCATION:Belle-Terre Allée Belle-Terre 18\, 1226 Thônex
CATEGORIES:Saison 2024/25
END:VEVENT
BEGIN:VEVENT
DTSTAMP:20260425T004238Z
DTSTART;TZID=Europe/Berlin:20241203T193000
DTEND;TZID=Europe/Berlin:20241203T223000
SUMMARY:Ligue 2 Gr.2\, Ph.A UGS-Chênois V vs Rapid-Genève (30)
UID:9ed67ea3-11cf-4187-a79e-ba0531b96836
STATUS:CONFIRMED
LAST-MODIFIED:20241205T170127Z
DESCRIPTION:2ème ligue Homme Gr.2 Phase A\nBegegnungs-Nr: 30\nHeim: UGS-Chênois V\nGast: Rapid-Genève\nHalle: Belle-Terre\nAdresse: Allée Belle-Terre 18\, 1226 Thônex\n
LOCATION:Belle-Terre Allée Belle-Terre 18\, 1226 Thônex
CATEGORIES:Saison 2024/25
END:VEVENT
BEGIN:VEVENT
DTSTAMP:20260425T004238Z
DTSTART;TZID=Europe/Berlin:20241126T193000
DTEND;TZID=Europe/Berlin:20241126T223000
SUMMARY:Ligue 2 Gr.2\, Ph.A UGS-Chênois V vs Mandement III (27)
UID:445ba2f9-f06a-48f1-b88f-5ccdaca52f84
STATUS:CONFIRMED
LAST-MODIFIED:20241127T081932Z
DESCRIPTION:2ème ligue Homme Gr.2 Phase A\nBegegnungs-Nr: 27\nHeim: UGS-Chênois V\nGast: Mandement III\nHalle: Belle-Terre\nAdresse: Allée Belle-Terre 18\, 1226 Thônex\n
LOCATION:Belle-Terre Allée Belle-Terre 18\, 1226 Thônex
CATEGORIES:Saison 2024/25
END:VEVENT
BEGIN:VEVENT
DTSTAMP:20260425T004238Z
DTSTART;TZID=Europe/Berlin:20241119T193000
DTEND;TZID=Europe/Berlin:20241119T223000
SUMMARY:Ligue 2 Gr.2\, Ph.A UGS-Chênois V vs Versoix II (24)
UID:d7371ab3-6a88-47c4-b2af-786df2742d0b
STATUS:CONFIRMED
LAST-MODIFIED:20241120T182249Z
DESCRIPTION:2ème ligue Homme Gr.2 Phase A\nBegegnungs-Nr: 24\nHeim: UGS-Chênois V\nGast: Versoix II\n\nAdresse: Route de Frontenex 68\, 1208 Genève\n
LOCATION:Route de Frontenex 68\, 1208 Genève
CATEGORIES:Saison 2024/25
END:VEVENT
BEGIN:VEVENT
DTSTAMP:20260425T004238Z
DTSTART;TZID=Europe/Berlin:20241112T193000
DTEND;TZID=Europe/Berlin:20241112T223000
SUMMARY:Ligue 2 Gr.2\, Ph.A UGS-Chênois V vs ZZ-Lancy VI (21)
UID:5f93e05b-c83a-4306-a6b3-da57d6e31062
STATUS:CONFIRMED
LAST-MODIFIED:20241113T103632Z
DESCRIPTION:2ème ligue Homme Gr.2 Phase A\nBegegnungs-Nr: 21\nHeim: UGS-Chênois V\nGast: ZZ-Lancy VI\n\nAdresse: Route de Frontenex 68\, 1208 Genève\n
LOCATION:Route de Frontenex 68\, 1208 Genève
CATEGORIES:Saison 2024/25
END:VEVENT
BEGIN:VEVENT
DTSTAMP:20260425T004238Z
DTSTART;TZID=Europe/Berlin:20250408T193000
DTEND;TZID=Europe/Berlin:20250408T223000
SUMMARY:Ligue 2 Gr.2\, Ph.B UGS-Chênois V vs ZZ-Lancy VI (26)
UID:d3dd1540-a2ef-48fe-b349-630da408fb09
STATUS:CONFIRMED
LAST-MODIFIED:20250409T071347Z
DESCRIPTION:2ème ligue Homme Gr.2 Phase B\nBegegnungs-Nr: 26\nHeim: UGS-Chênois V\nGast: ZZ-Lancy VI\n
LOCATION:
CATEGORIES:Saison 2024/25
END:VEVENT
BEGIN:VEVENT
DTSTAMP:20260425T004238Z
DTSTART;TZID=Europe/Berlin:20250401T193000
DTEND;TZID=Europe/Berlin:20250401T223000
SUMMARY:Ligue 2 Gr.2\, Ph.B UGS-Chênois V vs Châtelaine III (22)
UID:8b6e8642-07a5-4b8f-99ac-47308842d709
STATUS:CONFIRMED
LAST-MODIFIED:20250402T071141Z
DESCRIPTION:2ème ligue Homme Gr.2 Phase B\nBegegnungs-Nr: 22\nHeim: UGS-Chênois V\nGast: Châtelaine III\n
LOCATION:
CATEGORIES:Saison 2024/25
END:VEVENT
BEGIN:VEVENT
DTSTAMP:20260425T004238Z
DTSTART;TZID=Europe/Berlin:20250311T193000
DTEND;TZID=Europe/Berlin:20250311T223000
SUMMARY:Ligue 2 Gr.2\, Ph.B UGS-Chênois V vs Mandement IV (17)
UID:bbce496d-e533-4f3a-ba92-ed6ebd696fe7
STATUS:CONFIRMED
LAST-MODIFIED:20250312T083500Z
DESCRIPTION:2ème ligue Homme Gr.2 Phase B\nBegegnungs-Nr: 17\nHeim: UGS-Chênois V\nGast: Mandement IV\n
LOCATION:
CATEGORIES:Saison 2024/25
END:VEVENT
BEGIN:VEVENT
DTSTAMP:20260425T004238Z
DTSTART;TZID=Europe/Berlin:20250218T193000
DTEND;TZID=Europe/Berlin:20250218T223000
SUMMARY:Ligue 2 Gr.2\, Ph.B UGS-Chênois V vs Silver Star III (15)
UID:c28a08e5-3cd8-41bc-abaa-1d1e14de4c9d
STATUS:CONFIRMED
LAST-MODIFIED:20250219T091246Z
DESCRIPTION:2ème ligue Homme Gr.2 Phase B\nBegegnungs-Nr: 15\nHeim: UGS-Chênois V\nGast: Silver Star III\n
LOCATION:
CATEGORIES:Saison 2024/25
END:VEVENT
BEGIN:VEVENT
DTSTAMP:20260425T004238Z
DTSTART;TZID=Europe/Berlin:20250121T193000
DTEND;TZID=Europe/Berlin:20250121T223000
SUMMARY:Ligue 2 Gr.2\, Ph.B UGS-Chênois V vs Onex (4)
UID:d8fcc536-37b7-4364-b00a-d0dcebdd1fa0
STATUS:CONFIRMED
LAST-MODIFIED:20250122T175421Z
DESCRIPTION:2ème ligue Homme Gr.2 Phase B\nBegegnungs-Nr: 4\nHeim: UGS-Chênois V\nGast: Onex\n
LOCATION:
CATEGORIES:Saison 2024/25
END:VEVENT
BEGIN:VEVENT
DTSTAMP:20260425T004238Z
DTSTART;TZID=Europe/Berlin:20241212T200000
DTEND;TZID=Europe/Berlin:20241212T230000
SUMMARY:Barrage relég. Ph.A Vernier II vs UGS-Chênois V (1)
UID:191d9b3a-88f4-4e81-9f1c-c5655652a2b0
STATUS:CONFIRMED
LAST-MODIFIED:20241213T072333Z
DESCRIPTION:Barrage relegation Phase A\nBegegnungs-Nr: 1\nHeim: Vernier II\nGast: UGS-Chênois V\n
LOCATION:
CATEGORIES:Saison 2024/25
END:VEVENT
BEGIN:VEVENT
DTSTAMP:20260425T004238Z
DTSTART;TZID=Europe/Berlin:20241014T194500
DTEND;TZID=Europe/Berlin:20241014T224500
SUMMARY:Ligue 2 Gr.2\, Ph.A Rapid-Genève vs UGS-Chênois V (15)
UID:f4d9d36c-7ce6-41eb-887b-bd63cd1ba2b3
STATUS:CONFIRMED
LAST-MODIFIED:20241015T122517Z
DESCRIPTION:2ème ligue Homme Gr.2 Phase A\nBegegnungs-Nr: 15\nHeim: Rapid-Genève\nGast: UGS-Chênois V\n
LOCATION:
CATEGORIES:Saison 2024/25
END:VEVENT
BEGIN:VEVENT
DTSTAMP:20260425T004238Z
DTSTART;TZID=Europe/Berlin:20241008T194500
DTEND;TZID=Europe/Berlin:20241008T224500
SUMMARY:Ligue 2 Gr.2\, Ph.A Mandement III vs UGS-Chênois V (12)
UID:25e5365b-2a19-4eab-baf4-ca44e47f892a
STATUS:CONFIRMED
LAST-MODIFIED:20241009T074156Z
DESCRIPTION:2ème ligue Homme Gr.2 Phase A\nBegegnungs-Nr: 12\nHeim: Mandement III\nGast: UGS-Chênois V\n\nAdresse: Route de la Gare de Satigny 27A\, 1242 Satigny\n
LOCATION:Route de la Gare de Satigny 27A\, 1242 Satigny
CATEGORIES:Saison 2024/25
END:VEVENT
BEGIN:VEVENT
DTSTAMP:20260425T004238Z
DTSTART;TZID=Europe/Berlin:20240923T193000
DTEND;TZID=Europe/Berlin:20240923T223000
SUMMARY:Ligue 2 Gr.2\, Ph.A Versoix II vs UGS-Chênois V (9)
UID:b98de6e7-4c33-4f15-b6ef-1acf694506cb
STATUS:CONFIRMED
LAST-MODIFIED:20240924T072214Z
DESCRIPTION:2ème ligue Homme Gr.2 Phase A\nBegegnungs-Nr: 9\nHeim: Versoix II\nGast: UGS-Chênois V\n\nAdresse: Chemin Ami-Argand 40\, 1290 Versoix\n
LOCATION:Chemin Ami-Argand 40\, 1290 Versoix
CATEGORIES:Saison 2024/25
END:VEVENT
BEGIN:VEVENT
DTSTAMP:20260425T004238Z
DTSTART;TZID=Europe/Berlin:20240918T193000
DTEND;TZID=Europe/Berlin:20240918T223000
SUMMARY:Ligue 2 Gr.2\, Ph.A ZZ-Lancy VI vs UGS-Chênois V (6)
UID:8daa413c-0352-4204-a91f-96a39137c925
STATUS:CONFIRMED
LAST-MODIFIED:20240919T085329Z
DESCRIPTION:2ème ligue Homme Gr.2 Phase A\nBegegnungs-Nr: 6\nHeim: ZZ-Lancy VI\nGast: UGS-Chênois V\n\nAdresse: Avenue du Curé-Baud 40\, 1212 Grand-Lancy\n
LOCATION:Avenue du Curé-Baud 40\, 1212 Grand-Lancy
CATEGORIES:Saison 2024/25
END:VEVENT
BEGIN:VEVENT
DTSTAMP:20260425T004238Z
DTSTART;TZID=Europe/Berlin:20240910T194500
DTEND;TZID=Europe/Berlin:20240910T224500
SUMMARY:Ligue 2 Gr.2\, Ph.A Silver Star IV vs UGS-Chênois V (3)
UID:45065821-a4ba-413a-a3eb-ce30d7fb9dc2
STATUS:CONFIRMED
LAST-MODIFIED:20240911T151713Z
DESCRIPTION:2ème ligue Homme Gr.2 Phase A\nBegegnungs-Nr: 3\nHeim: Silver Star IV\nGast: UGS-Chênois V\n
LOCATION:
CATEGORIES:Saison 2024/25
END:VEVENT
BEGIN:VEVENT
DTSTAMP:20260425T004238Z
DTSTART;TZID=Europe/Berlin:20250415T194500
DTEND;TZID=Europe/Berlin:20250415T224500
SUMMARY:Ligue 2 Gr.2\, Ph.B Silver Star III vs UGS-Chênois V (30)
UID:e98f878a-f680-427b-89d9-d95332416d12
STATUS:CONFIRMED
LAST-MODIFIED:20250416T081736Z
DESCRIPTION:2ème ligue Homme Gr.2 Phase B\nBegegnungs-Nr: 30\nHeim: Silver Star III\nGast: UGS-Chênois V\n
LOCATION:
CATEGORIES:Saison 2024/25
END:VEVENT
BEGIN:VEVENT
DTSTAMP:20260425T004238Z
DTSTART;TZID=Europe/Berlin:20250318T200000
DTEND;TZID=Europe/Berlin:20250318T230000
SUMMARY:Ligue 2 Gr.2\, Ph.B Onex vs UGS-Chênois V (19)
UID:6f321773-65c4-404c-a934-adeaec05ddd5
STATUS:CONFIRMED
LAST-MODIFIED:20250319T085016Z
DESCRIPTION:2ème ligue Homme Gr.2 Phase B\nBegegnungs-Nr: 19\nHeim: Onex\nGast: UGS-Chênois V\n
LOCATION:
CATEGORIES:Saison 2024/25
END:VEVENT
BEGIN:VEVENT
DTSTAMP:20260425T004238Z
DTSTART;TZID=Europe/Berlin:20250114T194500
DTEND;TZID=Europe/Berlin:20250114T224500
SUMMARY:Ligue 2 Gr.2\, Ph.B Mandement IV vs UGS-Chênois V (2)
UID:52c1ed96-32b7-433b-9cfb-7ea1813e7978
STATUS:CONFIRMED
LAST-MODIFIED:20250115T085029Z
DESCRIPTION:2ème ligue Homme Gr.2 Phase B\nBegegnungs-Nr: 2\nHeim: Mandement IV\nGast: UGS-Chênois V\n\nAdresse: Route de la Gare de Satigny 27A\, 1242 Satigny\n
LOCATION:Route de la Gare de Satigny 27A\, 1242 Satigny
CATEGORIES:Saison 2024/25
END:VEVENT
BEGIN:VEVENT
DTSTAMP:20260425T004238Z
DTSTART;TZID=Europe/Berlin:20250211T200000
DTEND;TZID=Europe/Berlin:20250211T230000
SUMMARY:Ligue 2 Gr.2\, Ph.B ZZ-Lancy VI vs UGS-Chênois V (11)
UID:6abd21c7-f998-4ae3-a81b-94eb413277e1
STATUS:CONFIRMED
LAST-MODIFIED:20250212T101855Z
DESCRIPTION:2ème ligue Homme Gr.2 Phase B\nBegegnungs-Nr: 11\nHeim: ZZ-Lancy VI\nGast: UGS-Chênois V\n
LOCATION:
CATEGORIES:Saison 2024/25
END:VEVENT
BEGIN:VEVENT
DTSTAMP:20260425T004238Z
DTSTART;TZID=Europe/Berlin:20250128T200000
DTEND;TZID=Europe/Berlin:20250128T230000
SUMMARY:Ligue 2 Gr.2\, Ph.B Châtelaine III vs UGS-Chênois V (7)
UID:a51802d3-9dc4-41d4-8598-c6d9ad2da504
STATUS:CONFIRMED
LAST-MODIFIED:20250129T084446Z
DESCRIPTION:2ème ligue Homme Gr.2 Phase B\nBegegnungs-Nr: 7\nHeim: Châtelaine III\nGast: UGS-Chênois V\n
LOCATION:
CATEGORIES:Saison 2024/25
END:VEVENT
END:VCALENDAR
